Workbook

Sheet First Assessment
D1: SIDECAR D - Direct impact of care (count 'Agree' responses) | W1: SIDECAR I - Indirect impact of care (count 'Agree' responses) | AH1: SIDECAR S - Support and Information (count 'Disagree' responses)
C2: % "Disagree" | D2: =D3/D6 -> 0.052631579 | E2: =E3/E6 -> 0.10526316 | F2: =F3/F6 -> 0.15789474 | G2: =G3/G6 -> 0.21052632 | H2: =H3/H6 -> 0.26315789 | I2: =I3/I6 -> 0.31578947 | J2: =J3/J6 -> 0.36842105 | K2: =K3/K6 -> 0.42105263 | ... U2: =U3/U6 -> 0.94736842 | W2: =W3/W6 -> 0.16666667 | X2: =X3/X6 -> 0.23076923 | Y2: =Y3/Y6 -> 0.30769231 | Z2: =Z3/Z6 -> 0.38461538 | AA2: =AA3/AA6 -> 0.5 | AB2: =AB3/AB6 -> 0.61538462 | AC2: =AC3/AC6 -> 0.69230769 | AD2: =AD3/AD6 -> 0.76923077 | ... AF2: =AF3/AF6 -> 0.91666667 | AH2: =AH3/AH6 -> 0.92307692 | AI2: =AI3/AI6 -> 0.84615385 | AJ2: =AJ3/AJ6 -> 0.76923077 | AK2: =AK3/AK6 -> 0.69230769 | AL2: =AL3/AL6 -> 0.61538462 | AM2: =AM3/AM6 -> 0.53846154 | AN2: =AN3/AN6 -> 0.46153846 | AO2: =AO3/AO6 -> 0.38461538 | ... AR2: =AR3/AR6 -> 0.15384615
C3: countif 'disagree' | D3: =COUNTIF(D8:D1048574,"disagree") -> 1 | E3: =COUNTIF(E8:E1048574,"disagree") -> 2 | F3: =COUNTIF(F8:F1048574,"disagree") -> 3 | G3: =COUNTIF(G8:G1048574,"disagree") -> 4 | H3: =COUNTIF(H8:H1048574,"disagree") -> 5 | I3: =COUNTIF(I8:I1048574,"disagree") -> 6 | J3: =COUNTIF(J8:J1048574,"disagree") -> 7 | K3: =COUNTIF(K8:K1048574,"disagree") -> 8 | ... U3: =COUNTIF(U8:U1048574,"disagree") -> 18 | W3: =COUNTIF(W8:W1048574,"disagree") -> 2 | X3: =COUNTIF(X8:X1048574,"disagree") -> 3 | Y3: =COUNTIF(Y8:Y1048574,"disagree") -> 4 | Z3: =COUNTIF(Z8:Z1048574,"disagree") -> 5 | AA3: =COUNTIF(AA8:AA1048574,"disagree") -> 6 | AB3: =COUNTIF(AB8:AB1048574,"disagree") -> 8 | AC3: =COUNTIF(AC8:AC1048574,"disagree") -> 9 | AD3: =COUNTIF(AD8:AD1048574,"disagree") -> 10 | ... AF3: =COUNTIF(AF8:AF1048574,"disagree") -> 11 | AH3: =COUNTIF(AH8:AH1048574,"disagree") -> 12 | AI3: =COUNTIF(AI8:AI1048574,"disagree") -> 11 | AJ3: =COUNTIF(AJ8:AJ1048574,"disagree") -> 10 | AK3: =COUNTIF(AK8:AK1048574,"disagree") -> 9 | AL3: =COUNTIF(AL8:AL1048574,"disagree") -> 8 | AM3: =COUNTIF(AM8:AM1048574,"disagree") -> 7 | AN3: =COUNTIF(AN8:AN1048574,"disagree") -> 6 | AO3: =COUNTIF(AO8:AO1048574,"disagree") -> 5 | ... AR3: =COUNTIF(AR8:AR1048574,"disagree") -> 2
C4: % "Agree" | D4: =D5/D6 -> 0.94736842 | E4: =E5/E6 -> 0.89473684 | F4: =F5/F6 -> 0.84210526 | G4: =G5/G6 -> 0.78947368 | H4: =H5/H6 -> 0.73684211 | I4: =I5/I6 -> 0.68421053 | J4: =J5/J6 -> 0.63157895 | K4: =K5/K6 -> 0.57894737 | ... U4: =U5/U6 -> 0.052631579 | W4: =W5/W6 -> 0.83333333 | X4: =X5/X6 -> 0.76923077 | Y4: =Y5/Y6 -> 0.69230769 | Z4: =Z5/Z6 -> 0.61538462 | AA4: =AA5/AA6 -> 0.5 | AB4: =AB5/AB6 -> 0.38461538 | AC4: =AC5/AC6 -> 0.30769231 | AD4: =AD5/AD6 -> 0.23076923 | ... AF4: =AF5/AF6 -> 0.083333333 | AH4: =AH5/AH6 -> 0.076923077 | AI4: =AI5/AI6 -> 0.15384615 | AJ4: =AJ5/AJ6 -> 0.23076923 | AK4: =AK5/AK6 -> 0.30769231 | AL4: =AL5/AL6 -> 0.38461538 | AM4: =AM5/AM6 -> 0.46153846 | AN4: =AN5/AN6 -> 0.53846154 | AO4: =AO5/AO6 -> 0.61538462 | ... AR4: =AR5/AR6 -> 0.84615385
C5: countif 'agree' | D5: =COUNTIF(D10:D1048576,"agree") -> 18 | E5: =COUNTIF(E10:E1048576,"agree") -> 17 | F5: =COUNTIF(F10:F1048576,"agree") -> 16 | G5: =COUNTIF(G10:G1048576,"agree") -> 15 | H5: =COUNTIF(H10:H1048576,"agree") -> 14 | I5: =COUNTIF(I10:I1048576,"agree") -> 13 | J5: =COUNTIF(J10:J1048576,"agree") -> 12 | K5: =COUNTIF(K10:K1048576,"agree") -> 11 | ... U5: =COUNTIF(U10:U1048576,"agree") -> 1 | W5: =COUNTIF(W10:W1048576,"agree") -> 10 | X5: =COUNTIF(X10:X1048576,"agree") -> 10 | Y5: =COUNTIF(Y10:Y1048576,"agree") -> 9 | Z5: =COUNTIF(Z10:Z1048576,"agree") -> 8 | AA5: =COUNTIF(AA10:AA1048576,"agree") -> 6 | AB5: =COUNTIF(AB10:AB1048576,"agree") -> 5 | AC5: =COUNTIF(AC10:AC1048576,"agree") -> 4 | AD5: =COUNTIF(AD10:AD1048576,"agree") -> 3 | ... AF5: =COUNTIF(AF10:AF1048576,"agree") -> 1 | AH5: =COUNTIF(AH10:AH1048576,"agree") -> 1 | AI5: =COUNTIF(AI10:AI1048576,"agree") -> 2 | AJ5: =COUNTIF(AJ10:AJ1048576,"agree") -> 3 | AK5: =COUNTIF(AK10:AK1048576,"agree") -> 4 | AL5: =COUNTIF(AL10:AL1048576,"agree") -> 5 | AM5: =COUNTIF(AM10:AM1048576,"agree") -> 6 | AN5: =COUNTIF(AN10:AN1048576,"agree") -> 7 | AO5: =COUNTIF(AO10:AO1048576,"agree") -> 8 | ... AR5: =COUNTIF(AR10:AR1048576,"agree") -> 11
C6: count | D6: =COUNTA(D10:D1048576) -> 19 | E6: =COUNTA(E10:E1048576) -> 19 | F6: =COUNTA(F10:F1048576) -> 19 | G6: =COUNTA(G10:G1048576) -> 19 | H6: =COUNTA(H10:H1048576) -> 19 | I6: =COUNTA(I10:I1048576) -> 19 | J6: =COUNTA(J10:J1048576) -> 19 | K6: =COUNTA(K10:K1048576) -> 19 | ... U6: =COUNTA(U10:U1048576) -> 19 | W6: =COUNTA(W10:W1048576) -> 12 | X6: =COUNTA(X10:X1048576) -> 13 | Y6: =COUNTA(Y10:Y1048576) -> 13 | Z6: =COUNTA(Z10:Z1048576) -> 13 | AA6: =COUNTA(AA10:AA1048576) -> 12 | AB6: =COUNTA(AB10:AB1048576) -> 13 | AC6: =COUNTA(AC10:AC1048576) -> 13 | AD6: =COUNTA(AD10:AD1048576) -> 13 | ... AF6: =COUNTA(AF10:AF1048576) -> 12 | AH6: =COUNTA(AH10:AH1048576) -> 13 | AI6: =COUNTA(AI10:AI1048576) -> 13 | AJ6: =COUNTA(AJ10:AJ1048576) -> 13 | AK6: =COUNTA(AK10:AK1048576) -> 13 | AL6: =COUNTA(AL10:AL1048576) -> 13 | AM6: =COUNTA(AM10:AM1048576) -> 13 | AN6: =COUNTA(AN10:AN1048576) -> 13 | AO6: =COUNTA(AO10:AO1048576) -> 13 | ... AR6: =COUNTA(AR10:AR1048576) -> 13
AU7: SIDECAR D | BA7: * | BF7: SIDECAR I | BL7: * | BQ7: SIDECAR S | BW7: *
C8: Question code | D8: D1 | E8: D2 | F8: D3 | G8: D4 | H8: D5 | I8: D6 | J8: D7 | K8: D8 | L8: D9 | M8: D10 | N8: D11 | O8: D12 | P8: D13 | Q8: D14 | R8: D15 | S8: D16 | T8: D17 | U8: D18 | W8: I1 | X8: I2 | Y8: I3 | Z8: I4 | AA8: I5 | AB8: I6 | AC8: I7 | AD8: I8 | AE8: I9 | AF8: I10 | AH8: S1 | AI8: S2 | AJ8: S3 | AK8: S4 | AL8: S5 | AM8: S6 | AN8: S7 | AO8: S8 | AP8: S9 | AQ8: S10 | AR8: S11
B9: Carer name/ID (optional) | C9: Carer | AT9: ID | AU9: count "agree" | AV9: count "disagree" | AW9: n items | AX9: total score/pseudo | AY9: rounded | AZ9: 0-100 conversion | BA9: 70% item resp? | BB9: valid raw score | BC9: valid conversion | BE9: ID | BF9: count "agree" | BG9: count "disagree" | BH9: n items | BI9: total score/pseudo | BJ9: rounded | BK9: 0-100 conversion | BL9: 70% item resp? | BM9: valid raw score | BN9: valid conversion | BP9: ID | BQ9: count "agree" | BR9: count "disagree" | BS9: n items | BT9: total score/pseudo | BU9: rounded | BV9: 0-100 conversion | BW9: 70% item resp? | BX9: valid raw score | BY9: valid conversion
B10: John Smith | C10: 1 | D10: Disagree | E10: Disagree | F10: Disagree | G10: Disagree | H10: Disagree | I10: Disagree | J10: Disagree | K10: Disagree | L10: Disagree | M10: Disagree | N10: Disagree | O10: Disagree | P10: Disagree | Q10: Disagree | R10: Disagree | S10: Disagree | T10: Disagree | U10: Disagree | W10: Disagree | X10: Disagree | Y10: Disagree | Z10: Disagree | AA10: Disagree | AB10: Disagree | AC10: Disagree | AD10: Disagree | AE10: Disagree | AF10: Disagree | AH10: Agree | AI10: Agree | AJ10: Agree | AK10: Agree | AL10: Agree | AM10: Agree | AN10: Agree | AO10: Agree | AP10: Agree | AQ10: Agree | AR10: Agree | AT10: =C10 -> 1 | AU10: =COUNTIF(D10:U10,"agree") -> 0 | AV10: =COUNTIF(D10:U10,"disagree") -> 18 | AW10: =AU10+AV10 -> 18 | AX10: =(AU10/AW10)*18 -> 0 | AY10: =ROUND(AX10,0) -> 0 | AZ10: =VLOOKUP(AY10,Sheet2!$D$3:$E$21,2) -> 0 | BA10: =IF(AND(AW10>=13,AW10<=18), "valid", "invalid") -> valid | BB10: =IF(BA10="valid",AY10,$BA$7) -> 0 | BC10: =IF(BA10="valid",AZ10,$BA$7) -> 0 | BE10: =C10 -> 1 | BF10: =COUNTIF(W10:AF10,"agree") -> 0 | BG10: =COUNTIF(W10:AF10,"disagree") -> 10 | BH10: =BF10+BG10 -> 10 | BI10: =(BF10/BH10)*10 -> 0 | BJ10: =ROUND(BI10,0) -> 0 | BK10: =VLOOKUP(BJ10,Sheet2!$G$3:$H$13,2) -> 0 | BL10: =IF(AND(BH10>=7,BH10<=10), "valid", "invalid") -> valid | BM10: =IF(BL10="valid",BJ10,$BA$7) -> 0 | BN10: =IF(BL10="valid",BK10,$BA$7) -> 0 | BP10: =C10 -> 1 | BQ10: =COUNTIF(AH10:AR10,"agree") -> 11 | BR10: =COUNTIF(AH10:AR10,"disagree") -> 0 | BS10: =BQ10+BR10 -> 11 | BT10: =(BR10/BS10)*11 -> 0 | BU10: =ROUND(BT10,0) -> 0 | BV10: =VLOOKUP(BU10,Sheet2!$J$3:$K$14,2) -> 0 | BW10: =IF(AND(BS10>=8,BS10<=11), "valid", "invalid") -> valid | BX10: =IF(BW10="valid",BU10,$BA$7) -> 0 | BY10: =IF(BW10="valid",BV10,$BA$7) -> 0
C11: 2 | D11: Agree | E11: Disagree | F11: Disagree | G11: Disagree | H11: Disagree | I11: Disagree | J11: Disagree | K11: Disagree | L11: Disagree | M11: Disagree | N11: Disagree | O11: Disagree | P11: Disagree | Q11: Disagree | R11: Disagree | S11: Disagree | T11: Disagree | U11: Disagree | W11: Agree | X11: Disagree | Y11: Disagree | Z11: Disagree | AA11: Disagree | AB11: Disagree | AC11: Disagree | AD11: Disagree | AE11: Disagree | AF11: Disagree | AH11: Disagree | AI11: Agree | AJ11: Agree | AK11: Agree | AL11: Agree | AM11: Agree | AN11: Agree | AO11: Agree | AP11: Agree | AQ11: Agree | AR11: Agree | AT11: =C11 -> 2 | AU11: =COUNTIF(D11:U11,"agree") -> 1 | AV11: =COUNTIF(D11:U11,"disagree") -> 17 | AW11: =AU11+AV11 -> 18 | AX11: =(AU11/AW11)*18 -> 1 | AY11: =ROUND(AX11,0) -> 1 | AZ11: =VLOOKUP(AY11,Sheet2!$D$3:$E$21,2) -> 11 | BA11: =IF(AND(AW11>=13,AW11<=18), "valid", "invalid") -> valid | BB11: =IF(BA11="valid",AY11,$BA$7) -> 1 | BC11: =IF(BA11="valid",AZ11,$BA$7) -> 11 | BE11: =C11 -> 2 | BF11: =COUNTIF(W11:AF11,"agree") -> 1 | BG11: =COUNTIF(W11:AF11,"disagree") -> 9 | BH11: =BF11+BG11 -> 10 | BI11: =(BF11/BH11)*10 -> 1 | BJ11: =ROUND(BI11,0) -> 1 | BK11: =VLOOKUP(BJ11,Sheet2!$G$3:$H$13,2) -> 19 | BL11: =IF(AND(BH11>=7,BH11<=10), "valid", "invalid") -> valid | BM11: =IF(BL11="valid",BJ11,$BA$7) -> 1 | BN11: =IF(BL11="valid",BK11,$BA$7) -> 19 | BP11: =C11 -> 2 | BQ11: =COUNTIF(AH11:AR11,"agree") -> 10 | BR11: =COUNTIF(AH11:AR11,"disagree") -> 1 | BS11: =BQ11+BR11 -> 11 | BT11: =(BR11/BS11)*11 -> 1 | BU11: =ROUND(BT11,0) -> 1 | BV11: =VLOOKUP(BU11,Sheet2!$J$3:$K$14,2) -> 14 | BW11: =IF(AND(BS11>=8,BS11<=11), "valid", "invalid") -> valid | BX11: =IF(BW11="valid",BU11,$BA$7) -> 1 | BY11: =IF(BW11="valid",BV11,$BA$7) -> 14
C12: 3 | D12: Agree | E12: Agree | F12: Disagree | G12: Disagree | H12: Disagree | I12: Disagree | J12: Disagree | K12: Disagree | L12: Disagree | M12: Disagree | N12: Disagree | O12: Disagree | P12: Disagree | Q12: Disagree | R12: Disagree | S12: Disagree | T12: Disagree | U12: Disagree | W12: Agree | X12: Agree | Y12: Disagree | Z12: Disagree | AA12: Disagree | AB12: Disagree | AC12: Disagree | AD12: Disagree | AE12: Disagree | AF12: Disagree | AH12: Disagree | AI12: Disagree | AJ12: Agree | AK12: Agree | AL12: Agree | AM12: Agree | AN12: Agree | AO12: Agree | AP12: Agree | AQ12: Agree | AR12: Agree | AT12: =C12 -> 3 | AU12: =COUNTIF(D12:U12,"agree") -> 2 | AV12: =COUNTIF(D12:U12,"disagree") -> 16 | AW12: =AU12+AV12 -> 18 | AX12: =(AU12/AW12)*18 -> 2 | AY12: =ROUND(AX12,0) -> 2 | AZ12: =VLOOKUP(AY12,Sheet2!$D$3:$E$21,2) -> 19 | BA12: =IF(AND(AW12>=13,AW12<=18), "valid", "invalid") -> valid | BB12: =IF(BA12="valid",AY12,$BA$7) -> 2 | BC12: =IF(BA12="valid",AZ12,$BA$7) -> 19 | BE12: =C12 -> 3 | BF12: =COUNTIF(W12:AF12,"agree") -> 2 | BG12: =COUNTIF(W12:AF12,"disagree") -> 8 | BH12: =BF12+BG12 -> 10 | BI12: =(BF12/BH12)*10 -> 2 | BJ12: =ROUND(BI12,0) -> 2 | BK12: =VLOOKUP(BJ12,Sheet2!$G$3:$H$13,2) -> 32 | BL12: =IF(AND(BH12>=7,BH12<=10), "valid", "invalid") -> valid | BM12: =IF(BL12="valid",BJ12,$BA$7) -> 2 | BN12: =IF(BL12="valid",BK12,$BA$7) -> 32 | BP12: =C12 -> 3 | BQ12: =COUNTIF(AH12:AR12,"agree") -> 9 | BR12: =COUNTIF(AH12:AR12,"disagree") -> 2 | BS12: =BQ12+BR12 -> 11 | BT12: =(BR12/BS12)*11 -> 2 | BU12: =ROUND(BT12,0) -> 2 | BV12: =VLOOKUP(BU12,Sheet2!$J$3:$K$14,2) -> 24 | BW12: =IF(AND(BS12>=8,BS12<=11), "valid", "invalid") -> valid | BX12: =IF(BW12="valid",BU12,$BA$7) -> 2 | BY12: =IF(BW12="valid",BV12,$BA$7) -> 24
C13: 4 | D13: Agree | E13: Agree | F13: Agree | G13: Disagree | H13: Disagree | I13: Disagree | J13: Disagree | K13: Disagree | L13: Disagree | M13: Disagree | N13: Disagree | O13: Disagree | P13: Disagree | Q13: Disagree | R13: Disagree | S13: Disagree | T13: Disagree | U13: Disagree | W13: Agree | X13: Agree | Y13: Agree | Z13: Disagree | AA13: Disagree | AB13: Disagree | AC13: Disagree | AD13: Disagree | AE13: Disagree | AF13: Disagree | AH13: Disagree | AI13: Disagree | AJ13: Disagree | AK13: Agree | AL13: Agree | AM13: Agree | AN13: Agree | AO13: Agree | AP13: Agree | AQ13: Agree | AR13: Agree | AT13: =C13 -> 4 | AU13: =COUNTIF(D13:U13,"agree") -> 3 | AV13: =COUNTIF(D13:U13,"disagree") -> 15 | AW13: =AU13+AV13 -> 18 | AX13: =(AU13/AW13)*18 -> 3 | AY13: =ROUND(AX13,0) -> 3 | AZ13: =VLOOKUP(AY13,Sheet2!$D$3:$E$21,2) -> 25 | BA13: =IF(AND(AW13>=13,AW13<=18), "valid", "invalid") -> valid | BB13: =IF(BA13="valid",AY13,$BA$7) -> 3 | BC13: =IF(BA13="valid",AZ13,$BA$7) -> 25 | BE13: =C13 -> 4 | BF13: =COUNTIF(W13:AF13,"agree") -> 3 | BG13: =COUNTIF(W13:AF13,"disagree") -> 7 | BH13: =BF13+BG13 -> 10 | BI13: =(BF13/BH13)*10 -> 3 | BJ13: =ROUND(BI13,0) -> 3 | BK13: =VLOOKUP(BJ13,Sheet2!$G$3:$H$13,2) -> 41 | BL13: =IF(AND(BH13>=7,BH13<=10), "valid", "invalid") -> valid | BM13: =IF(BL13="valid",BJ13,$BA$7) -> 3 | BN13: =IF(BL13="valid",BK13,$BA$7) -> 41 | BP13: =C13 -> 4 | BQ13: =COUNTIF(AH13:AR13,"agree") -> 8 | BR13: =COUNTIF(AH13:AR13,"disagree") -> 3 | BS13: =BQ13+BR13 -> 11 | BT13: =(BR13/BS13)*11 -> 3 | BU13: =ROUND(BT13,0) -> 3 | BV13: =VLOOKUP(BU13,Sheet2!$J$3:$K$14,2) -> 32 | BW13: =IF(AND(BS13>=8,BS13<=11), "valid", "invalid") -> valid | BX13: =IF(BW13="valid",BU13,$BA$7) -> 3 | BY13: =IF(BW13="valid",BV13,$BA$7) -> 32
C14: 5 | D14: Agree | E14: Agree | F14: Agree | G14: Agree | H14: Disagree | I14: Disagree | J14: Disagree | K14: Disagree | L14: Disagree | M14: Disagree | N14: Disagree | O14: Disagree | P14: Disagree | Q14: Disagree | R14: Disagree | S14: Disagree | T14: Disagree | U14: Disagree | W14: Agree | X14: Agree | Y14: Agree | Z14: Agree | AA14: Disagree | AB14: Disagree | AC14: Disagree | AD14: Disagree | AE14: Disagree | AF14: Disagree | AH14: Disagree | AI14: Disagree | AJ14: Disagree | AK14: Disagree | AL14: Agree | AM14: Agree | AN14: Agree | AO14: Agree | AP14: Agree | AQ14: Agree | AR14: Agree | AT14: =C14 -> 5 | AU14: =COUNTIF(D14:U14,"agree") -> 4 | AV14: =COUNTIF(D14:U14,"disagree") -> 14 | AW14: =AU14+AV14 -> 18 | AX14: =(AU14/AW14)*18 -> 4 | AY14: =ROUND(AX14,0) -> 4 | AZ14: =VLOOKUP(AY14,Sheet2!$D$3:$E$21,2) -> 30 | BA14: =IF(AND(AW14>=13,AW14<=18), "valid", "invalid") -> valid | BB14: =IF(BA14="valid",AY14,$BA$7) -> 4 | BC14: =IF(BA14="valid",AZ14,$BA$7) -> 30 | BE14: =C14 -> 5 | BF14: =COUNTIF(W14:AF14,"agree") -> 4 | BG14: =COUNTIF(W14:AF14,"disagree") -> 6 | BH14: =BF14+BG14 -> 10 | BI14: =(BF14/BH14)*10 -> 4 | BJ14: =ROUND(BI14,0) -> 4 | BK14: =VLOOKUP(BJ14,Sheet2!$G$3:$H$13,2) -> 49 | BL14: =IF(AND(BH14>=7,BH14<=10), "valid", "invalid") -> valid | BM14: =IF(BL14="valid",BJ14,$BA$7) -> 4 | BN14: =IF(BL14="valid",BK14,$BA$7) -> 49 | BP14: =C14 -> 5 | BQ14: =COUNTIF(AH14:AR14,"agree") -> 7 | BR14: =COUNTIF(AH14:AR14,"disagree") -> 4 | BS14: =BQ14+BR14 -> 11 | BT14: =(BR14/BS14)*11 -> 4 | BU14: =ROUND(BT14,0) -> 4 | BV14: =VLOOKUP(BU14,Sheet2!$J$3:$K$14,2) -> 39 | BW14: =IF(AND(BS14>=8,BS14<=11), "valid", "invalid") -> valid | BX14: =IF(BW14="valid",BU14,$BA$7) -> 4 | BY14: =IF(BW14="valid",BV14,$BA$7) -> 39
B15: Betty Jones | C15: 6 | D15: Agree | E15: Agree | F15: Agree | G15: Agree | H15: Agree | I15: Disagree | J15: Disagree | K15: Disagree | L15: Disagree | M15: Disagree | N15: Disagree | O15: Disagree | P15: Disagree | Q15: Disagree | R15: Disagree | S15: Disagree | T15: Disagree | U15: Disagree | W15: Agree | X15: Agree | Y15: Agree | Z15: Agree | AA15: Agree | AB15: Disagree | AC15: Disagree | AD15: Disagree | AE15: Disagree | AF15: Disagree | AH15: Disagree | AI15: Disagree | AJ15: Disagree | AK15: Disagree | AL15: Disagree | AM15: Agree | AN15: Agree | AO15: Agree | AP15: Agree | AQ15: Agree | AR15: Agree | AT15: =C15 -> 6 | AU15: =COUNTIF(D15:U15,"agree") -> 5 | AV15: =COUNTIF(D15:U15,"disagree") -> 13 | AW15: =AU15+AV15 -> 18 | AX15: =(AU15/AW15)*18 -> 5 | AY15: =ROUND(AX15,0) -> 5 | AZ15: =VLOOKUP(AY15,Sheet2!$D$3:$E$21,2) -> 34 | BA15: =IF(AND(AW15>=13,AW15<=18), "valid", "invalid") -> valid | BB15: =IF(BA15="valid",AY15,$BA$7) -> 5 | BC15: =IF(BA15="valid",AZ15,$BA$7) -> 34 | BE15: =C15 -> 6 | BF15: =COUNTIF(W15:AF15,"agree") -> 5 | BG15: =COUNTIF(W15:AF15,"disagree") -> 5 | BH15: =BF15+BG15 -> 10 | BI15: =(BF15/BH15)*10 -> 5 | BJ15: =ROUND(BI15,0) -> 5 | BK15: =VLOOKUP(BJ15,Sheet2!$G$3:$H$13,2) -> 56 | BL15: =IF(AND(BH15>=7,BH15<=10), "valid", "invalid") -> valid | BM15: =IF(BL15="valid",BJ15,$BA$7) -> 5 | BN15: =IF(BL15="valid",BK15,$BA$7) -> 56 | BP15: =C15 -> 6 | BQ15: =COUNTIF(AH15:AR15,"agree") -> 6 | BR15: =COUNTIF(AH15:AR15,"disagree") -> 5 | BS15: =BQ15+BR15 -> 11 | BT15: =(BR15/BS15)*11 -> 5 | BU15: =ROUND(BT15,0) -> 5 | BV15: =VLOOKUP(BU15,Sheet2!$J$3:$K$14,2) -> 45 | BW15: =IF(AND(BS15>=8,BS15<=11), "valid", "invalid") -> valid | BX15: =IF(BW15="valid",BU15,$BA$7) -> 5 | BY15: =IF(BW15="valid",BV15,$BA$7) -> 45
C16: 7 | D16: Agree | E16: Agree | F16: Agree | G16: Agree | H16: Agree | I16: Agree | J16: Disagree | K16: Disagree | L16: Disagree | M16: Disagree | N16: Disagree | O16: Disagree | P16: Disagree | Q16: Disagree | R16: Disagree | S16: Disagree | T16: Disagree | U16: Disagree | W16: Agree | X16: Agree | Y16: Agree | Z16: Agree | AA16: Agree | AB16: Agree | AC16: Disagree | AD16: Disagree | AE16: Disagree | AF16: Disagree | AH16: Disagree | AI16: Disagree | AJ16: Disagree | AK16: Disagree | AL16: Disagree | AM16: Disagree | AN16: Agree | AO16: Agree | AP16: Agree | AQ16: Agree | AR16: Agree | AT16: =C16 -> 7 | AU16: =COUNTIF(D16:U16,"agree") -> 6 | AV16: =COUNTIF(D16:U16,"disagree") -> 12 | AW16: =AU16+AV16 -> 18 | AX16: =(AU16/AW16)*18 -> 6 | AY16: =ROUND(AX16,0) -> 6 | AZ16: =VLOOKUP(AY16,Sheet2!$D$3:$E$21,2) -> 38 | BA16: =IF(AND(AW16>=13,AW16<=18), "valid", "invalid") -> valid | BB16: =IF(BA16="valid",AY16,$BA$7) -> 6 | BC16: =IF(BA16="valid",AZ16,$BA$7) -> 38 | BE16: =C16 -> 7 | BF16: =COUNTIF(W16:AF16,"agree") -> 6 | BG16: =COUNTIF(W16:AF16,"disagree") -> 4 | BH16: =BF16+BG16 -> 10 | BI16: =(BF16/BH16)*10 -> 6 | BJ16: =ROUND(BI16,0) -> 6 | BK16: =VLOOKUP(BJ16,Sheet2!$G$3:$H$13,2) -> 63 | BL16: =IF(AND(BH16>=7,BH16<=10), "valid", "invalid") -> valid | BM16: =IF(BL16="valid",BJ16,$BA$7) -> 6 | BN16: =IF(BL16="valid",BK16,$BA$7) -> 63 | BP16: =C16 -> 7 | BQ16: =COUNTIF(AH16:AR16,"agree") -> 5 | BR16: =COUNTIF(AH16:AR16,"disagree") -> 6 | BS16: =BQ16+BR16 -> 11 | BT16: =(BR16/BS16)*11 -> 6 | BU16: =ROUND(BT16,0) -> 6 | BV16: =VLOOKUP(BU16,Sheet2!$J$3:$K$14,2) -> 52 | BW16: =IF(AND(BS16>=8,BS16<=11), "valid", "invalid") -> valid | BX16: =IF(BW16="valid",BU16,$BA$7) -> 6 | BY16: =IF(BW16="valid",BV16,$BA$7) -> 52
C17: 8 | D17: Agree | E17: Agree | F17: Agree | G17: Agree | H17: Agree | I17: Agree | J17: Agree | K17: Disagree | L17: Disagree | M17: Disagree | N17: Disagree | O17: Disagree | P17: Disagree | Q17: Disagree | R17: Disagree | S17: Disagree | T17: Disagree | U17: Disagree | W17: Agree | X17: Agree | Y17: Agree | Z17: Agree | AA17: Agree | AB17: Agree | AC17: Agree | AD17: Disagree | AE17: Disagree | AF17: Disagree | AH17: Disagree | AI17: Disagree | AJ17: Disagree | AK17: Disagree | AL17: Disagree | AM17: Disagree | AN17: Disagree | AO17: Agree | AP17: Agree | AQ17: Agree | AR17: Agree | AT17: =C17 -> 8 | AU17: =COUNTIF(D17:U17,"agree") -> 7 | AV17: =COUNTIF(D17:U17,"disagree") -> 11 | AW17: =AU17+AV17 -> 18 | AX17: =(AU17/AW17)*18 -> 7 | AY17: =ROUND(AX17,0) -> 7 | AZ17: =VLOOKUP(AY17,Sheet2!$D$3:$E$21,2) -> 42 | BA17: =IF(AND(AW17>=13,AW17<=18), "valid", "invalid") -> valid | BB17: =IF(BA17="valid",AY17,$BA$7) -> 7 | BC17: =IF(BA17="valid",AZ17,$BA$7) -> 42 | BE17: =C17 -> 8 | BF17: =COUNTIF(W17:AF17,"agree") -> 7 | BG17: =COUNTIF(W17:AF17,"disagree") -> 3 | BH17: =BF17+BG17 -> 10 | BI17: =(BF17/BH17)*10 -> 7 | BJ17: =ROUND(BI17,0) -> 7 | BK17: =VLOOKUP(BJ17,Sheet2!$G$3:$H$13,2) -> 70 | BL17: =IF(AND(BH17>=7,BH17<=10), "valid", "invalid") -> valid | BM17: =IF(BL17="valid",BJ17,$BA$7) -> 7 | BN17: =IF(BL17="valid",BK17,$BA$7) -> 70 | BP17: =C17 -> 8 | BQ17: =COUNTIF(AH17:AR17,"agree") -> 4 | BR17: =COUNTIF(AH17:AR17,"disagree") -> 7 | BS17: =BQ17+BR17 -> 11 | BT17: =(BR17/BS17)*11 -> 7 | BU17: =ROUND(BT17,0) -> 7 | BV17: =VLOOKUP(BU17,Sheet2!$J$3:$K$14,2) -> 58 | BW17: =IF(AND(BS17>=8,BS17<=11), "valid", "invalid") -> valid | BX17: =IF(BW17="valid",BU17,$BA$7) -> 7 | BY17: =IF(BW17="valid",BV17,$BA$7) -> 58
C18: 9 | D18: Agree | E18: Agree | F18: Agree | G18: Agree | H18: Agree | I18: Agree | J18: Agree | K18: Agree | L18: Disagree | M18: Disagree | N18: Disagree | O18: Disagree | P18: Disagree | Q18: Disagree | R18: Disagree | S18: Disagree | T18: Disagree | U18: Disagree | W18: Agree | X18: Agree | Y18: Agree | Z18: Agree | AA18: Agree | AB18: Agree | AC18: Agree | AD18: Agree | AE18: Disagree | AF18: Disagree | AH18: Disagree | AI18: Disagree | AJ18: Disagree | AK18: Disagree | AL18: Disagree | AM18: Disagree | AN18: Disagree | AO18: Disagree | AP18: Agree | AQ18: Agree | AR18: Agree | AT18: =C18 -> 9 | AU18: =COUNTIF(D18:U18,"agree") -> 8 | AV18: =COUNTIF(D18:U18,"disagree") -> 10 | AW18: =AU18+AV18 -> 18 | AX18: =(AU18/AW18)*18 -> 8 | AY18: =ROUND(AX18,0) -> 8 | AZ18: =VLOOKUP(AY18,Sheet2!$D$3:$E$21,2) -> 46 | BA18: =IF(AND(AW18>=13,AW18<=18), "valid", "invalid") -> valid | BB18: =IF(BA18="valid",AY18,$BA$7) -> 8 | BC18: =IF(BA18="valid",AZ18,$BA$7) -> 46 | BE18: =C18 -> 9 | BF18: =COUNTIF(W18:AF18,"agree") -> 8 | BG18: =COUNTIF(W18:AF18,"disagree") -> 2 | BH18: =BF18+BG18 -> 10 | BI18: =(BF18/BH18)*10 -> 8 | BJ18: =ROUND(BI18,0) -> 8 | BK18: =VLOOKUP(BJ18,Sheet2!$G$3:$H$13,2) -> 78 | BL18: =IF(AND(BH18>=7,BH18<=10), "valid", "invalid") -> valid | BM18: =IF(BL18="valid",BJ18,$BA$7) -> 8 | BN18: =IF(BL18="valid",BK18,$BA$7) -> 78 | BP18: =C18 -> 9 | BQ18: =COUNTIF(AH18:AR18,"agree") -> 3 | BR18: =COUNTIF(AH18:AR18,"disagree") -> 8 | BS18: =BQ18+BR18 -> 11 | BT18: =(BR18/BS18)*11 -> 8 | BU18: =ROUND(BT18,0) -> 8 | BV18: =VLOOKUP(BU18,Sheet2!$J$3:$K$14,2) -> 65 | BW18: =IF(AND(BS18>=8,BS18<=11), "valid", "invalid") -> valid | BX18: =IF(BW18="valid",BU18,$BA$7) -> 8 | BY18: =IF(BW18="valid",BV18,$BA$7) -> 65
C19: 10 | D19: Agree | E19: Agree | F19: Agree | G19: Agree | H19: Agree | I19: Agree | J19: Agree | K19: Agree | L19: Agree | M19: Disagree | N19: Disagree | O19: Disagree | P19: Disagree | Q19: Disagree | R19: Disagree | S19: Disagree | T19: Disagree | U19: Disagree | W19: Agree | X19: Agree | Y19: Agree | Z19: Agree | AA19: Agree | AB19: Agree | AC19: Agree | AD19: Agree | AE19: Agree | AF19: Disagree | AH19: Disagree | AI19: Disagree | AJ19: Disagree | AK19: Disagree | AL19: Disagree | AM19: Disagree | AN19: Disagree | AO19: Disagree | AP19: Disagree | AQ19: Agree | AR19: Agree | AT19: =C19 -> 10 | AU19: =COUNTIF(D19:U19,"agree") -> 9 | AV19: =COUNTIF(D19:U19,"disagree") -> 9 | AW19: =AU19+AV19 -> 18 | AX19: =(AU19/AW19)*18 -> 9 | AY19: =ROUND(AX19,0) -> 9 | AZ19: =VLOOKUP(AY19,Sheet2!$D$3:$E$21,2) -> 49 | BA19: =IF(AND(AW19>=13,AW19<=18), "valid", "invalid") -> valid | BB19: =IF(BA19="valid",AY19,$BA$7) -> 9 | BC19: =IF(BA19="valid",AZ19,$BA$7) -> 49 | BE19: =C19 -> 10 | BF19: =COUNTIF(W19:AF19,"agree") -> 9 | BG19: =COUNTIF(W19:AF19,"disagree") -> 1 | BH19: =BF19+BG19 -> 10 | BI19: =(BF19/BH19)*10 -> 9 | BJ19: =ROUND(BI19,0) -> 9 | BK19: =VLOOKUP(BJ19,Sheet2!$G$3:$H$13,2) -> 88 | BL19: =IF(AND(BH19>=7,BH19<=10), "valid", "invalid") -> valid | BM19: =IF(BL19="valid",BJ19,$BA$7) -> 9 | BN19: =IF(BL19="valid",BK19,$BA$7) -> 88 | BP19: =C19 -> 10 | BQ19: =COUNTIF(AH19:AR19,"agree") -> 2 | BR19: =COUNTIF(AH19:AR19,"disagree") -> 9 | BS19: =BQ19+BR19 -> 11 | BT19: =(BR19/BS19)*11 -> 9 | BU19: =ROUND(BT19,0) -> 9 | BV19: =VLOOKUP(BU19,Sheet2!$J$3:$K$14,2) -> 74 | BW19: =IF(AND(BS19>=8,BS19<=11), "valid", "invalid") -> valid | BX19: =IF(BW19="valid",BU19,$BA$7) -> 9 | BY19: =IF(BW19="valid",BV19,$BA$7) -> 74
C20: 11 | D20: Agree | E20: Agree | F20: Agree | G20: Agree | H20: Agree | I20: Agree | J20: Agree | K20: Agree | L20: Agree | M20: Agree | N20: Disagree | O20: Disagree | P20: Disagree | Q20: Disagree | R20: Disagree | S20: Disagree | T20: Disagree | U20: Disagree | W20: Agree | X20: Agree | Y20: Agree | Z20: Agree | AA20: Agree | AB20: Agree | AC20: Agree | AD20: Agree | AE20: Agree | AF20: Agree | AH20: Disagree | AI20: Disagree | AJ20: Disagree | AK20: Disagree | AL20: Disagree | AM20: Disagree | AN20: Disagree | AO20: Disagree | AP20: Disagree | AQ20: Disagree | AR20: Agree | AT20: =C20 -> 11 | AU20: =COUNTIF(D20:U20,"agree") -> 10 | AV20: =COUNTIF(D20:U20,"disagree") -> 8 | AW20: =AU20+AV20 -> 18 | AX20: =(AU20/AW20)*18 -> 10 | AY20: =ROUND(AX20,0) -> 10 | AZ20: =VLOOKUP(AY20,Sheet2!$D$3:$E$21,2) -> 53 | BA20: =IF(AND(AW20>=13,AW20<=18), "valid", "invalid") -> valid | BB20: =IF(BA20="valid",AY20,$BA$7) -> 10 | BC20: =IF(BA20="valid",AZ20,$BA$7) -> 53 | BE20: =C20 -> 11 | BF20: =COUNTIF(W20:AF20,"agree") -> 10 | BG20: =COUNTIF(W20:AF20,"disagree") -> 0 | BH20: =BF20+BG20 -> 10 | BI20: =(BF20/BH20)*10 -> 10 | BJ20: =ROUND(BI20,0) -> 10 | BK20: =VLOOKUP(BJ20,Sheet2!$G$3:$H$13,2) -> 100 | BL20: =IF(AND(BH20>=7,BH20<=10), "valid", "invalid") -> valid | BM20: =IF(BL20="valid",BJ20,$BA$7) -> 10 | BN20: =IF(BL20="valid",BK20,$BA$7) -> 100 | BP20: =C20 -> 11 | BQ20: =COUNTIF(AH20:AR20,"agree") -> 1 | BR20: =COUNTIF(AH20:AR20,"disagree") -> 10 | BS20: =BQ20+BR20 -> 11 | BT20: =(BR20/BS20)*11 -> 10 | BU20: =ROUND(BT20,0) -> 10 | BV20: =VLOOKUP(BU20,Sheet2!$J$3:$K$14,2) -> 85 | BW20: =IF(AND(BS20>=8,BS20<=11), "valid", "invalid") -> valid | BX20: =IF(BW20="valid",BU20,$BA$7) -> 10 | BY20: =IF(BW20="valid",BV20,$BA$7) -> 85
C21: 12 | D21: Agree | E21: Agree | F21: Agree | G21: Agree | H21: Agree | I21: Agree | J21: Agree | K21: Agree | L21: Agree | M21: Agree | N21: Agree | O21: Disagree | P21: Disagree | Q21: Disagree | R21: Disagree | S21: Disagree | T21: Disagree | U21: Disagree | W21: Disagree | X21: Disagree | Y21: Disagree | Z21: Disagree | AA21: Disagree | AB21: Disagree | AC21: Disagree | AD21: Disagree | AE21: Disagree | AF21: Disagree | AH21: Disagree | AI21: Disagree | AJ21: Disagree | AK21: Disagree | AL21: Disagree | AM21: Disagree | AN21: Disagree | AO21: Disagree | AP21: Disagree | AQ21: Disagree | AR21: Disagree | AT21: =C21 -> 12 | AU21: =COUNTIF(D21:U21,"agree") -> 11 | AV21: =COUNTIF(D21:U21,"disagree") -> 7 | AW21: =AU21+AV21 -> 18 | AX21: =(AU21/AW21)*18 -> 11 | AY21: =ROUND(AX21,0) -> 11 | AZ21: =VLOOKUP(AY21,Sheet2!$D$3:$E$21,2) -> 56 | BA21: =IF(AND(AW21>=13,AW21<=18), "valid", "invalid") -> valid | BB21: =IF(BA21="valid",AY21,$BA$7) -> 11 | BC21: =IF(BA21="valid",AZ21,$BA$7) -> 56 | BE21: =C21 -> 12 | BF21: =COUNTIF(W21:AF21,"agree") -> 0 | BG21: =COUNTIF(W21:AF21,"disagree") -> 10 | BH21: =BF21+BG21 -> 10 | BI21: =(BF21/BH21)*10 -> 0 | BJ21: =ROUND(BI21,0) -> 0 | BK21: =VLOOKUP(BJ21,Sheet2!$G$3:$H$13,2) -> 0 | BL21: =IF(AND(BH21>=7,BH21<=10), "valid", "invalid") -> valid | BM21: =IF(BL21="valid",BJ21,$BA$7) -> 0 | BN21: =IF(BL21="valid",BK21,$BA$7) -> 0 | BP21: =C21 -> 12 | BQ21: =COUNTIF(AH21:AR21,"agree") -> 0 | BR21: =COUNTIF(AH21:AR21,"disagree") -> 11 | BS21: =BQ21+BR21 -> 11 | BT21: =(BR21/BS21)*11 -> 11 | BU21: =ROUND(BT21,0) -> 11 | BV21: =VLOOKUP(BU21,Sheet2!$J$3:$K$14,2) -> 100 | BW21: =IF(AND(BS21>=8,BS21<=11), "valid", "invalid") -> valid | BX21: =IF(BW21="valid",BU21,$BA$7) -> 11 | BY21: =IF(BW21="valid",BV21,$BA$7) -> 100
C22: 13 | D22: Agree | E22: Agree | F22: Agree | G22: Agree | H22: Agree | I22: Agree | J22: Agree | K22: Agree | L22: Agree | M22: Agree | N22: Agree | O22: Agree | P22: Disagree | Q22: Disagree | R22: Disagree | S22: Disagree | T22: Disagree | U22: Disagree | X22: Agree | Y22: Agree | Z22: Agree | AB22: Disagree | AC22: Disagree | AD22: Disagree | AH22: Disagree | AI22: Disagree | AJ22: Disagree | AK22: Disagree | AL22: Disagree | AM22: Disagree | AN22: Disagree | AO22: Disagree | AP22: Disagree | AQ22: Disagree | AR22: Disagree | AT22: =C22 -> 13 | AU22: =COUNTIF(D22:U22,"agree") -> 12 | AV22: =COUNTIF(D22:U22,"disagree") -> 6 | AW22: =AU22+AV22 -> 18 | AX22: =(AU22/AW22)*18 -> 12 | AY22: =ROUND(AX22,0) -> 12 | AZ22: =VLOOKUP(AY22,Sheet2!$D$3:$E$21,2) -> 60 | BA22: =IF(AND(AW22>=13,AW22<=18), "valid", "invalid") -> valid | BB22: =IF(BA22="valid",AY22,$BA$7) -> 12 | BC22: =IF(BA22="valid",AZ22,$BA$7) -> 60 | BE22: =C22 -> 13 | BF22: =COUNTIF(W22:AF22,"agree") -> 3 | BG22: =COUNTIF(W22:AF22,"disagree") -> 3 | BH22: =BF22+BG22 -> 6 | BI22: =(BF22/BH22)*10 -> 5 | BJ22: =ROUND(BI22,0) -> 5 | BK22: =VLOOKUP(BJ22,Sheet2!$G$3:$H$13,2) -> 56 | BL22: =IF(AND(BH22>=7,BH22<=10), "valid", "invalid") -> invalid | BM22: =IF(BL22="valid",BJ22,$BA$7) -> * | BN22: =IF(BL22="valid",BK22,$BA$7) -> * | BP22: =C22 -> 13 | BQ22: =COUNTIF(AH22:AR22,"agree") -> 0 | BR22: =COUNTIF(AH22:AR22,"disagree") -> 11 | BS22: =BQ22+BR22 -> 11 | BT22: =(BR22/BS22)*11 -> 11 | BU22: =ROUND(BT22,0) -> 11 | BV22: =VLOOKUP(BU22,Sheet2!$J$3:$K$14,2) -> 100 | BW22: =IF(AND(BS22>=8,BS22<=11), "valid", "invalid") -> valid | BX22: =IF(BW22="valid",BU22,$BA$7) -> 11 | BY22: =IF(BW22="valid",BV22,$BA$7) -> 100
C23: 14 | D23: Agree | E23: Agree | F23: Agree | G23: Agree | H23: Agree | I23: Agree | J23: Agree | K23: Agree | L23: Agree | M23: Agree | N23: Agree | O23: Agree | P23: Agree | Q23: Disagree | R23: Disagree | S23: Disagree | T23: Disagree | U23: Disagree | AT23: =C23 -> 14 | AU23: =COUNTIF(D23:U23,"agree") -> 13 | AV23: =COUNTIF(D23:U23,"disagree") -> 5 | AW23: =AU23+AV23 -> 18 | AX23: =(AU23/AW23)*18 -> 13 | AY23: =ROUND(AX23,0) -> 13 | AZ23: =VLOOKUP(AY23,Sheet2!$D$3:$E$21,2) -> 64 | BA23: =IF(AND(AW23>=13,AW23<=18), "valid", "invalid") -> valid | BB23: =IF(BA23="valid",AY23,$BA$7) -> 13 | BC23: =IF(BA23="valid",AZ23,$BA$7) -> 64 | BE23: =C23 -> 14 | BF23: =COUNTIF(W23:AF23,"agree") -> 0 | BG23: =COUNTIF(W23:AF23,"disagree") -> 0 | BH23: =BF23+BG23 -> 0 | BI23: =(BF23/BH23)*10 -> #DIV/0! | BJ23: =ROUND(BI23,0) -> #DIV/0! | BK23: =VLOOKUP(BJ23,Sheet2!$G$3:$H$13,2) -> #DIV/0! | BL23: =IF(AND(BH23>=7,BH23<=10), "valid", "invalid") -> invalid | BM23: =IF(BL23="valid",BJ23,$BA$7) -> * | BN23: =IF(BL23="valid",BK23,$BA$7) -> * | BP23: =C23 -> 14 | BQ23: =COUNTIF(AH23:AR23,"agree") -> 0 | BR23: =COUNTIF(AH23:AR23,"disagree") -> 0 | BS23: =BQ23+BR23 -> 0 | BT23: =(BR23/BS23)*11 -> #DIV/0! | BU23: =ROUND(BT23,0) -> #DIV/0! | BV23: =VLOOKUP(BU23,Sheet2!$J$3:$K$14,2) -> #DIV/0! | BW23: =IF(AND(BS23>=8,BS23<=11), "valid", "invalid") -> invalid | BX23: =IF(BW23="valid",BU23,$BA$7) -> * | BY23: =IF(BW23="valid",BV23,$BA$7) -> *
C24: 15 | D24: Agree | E24: Agree | F24: Agree | G24: Agree | H24: Agree | I24: Agree | J24: Agree | K24: Agree | L24: Agree | M24: Agree | N24: Agree | O24: Agree | P24: Agree | Q24: Agree | R24: Disagree | S24: Disagree | T24: Disagree | U24: Disagree | AT24: =C24 -> 15 | AU24: =COUNTIF(D24:U24,"agree") -> 14 | AV24: =COUNTIF(D24:U24,"disagree") -> 4 | AW24: =AU24+AV24 -> 18 | AX24: =(AU24/AW24)*18 -> 14 | AY24: =ROUND(AX24,0) -> 14 | AZ24: =VLOOKUP(AY24,Sheet2!$D$3:$E$21,2) -> 68 | BA24: =IF(AND(AW24>=13,AW24<=18), "valid", "invalid") -> valid | BB24: =IF(BA24="valid",AY24,$BA$7) -> 14 | BC24: =IF(BA24="valid",AZ24,$BA$7) -> 68 | BE24: =C24 -> 15 | BF24: =COUNTIF(W24:AF24,"agree") -> 0 | BG24: =COUNTIF(W24:AF24,"disagree") -> 0 | BH24: =BF24+BG24 -> 0 | BI24: =(BF24/BH24)*10 -> #DIV/0! | BJ24: =ROUND(BI24,0) -> #DIV/0! | BK24: =VLOOKUP(BJ24,Sheet2!$G$3:$H$13,2) -> #DIV/0! | BL24: =IF(AND(BH24>=7,BH24<=10), "valid", "invalid") -> invalid | BM24: =IF(BL24="valid",BJ24,$BA$7) -> * | BN24: =IF(BL24="valid",BK24,$BA$7) -> * | BP24: =C24 -> 15 | BQ24: =COUNTIF(AH24:AR24,"agree") -> 0 | BR24: =COUNTIF(AH24:AR24,"disagree") -> 0 | BS24: =BQ24+BR24 -> 0 | BT24: =(BR24/BS24)*11 -> #DIV/0! | BU24: =ROUND(BT24,0) -> #DIV/0! | BV24: =VLOOKUP(BU24,Sheet2!$J$3:$K$14,2) -> #DIV/0! | BW24: =IF(AND(BS24>=8,BS24<=11), "valid", "invalid") -> invalid | BX24: =IF(BW24="valid",BU24,$BA$7) -> * | BY24: =IF(BW24="valid",BV24,$BA$7) -> *
C25: 16 | D25: Agree | E25: Agree | F25: Agree | G25: Agree | H25: Agree | I25: Agree | J25: Agree | K25: Agree | L25: Agree | M25: Agree | N25: Agree | O25: Agree | P25: Agree | Q25: Agree | R25: Agree | S25: Disagree | T25: Disagree | U25: Disagree | AT25: =C25 -> 16 | AU25: =COUNTIF(D25:U25,"agree") -> 15 | AV25: =COUNTIF(D25:U25,"disagree") -> 3 | AW25: =AU25+AV25 -> 18 | AX25: =(AU25/AW25)*18 -> 15 | AY25: =ROUND(AX25,0) -> 15 | AZ25: =VLOOKUP(AY25,Sheet2!$D$3:$E$21,2) -> 73 | BA25: =IF(AND(AW25>=13,AW25<=18), "valid", "invalid") -> valid | BB25: =IF(BA25="valid",AY25,$BA$7) -> 15 | BC25: =IF(BA25="valid",AZ25,$BA$7) -> 73 | BE25: =C25 -> 16 | BF25: =COUNTIF(W25:AF25,"agree") -> 0 | BG25: =COUNTIF(W25:AF25,"disagree") -> 0 | BH25: =BF25+BG25 -> 0 | BI25: =(BF25/BH25)*10 -> #DIV/0! | BJ25: =ROUND(BI25,0) -> #DIV/0! | BK25: =VLOOKUP(BJ25,Sheet2!$G$3:$H$13,2) -> #DIV/0! | BL25: =IF(AND(BH25>=7,BH25<=10), "valid", "invalid") -> invalid | BM25: =IF(BL25="valid",BJ25,$BA$7) -> * | BN25: =IF(BL25="valid",BK25,$BA$7) -> * | BP25: =C25 -> 16 | BQ25: =COUNTIF(AH25:AR25,"agree") -> 0 | BR25: =COUNTIF(AH25:AR25,"disagree") -> 0 | BS25: =BQ25+BR25 -> 0 | BT25: =(BR25/BS25)*11 -> #DIV/0! | BU25: =ROUND(BT25,0) -> #DIV/0! | BV25: =VLOOKUP(BU25,Sheet2!$J$3:$K$14,2) -> #DIV/0! | BW25: =IF(AND(BS25>=8,BS25<=11), "valid", "invalid") -> invalid | BX25: =IF(BW25="valid",BU25,$BA$7) -> * | BY25: =IF(BW25="valid",BV25,$BA$7) -> *
C26: 17 | D26: Agree | E26: Agree | F26: Agree | G26: Agree | H26: Agree | I26: Agree | J26: Agree | K26: Agree | L26: Agree | M26: Agree | N26: Agree | O26: Agree | P26: Agree | Q26: Agree | R26: Agree | S26: Agree | T26: Disagree | U26: Disagree | AT26: =C26 -> 17 | AU26: =COUNTIF(D26:U26,"agree") -> 16 | AV26: =COUNTIF(D26:U26,"disagree") -> 2 | AW26: =AU26+AV26 -> 18 | AX26: =(AU26/AW26)*18 -> 16 | AY26: =ROUND(AX26,0) -> 16 | AZ26: =VLOOKUP(AY26,Sheet2!$D$3:$E$21,2) -> 79 | BA26: =IF(AND(AW26>=13,AW26<=18), "valid", "invalid") -> valid | BB26: =IF(BA26="valid",AY26,$BA$7) -> 16 | BC26: =IF(BA26="valid",AZ26,$BA$7) -> 79 | BE26: =C26 -> 17 | BF26: =COUNTIF(W26:AF26,"agree") -> 0 | BG26: =COUNTIF(W26:AF26,"disagree") -> 0 | BH26: =BF26+BG26 -> 0 | BI26: =(BF26/BH26)*10 -> #DIV/0! | BJ26: =ROUND(BI26,0) -> #DIV/0! | BK26: =VLOOKUP(BJ26,Sheet2!$G$3:$H$13,2) -> #DIV/0! | BL26: =IF(AND(BH26>=7,BH26<=10), "valid", "invalid") -> invalid | BM26: =IF(BL26="valid",BJ26,$BA$7) -> * | BN26: =IF(BL26="valid",BK26,$BA$7) -> * | BP26: =C26 -> 17 | BQ26: =COUNTIF(AH26:AR26,"agree") -> 0 | BR26: =COUNTIF(AH26:AR26,"disagree") -> 0 | BS26: =BQ26+BR26 -> 0 | BT26: =(BR26/BS26)*11 -> #DIV/0! | BU26: =ROUND(BT26,0) -> #DIV/0! | BV26: =VLOOKUP(BU26,Sheet2!$J$3:$K$14,2) -> #DIV/0! | BW26: =IF(AND(BS26>=8,BS26<=11), "valid", "invalid") -> invalid | BX26: =IF(BW26="valid",BU26,$BA$7) -> * | BY26: =IF(BW26="valid",BV26,$BA$7) -> *
C27: 18 | D27: Agree | E27: Agree | F27: Agree | G27: Agree | H27: Agree | I27: Agree | J27: Agree | K27: Agree | L27: Agree | M27: Agree | N27: Agree | O27: Agree | P27: Agree | Q27: Agree | R27: Agree | S27: Agree | T27: Agree | U27: Disagree | AT27: =C27 -> 18 | AU27: =COUNTIF(D27:U27,"agree") -> 17 | AV27: =COUNTIF(D27:U27,"disagree") -> 1 | AW27: =AU27+AV27 -> 18 | AX27: =(AU27/AW27)*18 -> 17 | AY27: =ROUND(AX27,0) -> 17 | AZ27: =VLOOKUP(AY27,Sheet2!$D$3:$E$21,2) -> 88 | BA27: =IF(AND(AW27>=13,AW27<=18), "valid", "invalid") -> valid | BB27: =IF(BA27="valid",AY27,$BA$7) -> 17 | BC27: =IF(BA27="valid",AZ27,$BA$7) -> 88 | BE27: =C27 -> 18 | BF27: =COUNTIF(W27:AF27,"agree") -> 0 | BG27: =COUNTIF(W27:AF27,"disagree") -> 0 | BH27: =BF27+BG27 -> 0 | BI27: =(BF27/BH27)*10 -> #DIV/0! | BJ27: =ROUND(BI27,0) -> #DIV/0! | BK27: =VLOOKUP(BJ27,Sheet2!$G$3:$H$13,2) -> #DIV/0! | BL27: =IF(AND(BH27>=7,BH27<=10), "valid", "invalid") -> invalid | BM27: =IF(BL27="valid",BJ27,$BA$7) -> * | BN27: =IF(BL27="valid",BK27,$BA$7) -> * | BP27: =C27 -> 18 | BQ27: =COUNTIF(AH27:AR27,"agree") -> 0 | BR27: =COUNTIF(AH27:AR27,"disagree") -> 0 | BS27: =BQ27+BR27 -> 0 | BT27: =(BR27/BS27)*11 -> #DIV/0! | BU27: =ROUND(BT27,0) -> #DIV/0! | BV27: =VLOOKUP(BU27,Sheet2!$J$3:$K$14,2) -> #DIV/0! | BW27: =IF(AND(BS27>=8,BS27<=11), "valid", "invalid") -> invalid | BX27: =IF(BW27="valid",BU27,$BA$7) -> * | BY27: =IF(BW27="valid",BV27,$BA$7) -> *
C28: 19 | D28: Agree | E28: Agree | F28: Agree | G28: Agree | H28: Agree | I28: Agree | J28: Agree | K28: Agree | L28: Agree | M28: Agree | N28: Agree | O28: Agree | P28: Agree | Q28: Agree | R28: Agree | S28: Agree | T28: Agree | U28: Agree | AT28: =C28 -> 19 | AU28: =COUNTIF(D28:U28,"agree") -> 18 | AV28: =COUNTIF(D28:U28,"disagree") -> 0 | AW28: =AU28+AV28 -> 18 | AX28: =(AU28/AW28)*18 -> 18 | AY28: =ROUND(AX28,0) -> 18 | AZ28: =VLOOKUP(AY28,Sheet2!$D$3:$E$21,2) -> 100 | BA28: =IF(AND(AW28>=13,AW28<=18), "valid", "invalid") -> valid | BB28: =IF(BA28="valid",AY28,$BA$7) -> 18 | BC28: =IF(BA28="valid",AZ28,$BA$7) -> 100 | BE28: =C28 -> 19 | BF28: =COUNTIF(W28:AF28,"agree") -> 0 | BG28: =COUNTIF(W28:AF28,"disagree") -> 0 | BH28: =BF28+BG28 -> 0 | BI28: =(BF28/BH28)*10 -> #DIV/0! | BJ28: =ROUND(BI28,0) -> #DIV/0! | BK28: =VLOOKUP(BJ28,Sheet2!$G$3:$H$13,2) -> #DIV/0! | BL28: =IF(AND(BH28>=7,BH28<=10), "valid", "invalid") -> invalid | BM28: =IF(BL28="valid",BJ28,$BA$7) -> * | BN28: =IF(BL28="valid",BK28,$BA$7) -> * | BP28: =C28 -> 19 | BQ28: =COUNTIF(AH28:AR28,"agree") -> 0 | BR28: =COUNTIF(AH28:AR28,"disagree") -> 0 | BS28: =BQ28+BR28 -> 0 | BT28: =(BR28/BS28)*11 -> #DIV/0! | BU28: =ROUND(BT28,0) -> #DIV/0! | BV28: =VLOOKUP(BU28,Sheet2!$J$3:$K$14,2) -> #DIV/0! | BW28: =IF(AND(BS28>=8,BS28<=11), "valid", "invalid") -> invalid | BX28: =IF(BW28="valid",BU28,$BA$7) -> * | BY28: =IF(BW28="valid",BV28,$BA$7) -> *
C29: 20 | AT29: =C29 -> 20 | AU29: =COUNTIF(D29:U29,"agree") -> 0 | AV29: =COUNTIF(D29:U29,"disagree") -> 0 | AW29: =AU29+AV29 -> 0 | AX29: =(AU29/AW29)*18 -> #DIV/0! | AY29: =ROUND(AX29,0) -> #DIV/0! | AZ29: =VLOOKUP(AY29,Sheet2!$D$3:$E$21,2) -> #DIV/0! | BA29: =IF(AND(AW29>=13,AW29<=18), "valid", "invalid") -> invalid | BB29: =IF(BA29="valid",AY29,$BA$7) -> * | BC29: =IF(BA29="valid",AZ29,$BA$7) -> * | BE29: =C29 -> 20 | BF29: =COUNTIF(W29:AF29,"agree") -> 0 | BG29: =COUNTIF(W29:AF29,"disagree") -> 0 | BH29: =BF29+BG29 -> 0 | BI29: =(BF29/BH29)*10 -> #DIV/0! | BJ29: =ROUND(BI29,0) -> #DIV/0! | BK29: =VLOOKUP(BJ29,Sheet2!$G$3:$H$13,2) -> #DIV/0! | BL29: =IF(AND(BH29>=7,BH29<=10), "valid", "invalid") -> invalid | BM29: =IF(BL29="valid",BJ29,$BA$7) -> * | BN29: =IF(BL29="valid",BK29,$BA$7) -> * | BP29: =C29 -> 20 | BQ29: =COUNTIF(AH29:AR29,"agree") -> 0 | BR29: =COUNTIF(AH29:AR29,"disagree") -> 0 | BS29: =BQ29+BR29 -> 0 | BT29: =(BR29/BS29)*11 -> #DIV/0! | BU29: =ROUND(BT29,0) -> #DIV/0! | BV29: =VLOOKUP(BU29,Sheet2!$J$3:$K$14,2) -> #DIV/0! | BW29: =IF(AND(BS29>=8,BS29<=11), "valid", "invalid") -> invalid | BX29: =IF(BW29="valid",BU29,$BA$7) -> * | BY29: =IF(BW29="valid",BV29,$BA$7) -> *
C30: 21 | AT30: =C30 -> 21 | AU30: =COUNTIF(D30:U30,"agree") -> 0 | AV30: =COUNTIF(D30:U30,"disagree") -> 0 | AW30: =AU30+AV30 -> 0 | AX30: =(AU30/AW30)*18 -> #DIV/0! | AY30: =ROUND(AX30,0) -> #DIV/0! | AZ30: =VLOOKUP(AY30,Sheet2!$D$3:$E$21,2) -> #DIV/0! | BA30: =IF(AND(AW30>=13,AW30<=18), "valid", "invalid") -> invalid | BB30: =IF(BA30="valid",AY30,$BA$7) -> * | BC30: =IF(BA30="valid",AZ30,$BA$7) -> * | BE30: =C30 -> 21 | BF30: =COUNTIF(W30:AF30,"agree") -> 0 | BG30: =COUNTIF(W30:AF30,"disagree") -> 0 | BH30: =BF30+BG30 -> 0 | BI30: =(BF30/BH30)*10 -> #DIV/0! | BJ30: =ROUND(BI30,0) -> #DIV/0! | BK30: =VLOOKUP(BJ30,Sheet2!$G$3:$H$13,2) -> #DIV/0! | BL30: =IF(AND(BH30>=7,BH30<=10), "valid", "invalid") -> invalid | BM30: =IF(BL30="valid",BJ30,$BA$7) -> * | BN30: =IF(BL30="valid",BK30,$BA$7) -> * | BP30: =C30 -> 21 | BQ30: =COUNTIF(AH30:AR30,"agree") -> 0 | BR30: =COUNTIF(AH30:AR30,"disagree") -> 0 | BS30: =BQ30+BR30 -> 0 | BT30: =(BR30/BS30)*11 -> #DIV/0! | BU30: =ROUND(BT30,0) -> #DIV/0! | BV30: =VLOOKUP(BU30,Sheet2!$J$3:$K$14,2) -> #DIV/0! | BW30: =IF(AND(BS30>=8,BS30<=11), "valid", "invalid") -> invalid | BX30: =IF(BW30="valid",BU30,$BA$7) -> * | BY30: =IF(BW30="valid",BV30,$BA$7) -> *
C31: 22 | AT31: =C31 -> 22 | AU31: =COUNTIF(D31:U31,"agree") -> 0 | AV31: =COUNTIF(D31:U31,"disagree") -> 0 | AW31: =AU31+AV31 -> 0 | AX31: =(AU31/AW31)*18 -> #DIV/0! | AY31: =ROUND(AX31,0) -> #DIV/0! | AZ31: =VLOOKUP(AY31,Sheet2!$D$3:$E$21,2) -> #DIV/0! | BA31: =IF(AND(AW31>=13,AW31<=18), "valid", "invalid") -> invalid | BB31: =IF(BA31="valid",AY31,$BA$7) -> * | BC31: =IF(BA31="valid",AZ31,$BA$7) -> * | BE31: =C31 -> 22 | BF31: =COUNTIF(W31:AF31,"agree") -> 0 | BG31: =COUNTIF(W31:AF31,"disagree") -> 0 | BH31: =BF31+BG31 -> 0 | BI31: =(BF31/BH31)*10 -> #DIV/0! | BJ31: =ROUND(BI31,0) -> #DIV/0! | BK31: =VLOOKUP(BJ31,Sheet2!$G$3:$H$13,2) -> #DIV/0! | BL31: =IF(AND(BH31>=7,BH31<=10), "valid", "invalid") -> invalid | BM31: =IF(BL31="valid",BJ31,$BA$7) -> * | BN31: =IF(BL31="valid",BK31,$BA$7) -> * | BP31: =C31 -> 22 | BQ31: =COUNTIF(AH31:AR31,"agree") -> 0 | BR31: =COUNTIF(AH31:AR31,"disagree") -> 0 | BS31: =BQ31+BR31 -> 0 | BT31: =(BR31/BS31)*11 -> #DIV/0! | BU31: =ROUND(BT31,0) -> #DIV/0! | BV31: =VLOOKUP(BU31,Sheet2!$J$3:$K$14,2) -> #DIV/0! | BW31: =IF(AND(BS31>=8,BS31<=11), "valid", "invalid") -> invalid | BX31: =IF(BW31="valid",BU31,$BA$7) -> * | BY31: =IF(BW31="valid",BV31,$BA$7) -> *
C32: 23 | AT32: =C32 -> 23 | AU32: =COUNTIF(D32:U32,"agree") -> 0 | AV32: =COUNTIF(D32:U32,"disagree") -> 0 | AW32: =AU32+AV32 -> 0 | AX32: =(AU32/AW32)*18 -> #DIV/0! | AY32: =ROUND(AX32,0) -> #DIV/0! | AZ32: =VLOOKUP(AY32,Sheet2!$D$3:$E$21,2) -> #DIV/0! | BA32: =IF(AND(AW32>=13,AW32<=18), "valid", "invalid") -> invalid | BB32: =IF(BA32="valid",AY32,$BA$7) -> * | BC32: =IF(BA32="valid",AZ32,$BA$7) -> * | BE32: =C32 -> 23 | BF32: =COUNTIF(W32:AF32,"agree") -> 0 | BG32: =COUNTIF(W32:AF32,"disagree") -> 0 | BH32: =BF32+BG32 -> 0 | BI32: =(BF32/BH32)*10 -> #DIV/0! | BJ32: =ROUND(BI32,0) -> #DIV/0! | BK32: =VLOOKUP(BJ32,Sheet2!$G$3:$H$13,2) -> #DIV/0! | BL32: =IF(AND(BH32>=7,BH32<=10), "valid", "invalid") -> invalid | BM32: =IF(BL32="valid",BJ32,$BA$7) -> * | BN32: =IF(BL32="valid",BK32,$BA$7) -> * | BP32: =C32 -> 23 | BQ32: =COUNTIF(AH32:AR32,"agree") -> 0 | BR32: =COUNTIF(AH32:AR32,"disagree") -> 0 | BS32: =BQ32+BR32 -> 0 | BT32: =(BR32/BS32)*11 -> #DIV/0! | BU32: =ROUND(BT32,0) -> #DIV/0! | BV32: =VLOOKUP(BU32,Sheet2!$J$3:$K$14,2) -> #DIV/0! | BW32: =IF(AND(BS32>=8,BS32<=11), "valid", "invalid") -> invalid | BX32: =IF(BW32="valid",BU32,$BA$7) -> * | BY32: =IF(BW32="valid",BV32,$BA$7) -> *
C33: 24 | AT33: =C33 -> 24 | AU33: =COUNTIF(D33:U33,"agree") -> 0 | AV33: =COUNTIF(D33:U33,"disagree") -> 0 | AW33: =AU33+AV33 -> 0 | AX33: =(AU33/AW33)*18 -> #DIV/0! | AY33: =ROUND(AX33,0) -> #DIV/0! | AZ33: =VLOOKUP(AY33,Sheet2!$D$3:$E$21,2) -> #DIV/0! | BA33: =IF(AND(AW33>=13,AW33<=18), "valid", "invalid") -> invalid | BB33: =IF(BA33="valid",AY33,$BA$7) -> * | BC33: =IF(BA33="valid",AZ33,$BA$7) -> * | BE33: =C33 -> 24 | BF33: =COUNTIF(W33:AF33,"agree") -> 0 | BG33: =COUNTIF(W33:AF33,"disagree") -> 0 | BH33: =BF33+BG33 -> 0 | BI33: =(BF33/BH33)*10 -> #DIV/0! | BJ33: =ROUND(BI33,0) -> #DIV/0! | BK33: =VLOOKUP(BJ33,Sheet2!$G$3:$H$13,2) -> #DIV/0! | BL33: =IF(AND(BH33>=7,BH33<=10), "valid", "invalid") -> invalid | BM33: =IF(BL33="valid",BJ33,$BA$7) -> * | BN33: =IF(BL33="valid",BK33,$BA$7) -> * | BP33: =C33 -> 24 | BQ33: =COUNTIF(AH33:AR33,"agree") -> 0 | BR33: =COUNTIF(AH33:AR33,"disagree") -> 0 | BS33: =BQ33+BR33 -> 0 | BT33: =(BR33/BS33)*11 -> #DIV/0! | BU33: =ROUND(BT33,0) -> #DIV/0! | BV33: =VLOOKUP(BU33,Sheet2!$J$3:$K$14,2) -> #DIV/0! | BW33: =IF(AND(BS33>=8,BS33<=11), "valid", "invalid") -> invalid | BX33: =IF(BW33="valid",BU33,$BA$7) -> * | BY33: =IF(BW33="valid",BV33,$BA$7) -> *
C34: 25 | AT34: =C34 -> 25 | AU34: =COUNTIF(D34:U34,"agree") -> 0 | AV34: =COUNTIF(D34:U34,"disagree") -> 0 | AW34: =AU34+AV34 -> 0 | AX34: =(AU34/AW34)*18 -> #DIV/0! | AY34: =ROUND(AX34,0) -> #DIV/0! | AZ34: =VLOOKUP(AY34,Sheet2!$D$3:$E$21,2) -> #DIV/0! | BA34: =IF(AND(AW34>=13,AW34<=18), "valid", "invalid") -> invalid | BB34: =IF(BA34="valid",AY34,$BA$7) -> * | BC34: =IF(BA34="valid",AZ34,$BA$7) -> * | BE34: =C34 -> 25 | BF34: =COUNTIF(W34:AF34,"agree") -> 0 | BG34: =COUNTIF(W34:AF34,"disagree") -> 0 | BH34: =BF34+BG34 -> 0 | BI34: =(BF34/BH34)*10 -> #DIV/0! | BJ34: =ROUND(BI34,0) -> #DIV/0! | BK34: =VLOOKUP(BJ34,Sheet2!$G$3:$H$13,2) -> #DIV/0! | BL34: =IF(AND(BH34>=7,BH34<=10), "valid", "invalid") -> invalid | BM34: =IF(BL34="valid",BJ34,$BA$7) -> * | BN34: =IF(BL34="valid",BK34,$BA$7) -> * | BP34: =C34 -> 25 | BQ34: =COUNTIF(AH34:AR34,"agree") -> 0 | BR34: =COUNTIF(AH34:AR34,"disagree") -> 0 | BS34: =BQ34+BR34 -> 0 | BT34: =(BR34/BS34)*11 -> #DIV/0! | BU34: =ROUND(BT34,0) -> #DIV/0! | BV34: =VLOOKUP(BU34,Sheet2!$J$3:$K$14,2) -> #DIV/0! | BW34: =IF(AND(BS34>=8,BS34<=11), "valid", "invalid") -> invalid | BX34: =IF(BW34="valid",BU34,$BA$7) -> * | BY34: =IF(BW34="valid",BV34,$BA$7) -> *
C35: 26 | AT35: =C35 -> 26 | AU35: =COUNTIF(D35:U35,"agree") -> 0 | AV35: =COUNTIF(D35:U35,"disagree") -> 0 | AW35: =AU35+AV35 -> 0 | AX35: =(AU35/AW35)*18 -> #DIV/0! | AY35: =ROUND(AX35,0) -> #DIV/0! | AZ35: =VLOOKUP(AY35,Sheet2!$D$3:$E$21,2) -> #DIV/0! | BA35: =IF(AND(AW35>=13,AW35<=18), "valid", "invalid") -> invalid | BB35: =IF(BA35="valid",AY35,$BA$7) -> * | BC35: =IF(BA35="valid",AZ35,$BA$7) -> * | BE35: =C35 -> 26 | BF35: =COUNTIF(W35:AF35,"agree") -> 0 | BG35: =COUNTIF(W35:AF35,"disagree") -> 0 | BH35: =BF35+BG35 -> 0 | BI35: =(BF35/BH35)*10 -> #DIV/0! | BJ35: =ROUND(BI35,0) -> #DIV/0! | BK35: =VLOOKUP(BJ35,Sheet2!$G$3:$H$13,2) -> #DIV/0! | BL35: =IF(AND(BH35>=7,BH35<=10), "valid", "invalid") -> invalid | BM35: =IF(BL35="valid",BJ35,$BA$7) -> * | BN35: =IF(BL35="valid",BK35,$BA$7) -> * | BP35: =C35 -> 26 | BQ35: =COUNTIF(AH35:AR35,"agree") -> 0 | BR35: =COUNTIF(AH35:AR35,"disagree") -> 0 | BS35: =BQ35+BR35 -> 0 | BT35: =(BR35/BS35)*11 -> #DIV/0! | BU35: =ROUND(BT35,0) -> #DIV/0! | BV35: =VLOOKUP(BU35,Sheet2!$J$3:$K$14,2) -> #DIV/0! | BW35: =IF(AND(BS35>=8,BS35<=11), "valid", "invalid") -> invalid | BX35: =IF(BW35="valid",BU35,$BA$7) -> * | BY35: =IF(BW35="valid",BV35,$BA$7) -> *
C36: 27 | AT36: =C36 -> 27 | AU36: =COUNTIF(D36:U36,"agree") -> 0 | AV36: =COUNTIF(D36:U36,"disagree") -> 0 | AW36: =AU36+AV36 -> 0 | AX36: =(AU36/AW36)*18 -> #DIV/0! | AY36: =ROUND(AX36,0) -> #DIV/0! | AZ36: =VLOOKUP(AY36,Sheet2!$D$3:$E$21,2) -> #DIV/0! | BA36: =IF(AND(AW36>=13,AW36<=18), "valid", "invalid") -> invalid | BB36: =IF(BA36="valid",AY36,$BA$7) -> * | BC36: =IF(BA36="valid",AZ36,$BA$7) -> * | BE36: =C36 -> 27 | BF36: =COUNTIF(W36:AF36,"agree") -> 0 | BG36: =COUNTIF(W36:AF36,"disagree") -> 0 | BH36: =BF36+BG36 -> 0 | BI36: =(BF36/BH36)*10 -> #DIV/0! | BJ36: =ROUND(BI36,0) -> #DIV/0! | BK36: =VLOOKUP(BJ36,Sheet2!$G$3:$H$13,2) -> #DIV/0! | BL36: =IF(AND(BH36>=7,BH36<=10), "valid", "invalid") -> invalid | BM36: =IF(BL36="valid",BJ36,$BA$7) -> * | BN36: =IF(BL36="valid",BK36,$BA$7) -> * | BP36: =C36 -> 27 | BQ36: =COUNTIF(AH36:AR36,"agree") -> 0 | BR36: =COUNTIF(AH36:AR36,"disagree") -> 0 | BS36: =BQ36+BR36 -> 0 | BT36: =(BR36/BS36)*11 -> #DIV/0! | BU36: =ROUND(BT36,0) -> #DIV/0! | BV36: =VLOOKUP(BU36,Sheet2!$J$3:$K$14,2) -> #DIV/0! | BW36: =IF(AND(BS36>=8,BS36<=11), "valid", "invalid") -> invalid | BX36: =IF(BW36="valid",BU36,$BA$7) -> * | BY36: =IF(BW36="valid",BV36,$BA$7) -> *
C37: 28 | AT37: =C37 -> 28 | AU37: =COUNTIF(D37:U37,"agree") -> 0 | AV37: =COUNTIF(D37:U37,"disagree") -> 0 | AW37: =AU37+AV37 -> 0 | AX37: =(AU37/AW37)*18 -> #DIV/0! | AY37: =ROUND(AX37,0) -> #DIV/0! | AZ37: =VLOOKUP(AY37,Sheet2!$D$3:$E$21,2) -> #DIV/0! | BA37: =IF(AND(AW37>=13,AW37<=18), "valid", "invalid") -> invalid | BB37: =IF(BA37="valid",AY37,$BA$7) -> * | BC37: =IF(BA37="valid",AZ37,$BA$7) -> * | BE37: =C37 -> 28 | BF37: =COUNTIF(W37:AF37,"agree") -> 0 | BG37: =COUNTIF(W37:AF37,"disagree") -> 0 | BH37: =BF37+BG37 -> 0 | BI37: =(BF37/BH37)*10 -> #DIV/0! | BJ37: =ROUND(BI37,0) -> #DIV/0! | BK37: =VLOOKUP(BJ37,Sheet2!$G$3:$H$13,2) -> #DIV/0! | BL37: =IF(AND(BH37>=7,BH37<=10), "valid", "invalid") -> invalid | BM37: =IF(BL37="valid",BJ37,$BA$7) -> * | BN37: =IF(BL37="valid",BK37,$BA$7) -> * | BP37: =C37 -> 28 | BQ37: =COUNTIF(AH37:AR37,"agree") -> 0 | BR37: =COUNTIF(AH37:AR37,"disagree") -> 0 | BS37: =BQ37+BR37 -> 0 | BT37: =(BR37/BS37)*11 -> #DIV/0! | BU37: =ROUND(BT37,0) -> #DIV/0! | BV37: =VLOOKUP(BU37,Sheet2!$J$3:$K$14,2) -> #DIV/0! | BW37: =IF(AND(BS37>=8,BS37<=11), "valid", "invalid") -> invalid | BX37: =IF(BW37="valid",BU37,$BA$7) -> * | BY37: =IF(BW37="valid",BV37,$BA$7) -> *
C38: 29 | AT38: =C38 -> 29 | AU38: =COUNTIF(D38:U38,"agree") -> 0 | AV38: =COUNTIF(D38:U38,"disagree") -> 0 | AW38: =AU38+AV38 -> 0 | AX38: =(AU38/AW38)*18 -> #DIV/0! | AY38: =ROUND(AX38,0) -> #DIV/0! | AZ38: =VLOOKUP(AY38,Sheet2!$D$3:$E$21,2) -> #DIV/0! | BA38: =IF(AND(AW38>=13,AW38<=18), "valid", "invalid") -> invalid | BB38: =IF(BA38="valid",AY38,$BA$7) -> * | BC38: =IF(BA38="valid",AZ38,$BA$7) -> * | BE38: =C38 -> 29 | BF38: =COUNTIF(W38:AF38,"agree") -> 0 | BG38: =COUNTIF(W38:AF38,"disagree") -> 0 | BH38: =BF38+BG38 -> 0 | BI38: =(BF38/BH38)*10 -> #DIV/0! | BJ38: =ROUND(BI38,0) -> #DIV/0! | BK38: =VLOOKUP(BJ38,Sheet2!$G$3:$H$13,2) -> #DIV/0! | BL38: =IF(AND(BH38>=7,BH38<=10), "valid", "invalid") -> invalid | BM38: =IF(BL38="valid",BJ38,$BA$7) -> * | BN38: =IF(BL38="valid",BK38,$BA$7) -> * | BP38: =C38 -> 29 | BQ38: =COUNTIF(AH38:AR38,"agree") -> 0 | BR38: =COUNTIF(AH38:AR38,"disagree") -> 0 | BS38: =BQ38+BR38 -> 0 | BT38: =(BR38/BS38)*11 -> #DIV/0! | BU38: =ROUND(BT38,0) -> #DIV/0! | BV38: =VLOOKUP(BU38,Sheet2!$J$3:$K$14,2) -> #DIV/0! | BW38: =IF(AND(BS38>=8,BS38<=11), "valid", "invalid") -> invalid | BX38: =IF(BW38="valid",BU38,$BA$7) -> * | BY38: =IF(BW38="valid",BV38,$BA$7) -> *
C39: 30 | AT39: =C39 -> 30 | AU39: =COUNTIF(D39:U39,"agree") -> 0 | AV39: =COUNTIF(D39:U39,"disagree") -> 0 | AW39: =AU39+AV39 -> 0 | AX39: =(AU39/AW39)*18 -> #DIV/0! | AY39: =ROUND(AX39,0) -> #DIV/0! | AZ39: =VLOOKUP(AY39,Sheet2!$D$3:$E$21,2) -> #DIV/0! | BA39: =IF(AND(AW39>=13,AW39<=18), "valid", "invalid") -> invalid | BB39: =IF(BA39="valid",AY39,$BA$7) -> * | BC39: =IF(BA39="valid",AZ39,$BA$7) -> * | BE39: =C39 -> 30 | BF39: =COUNTIF(W39:AF39,"agree") -> 0 | BG39: =COUNTIF(W39:AF39,"disagree") -> 0 | BH39: =BF39+BG39 -> 0 | BI39: =(BF39/BH39)*10 -> #DIV/0! | BJ39: =ROUND(BI39,0) -> #DIV/0! | BK39: =VLOOKUP(BJ39,Sheet2!$G$3:$H$13,2) -> #DIV/0! | BL39: =IF(AND(BH39>=7,BH39<=10), "valid", "invalid") -> invalid | BM39: =IF(BL39="valid",BJ39,$BA$7) -> * | BN39: =IF(BL39="valid",BK39,$BA$7) -> * | BP39: =C39 -> 30 | BQ39: =COUNTIF(AH39:AR39,"agree") -> 0 | BR39: =COUNTIF(AH39:AR39,"disagree") -> 0 | BS39: =BQ39+BR39 -> 0 | BT39: =(BR39/BS39)*11 -> #DIV/0! | BU39: =ROUND(BT39,0) -> #DIV/0! | BV39: =VLOOKUP(BU39,Sheet2!$J$3:$K$14,2) -> #DIV/0! | BW39: =IF(AND(BS39>=8,BS39<=11), "valid", "invalid") -> invalid | BX39: =IF(BW39="valid",BU39,$BA$7) -> * | BY39: =IF(BW39="valid",BV39,$BA$7) -> *
C40: 31 | AT40: =C40 -> 31 | AU40: =COUNTIF(D40:U40,"agree") -> 0 | AV40: =COUNTIF(D40:U40,"disagree") -> 0 | AW40: =AU40+AV40 -> 0 | AX40: =(AU40/AW40)*18 -> #DIV/0! | AY40: =ROUND(AX40,0) -> #DIV/0! | AZ40: =VLOOKUP(AY40,Sheet2!$D$3:$E$21,2) -> #DIV/0! | BA40: =IF(AND(AW40>=13,AW40<=18), "valid", "invalid") -> invalid | BB40: =IF(BA40="valid",AY40,$BA$7) -> * | BC40: =IF(BA40="valid",AZ40,$BA$7) -> * | BE40: =C40 -> 31 | BF40: =COUNTIF(W40:AF40,"agree") -> 0 | BG40: =COUNTIF(W40:AF40,"disagree") -> 0 | BH40: =BF40+BG40 -> 0 | BI40: =(BF40/BH40)*10 -> #DIV/0! | BJ40: =ROUND(BI40,0) -> #DIV/0! | BK40: =VLOOKUP(BJ40,Sheet2!$G$3:$H$13,2) -> #DIV/0! | BL40: =IF(AND(BH40>=7,BH40<=10), "valid", "invalid") -> invalid | BM40: =IF(BL40="valid",BJ40,$BA$7) -> * | BN40: =IF(BL40="valid",BK40,$BA$7) -> * | BP40: =C40 -> 31 | BQ40: =COUNTIF(AH40:AR40,"agree") -> 0 | BR40: =COUNTIF(AH40:AR40,"disagree") -> 0 | BS40: =BQ40+BR40 -> 0 | BT40: =(BR40/BS40)*11 -> #DIV/0! | BU40: =ROUND(BT40,0) -> #DIV/0! | BV40: =VLOOKUP(BU40,Sheet2!$J$3:$K$14,2) -> #DIV/0! | BW40: =IF(AND(BS40>=8,BS40<=11), "valid", "invalid") -> invalid | BX40: =IF(BW40="valid",BU40,$BA$7) -> * | BY40: =IF(BW40="valid",BV40,$BA$7) -> *
... C1009: 1000 | AT1009: =C1009 -> 1000 | AU1009: =COUNTIF(D1009:U1009,"agree") -> 0 | AV1009: =COUNTIF(D1009:U1009,"disagree") -> 0 | AW1009: =AU1009+AV1009 -> 0 | AX1009: =(AU1009/AW1009)*18 -> #DIV/0! | AY1009: =ROUND(AX1009,0) -> #DIV/0! | AZ1009: =VLOOKUP(AY1009,Sheet2!$D$3:$E$21,2) -> #DIV/0! | BA1009: =IF(AND(AW1009>=13,AW1009<=18), "valid", "invalid") -> invalid | BB1009: =IF(BA1009="valid",AY1009,$BA$7) -> * | BC1009: =IF(BA1009="valid",AZ1009,$BA$7) -> * | BE1009: =C1009 -> 1000 | BF1009: =COUNTIF(W1009:AF1009,"agree") -> 0 | BG1009: =COUNTIF(W1009:AF1009,"disagree") -> 0 | BH1009: =BF1009+BG1009 -> 0 | BI1009: =(BF1009/BH1009)*10 -> #DIV/0! | BJ1009: =ROUND(BI1009,0) -> #DIV/0! | BK1009: =VLOOKUP(BJ1009,Sheet2!$G$3:$H$13,2) -> #DIV/0! | BL1009: =IF(AND(BH1009>=7,BH1009<=10), "valid", "invalid") -> invalid | BM1009: =IF(BL1009="valid",BJ1009,$BA$7) -> * | BN1009: =IF(BL1009="valid",BK1009,$BA$7) -> * | BP1009: =C1009 -> 1000 | BQ1009: =COUNTIF(AH1009:AR1009,"agree") -> 0 | BR1009: =COUNTIF(AH1009:AR1009,"disagree") -> 0 | BS1009: =BQ1009+BR1009 -> 0 | BT1009: =(BR1009/BS1009)*11 -> #DIV/0! | BU1009: =ROUND(BT1009,0) -> #DIV/0! | BV1009: =VLOOKUP(BU1009,Sheet2!$J$3:$K$14,2) -> #DIV/0! | BW1009: =IF(AND(BS1009>=8,BS1009<=11), "valid", "invalid") -> invalid | BX1009: =IF(BW1009="valid",BU1009,$BA$7) -> * | BY1009: =IF(BW1009="valid",BV1009,$BA$7) -> *

Sheet Follow-up
D1: SIDECAR D - Direct impact of care (count 'Agree' responses) | W1: SIDECAR I - Indirect impact of care (count 'Agree' responses) | AH1: SIDECAR S - Support and Information (count 'Disagree' responses)
C2: % "Disagree" | D2: =D3/D6 -> 0.94736842 | E2: =E3/E6 -> 0.89473684 | F2: =F3/F6 -> 0.84210526 | G2: =G3/G6 -> 0.78947368 | H2: =H3/H6 -> 0.73684211 | I2: =I3/I6 -> 0.68421053 | J2: =J3/J6 -> 0.63157895 | K2: =K3/K6 -> 0.57894737 | ... U2: =U3/U6 -> 0.052631579 | W2: =W3/W6 -> 0.91666667 | X2: =X3/X6 -> 0.76923077 | Y2: =Y3/Y6 -> 0.69230769 | Z2: =Z3/Z6 -> 0.61538462 | AA2: =AA3/AA6 -> 0.58333333 | AB2: =AB3/AB6 -> 0.53846154 | AC2: =AC3/AC6 -> 0.46153846 | AD2: =AD3/AD6 -> 0.38461538 | ... AF2: =AF3/AF6 -> 0.16666667 | AH2: =AH3/AH6 -> 0.15384615 | AI2: =AI3/AI6 -> 0.23076923 | AJ2: =AJ3/AJ6 -> 0.30769231 | AK2: =AK3/AK6 -> 0.38461538 | AL2: =AL3/AL6 -> 0.46153846 | AM2: =AM3/AM6 -> 0.53846154 | AN2: =AN3/AN6 -> 0.61538462 | AO2: =AO3/AO6 -> 0.69230769 | ... AR2: =AR3/AR6 -> 0.92307692
C3: countif 'disagree' | D3: =COUNTIF(D8:D1048574,"disagree") -> 18 | E3: =COUNTIF(E8:E1048574,"disagree") -> 17 | F3: =COUNTIF(F8:F1048574,"disagree") -> 16 | G3: =COUNTIF(G8:G1048574,"disagree") -> 15 | H3: =COUNTIF(H8:H1048574,"disagree") -> 14 | I3: =COUNTIF(I8:I1048574,"disagree") -> 13 | J3: =COUNTIF(J8:J1048574,"disagree") -> 12 | K3: =COUNTIF(K8:K1048574,"disagree") -> 11 | ... U3: =COUNTIF(U8:U1048574,"disagree") -> 1 | W3: =COUNTIF(W8:W1048574,"disagree") -> 11 | X3: =COUNTIF(X8:X1048574,"disagree") -> 10 | Y3: =COUNTIF(Y8:Y1048574,"disagree") -> 9 | Z3: =COUNTIF(Z8:Z1048574,"disagree") -> 8 | AA3: =COUNTIF(AA8:AA1048574,"disagree") -> 7 | AB3: =COUNTIF(AB8:AB1048574,"disagree") -> 7 | AC3: =COUNTIF(AC8:AC1048574,"disagree") -> 6 | AD3: =COUNTIF(AD8:AD1048574,"disagree") -> 5 | ... AF3: =COUNTIF(AF8:AF1048574,"disagree") -> 2 | AH3: =COUNTIF(AH8:AH1048574,"disagree") -> 2 | AI3: =COUNTIF(AI8:AI1048574,"disagree") -> 3 | AJ3: =COUNTIF(AJ8:AJ1048574,"disagree") -> 4 | AK3: =COUNTIF(AK8:AK1048574,"disagree") -> 5 | AL3: =COUNTIF(AL8:AL1048574,"disagree") -> 6 | AM3: =COUNTIF(AM8:AM1048574,"disagree") -> 7 | AN3: =COUNTIF(AN8:AN1048574,"disagree") -> 8 | AO3: =COUNTIF(AO8:AO1048574,"disagree") -> 9 | ... AR3: =COUNTIF(AR8:AR1048574,"disagree") -> 12
C4: % "Agree" | D4: =D5/D6 -> 0.052631579 | E4: =E5/E6 -> 0.10526316 | F4: =F5/F6 -> 0.15789474 | G4: =G5/G6 -> 0.21052632 | H4: =H5/H6 -> 0.26315789 | I4: =I5/I6 -> 0.31578947 | J4: =J5/J6 -> 0.36842105 | K4: =K5/K6 -> 0.42105263 | ... U4: =U5/U6 -> 0.94736842 | W4: =W5/W6 -> 0.083333333 | X4: =X5/X6 -> 0.23076923 | Y4: =Y5/Y6 -> 0.30769231 | Z4: =Z5/Z6 -> 0.38461538 | AA4: =AA5/AA6 -> 0.41666667 | AB4: =AB5/AB6 -> 0.46153846 | AC4: =AC5/AC6 -> 0.53846154 | AD4: =AD5/AD6 -> 0.61538462 | ... AF4: =AF5/AF6 -> 0.83333333 | AH4: =AH5/AH6 -> 0.84615385 | AI4: =AI5/AI6 -> 0.76923077 | AJ4: =AJ5/AJ6 -> 0.69230769 | AK4: =AK5/AK6 -> 0.61538462 | AL4: =AL5/AL6 -> 0.53846154 | AM4: =AM5/AM6 -> 0.46153846 | AN4: =AN5/AN6 -> 0.38461538 | AO4: =AO5/AO6 -> 0.30769231 | ... AR4: =AR5/AR6 -> 0.076923077
C5: countif 'agree' | D5: =COUNTIF(D10:D1048576,"agree") -> 1 | E5: =COUNTIF(E10:E1048576,"agree") -> 2 | F5: =COUNTIF(F10:F1048576,"agree") -> 3 | G5: =COUNTIF(G10:G1048576,"agree") -> 4 | H5: =COUNTIF(H10:H1048576,"agree") -> 5 | I5: =COUNTIF(I10:I1048576,"agree") -> 6 | J5: =COUNTIF(J10:J1048576,"agree") -> 7 | K5: =COUNTIF(K10:K1048576,"agree") -> 8 | ... U5: =COUNTIF(U10:U1048576,"agree") -> 18 | W5: =COUNTIF(W10:W1048576,"agree") -> 1 | X5: =COUNTIF(X10:X1048576,"agree") -> 3 | Y5: =COUNTIF(Y10:Y1048576,"agree") -> 4 | Z5: =COUNTIF(Z10:Z1048576,"agree") -> 5 | AA5: =COUNTIF(AA10:AA1048576,"agree") -> 5 | AB5: =COUNTIF(AB10:AB1048576,"agree") -> 6 | AC5: =COUNTIF(AC10:AC1048576,"agree") -> 7 | AD5: =COUNTIF(AD10:AD1048576,"agree") -> 8 | ... AF5: =COUNTIF(AF10:AF1048576,"agree") -> 10 | AH5: =COUNTIF(AH10:AH1048576,"agree") -> 11 | AI5: =COUNTIF(AI10:AI1048576,"agree") -> 10 | AJ5: =COUNTIF(AJ10:AJ1048576,"agree") -> 9 | AK5: =COUNTIF(AK10:AK1048576,"agree") -> 8 | AL5: =COUNTIF(AL10:AL1048576,"agree") -> 7 | AM5: =COUNTIF(AM10:AM1048576,"agree") -> 6 | AN5: =COUNTIF(AN10:AN1048576,"agree") -> 5 | AO5: =COUNTIF(AO10:AO1048576,"agree") -> 4 | ... AR5: =COUNTIF(AR10:AR1048576,"agree") -> 1
C6: count | D6: =COUNTA(D10:D1048576) -> 19 | E6: =COUNTA(E10:E1048576) -> 19 | F6: =COUNTA(F10:F1048576) -> 19 | G6: =COUNTA(G10:G1048576) -> 19 | H6: =COUNTA(H10:H1048576) -> 19 | I6: =COUNTA(I10:I1048576) -> 19 | J6: =COUNTA(J10:J1048576) -> 19 | K6: =COUNTA(K10:K1048576) -> 19 | ... U6: =COUNTA(U10:U1048576) -> 19 | W6: =COUNTA(W10:W1048576) -> 12 | X6: =COUNTA(X10:X1048576) -> 13 | Y6: =COUNTA(Y10:Y1048576) -> 13 | Z6: =COUNTA(Z10:Z1048576) -> 13 | AA6: =COUNTA(AA10:AA1048576) -> 12 | AB6: =COUNTA(AB10:AB1048576) -> 13 | AC6: =COUNTA(AC10:AC1048576) -> 13 | AD6: =COUNTA(AD10:AD1048576) -> 13 | ... AF6: =COUNTA(AF10:AF1048576) -> 12 | AH6: =COUNTA(AH10:AH1048576) -> 13 | AI6: =COUNTA(AI10:AI1048576) -> 13 | AJ6: =COUNTA(AJ10:AJ1048576) -> 13 | AK6: =COUNTA(AK10:AK1048576) -> 13 | AL6: =COUNTA(AL10:AL1048576) -> 13 | AM6: =COUNTA(AM10:AM1048576) -> 13 | AN6: =COUNTA(AN10:AN1048576) -> 13 | AO6: =COUNTA(AO10:AO1048576) -> 13 | ... AR6: =COUNTA(AR10:AR1048576) -> 13
AU7: SIDECAR D | BA7: * | BF7: SIDECAR I | BL7: * | BQ7: SIDECAR S | BW7: *
C8: Question code | D8: D1 | E8: D2 | F8: D3 | G8: D4 | H8: D5 | I8: D6 | J8: D7 | K8: D8 | L8: D9 | M8: D10 | N8: D11 | O8: D12 | P8: D13 | Q8: D14 | R8: D15 | S8: D16 | T8: D17 | U8: D18 | W8: I1 | X8: I2 | Y8: I3 | Z8: I4 | AA8: I5 | AB8: I6 | AC8: I7 | AD8: I8 | AE8: I9 | AF8: I10 | AH8: S1 | AI8: S2 | AJ8: S3 | AK8: S4 | AL8: S5 | AM8: S6 | AN8: S7 | AO8: S8 | AP8: S9 | AQ8: S10 | AR8: S11
B9: Carer name/ID (optional) | C9: Carer | AT9: ID | AU9: count "agree" | AV9: count "disagree" | AW9: n items | AX9: total score/pseudo | AY9: rounded | AZ9: 0-100 conversion | BA9: 70% item resp? | BB9: valid raw score | BC9: valid conversion | BE9: ID | BF9: count "agree" | BG9: count "disagree" | BH9: n items | BI9: total score/pseudo | BJ9: rounded | BK9: 0-100 conversion | BL9: 70% item resp? | BM9: valid raw score | BN9: valid conversion | BP9: ID | BQ9: count "agree" | BR9: count "disagree" | BS9: n items | BT9: total score/pseudo | BU9: rounded | BV9: 0-100 conversion | BW9: 70% item resp? | BX9: valid raw score | BY9: valid conversion
B10: ='First Assessment'!B10 -> John Smith | C10: ='First Assessment'!C10 -> 1 | D10: Agree | E10: Agree | F10: Agree | G10: Agree | H10: Agree | I10: Agree | J10: Agree | K10: Agree | L10: Agree | M10: Agree | N10: Agree | O10: Agree | P10: Agree | Q10: Agree | R10: Agree | S10: Agree | T10: Agree | U10: Agree | W10: Agree | X10: Agree | Y10: Agree | Z10: Agree | AA10: Agree | AB10: Agree | AC10: Agree | AD10: Agree | AE10: Agree | AF10: Agree | AH10: Disagree | AI10: Disagree | AJ10: Disagree | AK10: Disagree | AL10: Disagree | AM10: Disagree | AN10: Disagree | AO10: Disagree | AP10: Disagree | AQ10: Disagree | AR10: Disagree | AT10: =C10 -> 1 | AU10: =COUNTIF(D10:U10,"agree") -> 18 | AV10: =COUNTIF(D10:U10,"disagree") -> 0 | AW10: =AU10+AV10 -> 18 | AX10: =(AU10/AW10)*18 -> 18 | AY10: =ROUND(AX10,0) -> 18 | AZ10: =VLOOKUP(AY10,Sheet2!$D$3:$E$21,2) -> 100 | BA10: =IF(AND(AW10>=13,AW10<=18), "valid", "invalid") -> valid | BB10: =IF(BA10="valid",AY10,$BA$7) -> 18 | BC10: =IF(BA10="valid",AZ10,$BA$7) -> 100 | BE10: =C10 -> 1 | BF10: =COUNTIF(W10:AF10,"agree") -> 10 | BG10: =COUNTIF(W10:AF10,"disagree") -> 0 | BH10: =BF10+BG10 -> 10 | BI10: =(BF10/BH10)*10 -> 10 | BJ10: =ROUND(BI10,0) -> 10 | BK10: =VLOOKUP(BJ10,Sheet2!$G$3:$H$13,2) -> 100 | BL10: =IF(AND(BH10>=7,BH10<=10), "valid", "invalid") -> valid | BM10: =IF(BL10="valid",BJ10,$BA$7) -> 10 | BN10: =IF(BL10="valid",BK10,$BA$7) -> 100 | BP10: =C10 -> 1 | BQ10: =COUNTIF(AH10:AR10,"agree") -> 0 | BR10: =COUNTIF(AH10:AR10,"disagree") -> 11 | BS10: =BQ10+BR10 -> 11 | BT10: =(BR10/BS10)*11 -> 11 | BU10: =ROUND(BT10,0) -> 11 | BV10: =VLOOKUP(BU10,Sheet2!$J$3:$K$14,2) -> 100 | BW10: =IF(AND(BS10>=8,BS10<=11), "valid", "invalid") -> valid | BX10: =IF(BW10="valid",BU10,$BA$7) -> 11 | BY10: =IF(BW10="valid",BV10,$BA$7) -> 100
B11: ='First Assessment'!B11 -> 0 | C11: ='First Assessment'!C11 -> 2 | D11: Disagree | E11: Agree | F11: Agree | G11: Agree | H11: Agree | I11: Agree | J11: Agree | K11: Agree | L11: Agree | M11: Agree | N11: Agree | O11: Agree | P11: Agree | Q11: Agree | R11: Agree | S11: Agree | T11: Agree | U11: Agree | W11: Disagree | X11: Agree | Y11: Agree | Z11: Agree | AA11: Agree | AB11: Agree | AC11: Agree | AD11: Agree | AE11: Agree | AF11: Agree | AH11: Agree | AI11: Disagree | AJ11: Disagree | AK11: Disagree | AL11: Disagree | AM11: Disagree | AN11: Disagree | AO11: Disagree | AP11: Disagree | AQ11: Disagree | AR11: Disagree | AT11: =C11 -> 2 | AU11: =COUNTIF(D11:U11,"agree") -> 17 | AV11: =COUNTIF(D11:U11,"disagree") -> 1 | AW11: =AU11+AV11 -> 18 | AX11: =(AU11/AW11)*18 -> 17 | AY11: =ROUND(AX11,0) -> 17 | AZ11: =VLOOKUP(AY11,Sheet2!$D$3:$E$21,2) -> 88 | BA11: =IF(AND(AW11>=13,AW11<=18), "valid", "invalid") -> valid | BB11: =IF(BA11="valid",AY11,$BA$7) -> 17 | BC11: =IF(BA11="valid",AZ11,$BA$7) -> 88 | BE11: =C11 -> 2 | BF11: =COUNTIF(W11:AF11,"agree") -> 9 | BG11: =COUNTIF(W11:AF11,"disagree") -> 1 | BH11: =BF11+BG11 -> 10 | BI11: =(BF11/BH11)*10 -> 9 | BJ11: =ROUND(BI11,0) -> 9 | BK11: =VLOOKUP(BJ11,Sheet2!$G$3:$H$13,2) -> 88 | BL11: =IF(AND(BH11>=7,BH11<=10), "valid", "invalid") -> valid | BM11: =IF(BL11="valid",BJ11,$BA$7) -> 9 | BN11: =IF(BL11="valid",BK11,$BA$7) -> 88 | BP11: =C11 -> 2 | BQ11: =COUNTIF(AH11:AR11,"agree") -> 1 | BR11: =COUNTIF(AH11:AR11,"disagree") -> 10 | BS11: =BQ11+BR11 -> 11 | BT11: =(BR11/BS11)*11 -> 10 | BU11: =ROUND(BT11,0) -> 10 | BV11: =VLOOKUP(BU11,Sheet2!$J$3:$K$14,2) -> 85 | BW11: =IF(AND(BS11>=8,BS11<=11), "valid", "invalid") -> valid | BX11: =IF(BW11="valid",BU11,$BA$7) -> 10 | BY11: =IF(BW11="valid",BV11,$BA$7) -> 85
B12: ='First Assessment'!B12 -> 0 | C12: ='First Assessment'!C12 -> 3 | D12: Disagree | E12: Disagree | F12: Agree | G12: Agree | H12: Agree | I12: Agree | J12: Agree | K12: Agree | L12: Agree | M12: Agree | N12: Agree | O12: Agree | P12: Agree | Q12: Agree | R12: Agree | S12: Agree | T12: Agree | U12: Agree | W12: Disagree | X12: Disagree | Y12: Agree | Z12: Agree | AA12: Agree | AB12: Agree | AC12: Agree | AD12: Agree | AE12: Agree | AF12: Agree | AH12: Agree | AI12: Agree | AJ12: Disagree | AK12: Disagree | AL12: Disagree | AM12: Disagree | AN12: Disagree | AO12: Disagree | AP12: Disagree | AQ12: Disagree | AR12: Disagree | AT12: =C12 -> 3 | AU12: =COUNTIF(D12:U12,"agree") -> 16 | AV12: =COUNTIF(D12:U12,"disagree") -> 2 | AW12: =AU12+AV12 -> 18 | AX12: =(AU12/AW12)*18 -> 16 | AY12: =ROUND(AX12,0) -> 16 | AZ12: =VLOOKUP(AY12,Sheet2!$D$3:$E$21,2) -> 79 | BA12: =IF(AND(AW12>=13,AW12<=18), "valid", "invalid") -> valid | BB12: =IF(BA12="valid",AY12,$BA$7) -> 16 | BC12: =IF(BA12="valid",AZ12,$BA$7) -> 79 | BE12: =C12 -> 3 | BF12: =COUNTIF(W12:AF12,"agree") -> 8 | BG12: =COUNTIF(W12:AF12,"disagree") -> 2 | BH12: =BF12+BG12 -> 10 | BI12: =(BF12/BH12)*10 -> 8 | BJ12: =ROUND(BI12,0) -> 8 | BK12: =VLOOKUP(BJ12,Sheet2!$G$3:$H$13,2) -> 78 | BL12: =IF(AND(BH12>=7,BH12<=10), "valid", "invalid") -> valid | BM12: =IF(BL12="valid",BJ12,$BA$7) -> 8 | BN12: =IF(BL12="valid",BK12,$BA$7) -> 78 | BP12: =C12 -> 3 | BQ12: =COUNTIF(AH12:AR12,"agree") -> 2 | BR12: =COUNTIF(AH12:AR12,"disagree") -> 9 | BS12: =BQ12+BR12 -> 11 | BT12: =(BR12/BS12)*11 -> 9 | BU12: =ROUND(BT12,0) -> 9 | BV12: =VLOOKUP(BU12,Sheet2!$J$3:$K$14,2) -> 74 | BW12: =IF(AND(BS12>=8,BS12<=11), "valid", "invalid") -> valid | BX12: =IF(BW12="valid",BU12,$BA$7) -> 9 | BY12: =IF(BW12="valid",BV12,$BA$7) -> 74
B13: ='First Assessment'!B13 -> 0 | C13: ='First Assessment'!C13 -> 4 | D13: Disagree | E13: Disagree | F13: Disagree | G13: Agree | H13: Agree | I13: Agree | J13: Agree | K13: Agree | L13: Agree | M13: Agree | N13: Agree | O13: Agree | P13: Agree | Q13: Agree | R13: Agree | S13: Agree | T13: Agree | U13: Agree | W13: Disagree | X13: Disagree | Y13: Disagree | Z13: Agree | AA13: Agree | AB13: Agree | AC13: Agree | AD13: Agree | AE13: Agree | AF13: Agree | AH13: Agree | AI13: Agree | AJ13: Agree | AK13: Disagree | AL13: Disagree | AM13: Disagree | AN13: Disagree | AO13: Disagree | AP13: Disagree | AQ13: Disagree | AR13: Disagree | AT13: =C13 -> 4 | AU13: =COUNTIF(D13:U13,"agree") -> 15 | AV13: =COUNTIF(D13:U13,"disagree") -> 3 | AW13: =AU13+AV13 -> 18 | AX13: =(AU13/AW13)*18 -> 15 | AY13: =ROUND(AX13,0) -> 15 | AZ13: =VLOOKUP(AY13,Sheet2!$D$3:$E$21,2) -> 73 | BA13: =IF(AND(AW13>=13,AW13<=18), "valid", "invalid") -> valid | BB13: =IF(BA13="valid",AY13,$BA$7) -> 15 | BC13: =IF(BA13="valid",AZ13,$BA$7) -> 73 | BE13: =C13 -> 4 | BF13: =COUNTIF(W13:AF13,"agree") -> 7 | BG13: =COUNTIF(W13:AF13,"disagree") -> 3 | BH13: =BF13+BG13 -> 10 | BI13: =(BF13/BH13)*10 -> 7 | BJ13: =ROUND(BI13,0) -> 7 | BK13: =VLOOKUP(BJ13,Sheet2!$G$3:$H$13,2) -> 70 | BL13: =IF(AND(BH13>=7,BH13<=10), "valid", "invalid") -> valid | BM13: =IF(BL13="valid",BJ13,$BA$7) -> 7 | BN13: =IF(BL13="valid",BK13,$BA$7) -> 70 | BP13: =C13 -> 4 | BQ13: =COUNTIF(AH13:AR13,"agree") -> 3 | BR13: =COUNTIF(AH13:AR13,"disagree") -> 8 | BS13: =BQ13+BR13 -> 11 | BT13: =(BR13/BS13)*11 -> 8 | BU13: =ROUND(BT13,0) -> 8 | BV13: =VLOOKUP(BU13,Sheet2!$J$3:$K$14,2) -> 65 | BW13: =IF(AND(BS13>=8,BS13<=11), "valid", "invalid") -> valid | BX13: =IF(BW13="valid",BU13,$BA$7) -> 8 | BY13: =IF(BW13="valid",BV13,$BA$7) -> 65
B14: ='First Assessment'!B14 -> 0 | C14: ='First Assessment'!C14 -> 5 | D14: Disagree | E14: Disagree | F14: Disagree | G14: Disagree | H14: Agree | I14: Agree | J14: Agree | K14: Agree | L14: Agree | M14: Agree | N14: Agree | O14: Agree | P14: Agree | Q14: Agree | R14: Agree | S14: Agree | T14: Agree | U14: Agree | W14: Disagree | X14: Disagree | Y14: Disagree | Z14: Disagree | AA14: Agree | AB14: Agree | AC14: Agree | AD14: Agree | AE14: Agree | AF14: Agree | AH14: Agree | AI14: Agree | AJ14: Agree | AK14: Agree | AL14: Disagree | AM14: Disagree | AN14: Disagree | AO14: Disagree | AP14: Disagree | AQ14: Disagree | AR14: Disagree | AT14: =C14 -> 5 | AU14: =COUNTIF(D14:U14,"agree") -> 14 | AV14: =COUNTIF(D14:U14,"disagree") -> 4 | AW14: =AU14+AV14 -> 18 | AX14: =(AU14/AW14)*18 -> 14 | AY14: =ROUND(AX14,0) -> 14 | AZ14: =VLOOKUP(AY14,Sheet2!$D$3:$E$21,2) -> 68 | BA14: =IF(AND(AW14>=13,AW14<=18), "valid", "invalid") -> valid | BB14: =IF(BA14="valid",AY14,$BA$7) -> 14 | BC14: =IF(BA14="valid",AZ14,$BA$7) -> 68 | BE14: =C14 -> 5 | BF14: =COUNTIF(W14:AF14,"agree") -> 6 | BG14: =COUNTIF(W14:AF14,"disagree") -> 4 | BH14: =BF14+BG14 -> 10 | BI14: =(BF14/BH14)*10 -> 6 | BJ14: =ROUND(BI14,0) -> 6 | BK14: =VLOOKUP(BJ14,Sheet2!$G$3:$H$13,2) -> 63 | BL14: =IF(AND(BH14>=7,BH14<=10), "valid", "invalid") -> valid | BM14: =IF(BL14="valid",BJ14,$BA$7) -> 6 | BN14: =IF(BL14="valid",BK14,$BA$7) -> 63 | BP14: =C14 -> 5 | BQ14: =COUNTIF(AH14:AR14,"agree") -> 4 | BR14: =COUNTIF(AH14:AR14,"disagree") -> 7 | BS14: =BQ14+BR14 -> 11 | BT14: =(BR14/BS14)*11 -> 7 | BU14: =ROUND(BT14,0) -> 7 | BV14: =VLOOKUP(BU14,Sheet2!$J$3:$K$14,2) -> 58 | BW14: =IF(AND(BS14>=8,BS14<=11), "valid", "invalid") -> valid | BX14: =IF(BW14="valid",BU14,$BA$7) -> 7 | BY14: =IF(BW14="valid",BV14,$BA$7) -> 58
B15: ='First Assessment'!B15 -> Betty Jones | C15: ='First Assessment'!C15 -> 6 | D15: Disagree | E15: Disagree | F15: Disagree | G15: Disagree | H15: Disagree | I15: Agree | J15: Agree | K15: Agree | L15: Agree | M15: Agree | N15: Agree | O15: Agree | P15: Agree | Q15: Agree | R15: Agree | S15: Agree | T15: Agree | U15: Agree | W15: Disagree | X15: Disagree | Y15: Disagree | Z15: Disagree | AA15: Disagree | AB15: Agree | AC15: Agree | AD15: Agree | AE15: Agree | AF15: Agree | AH15: Agree | AI15: Agree | AJ15: Agree | AK15: Agree | AL15: Agree | AM15: Disagree | AN15: Disagree | AO15: Disagree | AP15: Disagree | AQ15: Disagree | AR15: Disagree | AT15: =C15 -> 6 | AU15: =COUNTIF(D15:U15,"agree") -> 13 | AV15: =COUNTIF(D15:U15,"disagree") -> 5 | AW15: =AU15+AV15 -> 18 | AX15: =(AU15/AW15)*18 -> 13 | AY15: =ROUND(AX15,0) -> 13 | AZ15: =VLOOKUP(AY15,Sheet2!$D$3:$E$21,2) -> 64 | BA15: =IF(AND(AW15>=13,AW15<=18), "valid", "invalid") -> valid | BB15: =IF(BA15="valid",AY15,$BA$7) -> 13 | BC15: =IF(BA15="valid",AZ15,$BA$7) -> 64 | BE15: =C15 -> 6 | BF15: =COUNTIF(W15:AF15,"agree") -> 5 | BG15: =COUNTIF(W15:AF15,"disagree") -> 5 | BH15: =BF15+BG15 -> 10 | BI15: =(BF15/BH15)*10 -> 5 | BJ15: =ROUND(BI15,0) -> 5 | BK15: =VLOOKUP(BJ15,Sheet2!$G$3:$H$13,2) -> 56 | BL15: =IF(AND(BH15>=7,BH15<=10), "valid", "invalid") -> valid | BM15: =IF(BL15="valid",BJ15,$BA$7) -> 5 | BN15: =IF(BL15="valid",BK15,$BA$7) -> 56 | BP15: =C15 -> 6 | BQ15: =COUNTIF(AH15:AR15,"agree") -> 5 | BR15: =COUNTIF(AH15:AR15,"disagree") -> 6 | BS15: =BQ15+BR15 -> 11 | BT15: =(BR15/BS15)*11 -> 6 | BU15: =ROUND(BT15,0) -> 6 | BV15: =VLOOKUP(BU15,Sheet2!$J$3:$K$14,2) -> 52 | BW15: =IF(AND(BS15>=8,BS15<=11), "valid", "invalid") -> valid | BX15: =IF(BW15="valid",BU15,$BA$7) -> 6 | BY15: =IF(BW15="valid",BV15,$BA$7) -> 52
B16: ='First Assessment'!B16 -> 0 | C16: ='First Assessment'!C16 -> 7 | D16: Disagree | E16: Disagree | F16: Disagree | G16: Disagree | H16: Disagree | I16: Disagree | J16: Agree | K16: Agree | L16: Agree | M16: Agree | N16: Agree | O16: Agree | P16: Agree | Q16: Agree | R16: Agree | S16: Agree | T16: Agree | U16: Agree | W16: Disagree | X16: Disagree | Y16: Disagree | Z16: Disagree | AA16: Disagree | AB16: Disagree | AC16: Agree | AD16: Agree | AE16: Agree | AF16: Agree | AH16: Agree | AI16: Agree | AJ16: Agree | AK16: Agree | AL16: Agree | AM16: Agree | AN16: Disagree | AO16: Disagree | AP16: Disagree | AQ16: Disagree | AR16: Disagree | AT16: =C16 -> 7 | AU16: =COUNTIF(D16:U16,"agree") -> 12 | AV16: =COUNTIF(D16:U16,"disagree") -> 6 | AW16: =AU16+AV16 -> 18 | AX16: =(AU16/AW16)*18 -> 12 | AY16: =ROUND(AX16,0) -> 12 | AZ16: =VLOOKUP(AY16,Sheet2!$D$3:$E$21,2) -> 60 | BA16: =IF(AND(AW16>=13,AW16<=18), "valid", "invalid") -> valid | BB16: =IF(BA16="valid",AY16,$BA$7) -> 12 | BC16: =IF(BA16="valid",AZ16,$BA$7) -> 60 | BE16: =C16 -> 7 | BF16: =COUNTIF(W16:AF16,"agree") -> 4 | BG16: =COUNTIF(W16:AF16,"disagree") -> 6 | BH16: =BF16+BG16 -> 10 | BI16: =(BF16/BH16)*10 -> 4 | BJ16: =ROUND(BI16,0) -> 4 | BK16: =VLOOKUP(BJ16,Sheet2!$G$3:$H$13,2) -> 49 | BL16: =IF(AND(BH16>=7,BH16<=10), "valid", "invalid") -> valid | BM16: =IF(BL16="valid",BJ16,$BA$7) -> 4 | BN16: =IF(BL16="valid",BK16,$BA$7) -> 49 | BP16: =C16 -> 7 | BQ16: =COUNTIF(AH16:AR16,"agree") -> 6 | BR16: =COUNTIF(AH16:AR16,"disagree") -> 5 | BS16: =BQ16+BR16 -> 11 | BT16: =(BR16/BS16)*11 -> 5 | BU16: =ROUND(BT16,0) -> 5 | BV16: =VLOOKUP(BU16,Sheet2!$J$3:$K$14,2) -> 45 | BW16: =IF(AND(BS16>=8,BS16<=11), "valid", "invalid") -> valid | BX16: =IF(BW16="valid",BU16,$BA$7) -> 5 | BY16: =IF(BW16="valid",BV16,$BA$7) -> 45
B17: ='First Assessment'!B17 -> 0 | C17: ='First Assessment'!C17 -> 8 | D17: Disagree | E17: Disagree | F17: Disagree | G17: Disagree | H17: Disagree | I17: Disagree | J17: Disagree | K17: Agree | L17: Agree | M17: Agree | N17: Agree | O17: Agree | P17: Agree | Q17: Agree | R17: Agree | S17: Agree | T17: Agree | U17: Agree | W17: Disagree | X17: Disagree | Y17: Disagree | Z17: Disagree | AA17: Disagree | AB17: Disagree | AC17: Disagree | AD17: Agree | AE17: Agree | AF17: Agree | AH17: Agree | AI17: Agree | AJ17: Agree | AK17: Agree | AL17: Agree | AM17: Agree | AN17: Agree | AO17: Disagree | AP17: Disagree | AQ17: Disagree | AR17: Disagree | AT17: =C17 -> 8 | AU17: =COUNTIF(D17:U17,"agree") -> 11 | AV17: =COUNTIF(D17:U17,"disagree") -> 7 | AW17: =AU17+AV17 -> 18 | AX17: =(AU17/AW17)*18 -> 11 | AY17: =ROUND(AX17,0) -> 11 | AZ17: =VLOOKUP(AY17,Sheet2!$D$3:$E$21,2) -> 56 | BA17: =IF(AND(AW17>=13,AW17<=18), "valid", "invalid") -> valid | BB17: =IF(BA17="valid",AY17,$BA$7) -> 11 | BC17: =IF(BA17="valid",AZ17,$BA$7) -> 56 | BE17: =C17 -> 8 | BF17: =COUNTIF(W17:AF17,"agree") -> 3 | BG17: =COUNTIF(W17:AF17,"disagree") -> 7 | BH17: =BF17+BG17 -> 10 | BI17: =(BF17/BH17)*10 -> 3 | BJ17: =ROUND(BI17,0) -> 3 | BK17: =VLOOKUP(BJ17,Sheet2!$G$3:$H$13,2) -> 41 | BL17: =IF(AND(BH17>=7,BH17<=10), "valid", "invalid") -> valid | BM17: =IF(BL17="valid",BJ17,$BA$7) -> 3 | BN17: =IF(BL17="valid",BK17,$BA$7) -> 41 | BP17: =C17 -> 8 | BQ17: =COUNTIF(AH17:AR17,"agree") -> 7 | BR17: =COUNTIF(AH17:AR17,"disagree") -> 4 | BS17: =BQ17+BR17 -> 11 | BT17: =(BR17/BS17)*11 -> 4 | BU17: =ROUND(BT17,0) -> 4 | BV17: =VLOOKUP(BU17,Sheet2!$J$3:$K$14,2) -> 39 | BW17: =IF(AND(BS17>=8,BS17<=11), "valid", "invalid") -> valid | BX17: =IF(BW17="valid",BU17,$BA$7) -> 4 | BY17: =IF(BW17="valid",BV17,$BA$7) -> 39
B18: ='First Assessment'!B18 -> 0 | C18: ='First Assessment'!C18 -> 9 | D18: Disagree | E18: Disagree | F18: Disagree | G18: Disagree | H18: Disagree | I18: Disagree | J18: Disagree | K18: Disagree | L18: Agree | M18: Agree | N18: Agree | O18: Agree | P18: Agree | Q18: Agree | R18: Agree | S18: Agree | T18: Agree | U18: Agree | W18: Disagree | X18: Disagree | Y18: Disagree | Z18: Disagree | AA18: Disagree | AB18: Disagree | AC18: Disagree | AD18: Disagree | AE18: Agree | AF18: Agree | AH18: Agree | AI18: Agree | AJ18: Agree | AK18: Agree | AL18: Agree | AM18: Agree | AN18: Agree | AO18: Agree | AP18: Disagree | AQ18: Disagree | AR18: Disagree | AT18: =C18 -> 9 | AU18: =COUNTIF(D18:U18,"agree") -> 10 | AV18: =COUNTIF(D18:U18,"disagree") -> 8 | AW18: =AU18+AV18 -> 18 | AX18: =(AU18/AW18)*18 -> 10 | AY18: =ROUND(AX18,0) -> 10 | AZ18: =VLOOKUP(AY18,Sheet2!$D$3:$E$21,2) -> 53 | BA18: =IF(AND(AW18>=13,AW18<=18), "valid", "invalid") -> valid | BB18: =IF(BA18="valid",AY18,$BA$7) -> 10 | BC18: =IF(BA18="valid",AZ18,$BA$7) -> 53 | BE18: =C18 -> 9 | BF18: =COUNTIF(W18:AF18,"agree") -> 2 | BG18: =COUNTIF(W18:AF18,"disagree") -> 8 | BH18: =BF18+BG18 -> 10 | BI18: =(BF18/BH18)*10 -> 2 | BJ18: =ROUND(BI18,0) -> 2 | BK18: =VLOOKUP(BJ18,Sheet2!$G$3:$H$13,2) -> 32 | BL18: =IF(AND(BH18>=7,BH18<=10), "valid", "invalid") -> valid | BM18: =IF(BL18="valid",BJ18,$BA$7) -> 2 | BN18: =IF(BL18="valid",BK18,$BA$7) -> 32 | BP18: =C18 -> 9 | BQ18: =COUNTIF(AH18:AR18,"agree") -> 8 | BR18: =COUNTIF(AH18:AR18,"disagree") -> 3 | BS18: =BQ18+BR18 -> 11 | BT18: =(BR18/BS18)*11 -> 3 | BU18: =ROUND(BT18,0) -> 3 | BV18: =VLOOKUP(BU18,Sheet2!$J$3:$K$14,2) -> 32 | BW18: =IF(AND(BS18>=8,BS18<=11), "valid", "invalid") -> valid | BX18: =IF(BW18="valid",BU18,$BA$7) -> 3 | BY18: =IF(BW18="valid",BV18,$BA$7) -> 32
B19: ='First Assessment'!B19 -> 0 | C19: ='First Assessment'!C19 -> 10 | D19: Disagree | E19: Disagree | F19: Disagree | G19: Disagree | H19: Disagree | I19: Disagree | J19: Disagree | K19: Disagree | L19: Disagree | M19: Agree | N19: Agree | O19: Agree | P19: Agree | Q19: Agree | R19: Agree | S19: Agree | T19: Agree | U19: Agree | W19: Disagree | X19: Disagree | Y19: Disagree | Z19: Disagree | AA19: Disagree | AB19: Disagree | AC19: Disagree | AD19: Disagree | AE19: Disagree | AF19: Agree | AH19: Agree | AI19: Agree | AJ19: Agree | AK19: Agree | AL19: Agree | AM19: Agree | AN19: Agree | AO19: Agree | AP19: Agree | AQ19: Disagree | AR19: Disagree | AT19: =C19 -> 10 | AU19: =COUNTIF(D19:U19,"agree") -> 9 | AV19: =COUNTIF(D19:U19,"disagree") -> 9 | AW19: =AU19+AV19 -> 18 | AX19: =(AU19/AW19)*18 -> 9 | AY19: =ROUND(AX19,0) -> 9 | AZ19: =VLOOKUP(AY19,Sheet2!$D$3:$E$21,2) -> 49 | BA19: =IF(AND(AW19>=13,AW19<=18), "valid", "invalid") -> valid | BB19: =IF(BA19="valid",AY19,$BA$7) -> 9 | BC19: =IF(BA19="valid",AZ19,$BA$7) -> 49 | BE19: =C19 -> 10 | BF19: =COUNTIF(W19:AF19,"agree") -> 1 | BG19: =COUNTIF(W19:AF19,"disagree") -> 9 | BH19: =BF19+BG19 -> 10 | BI19: =(BF19/BH19)*10 -> 1 | BJ19: =ROUND(BI19,0) -> 1 | BK19: =VLOOKUP(BJ19,Sheet2!$G$3:$H$13,2) -> 19 | BL19: =IF(AND(BH19>=7,BH19<=10), "valid", "invalid") -> valid | BM19: =IF(BL19="valid",BJ19,$BA$7) -> 1 | BN19: =IF(BL19="valid",BK19,$BA$7) -> 19 | BP19: =C19 -> 10 | BQ19: =COUNTIF(AH19:AR19,"agree") -> 9 | BR19: =COUNTIF(AH19:AR19,"disagree") -> 2 | BS19: =BQ19+BR19 -> 11 | BT19: =(BR19/BS19)*11 -> 2 | BU19: =ROUND(BT19,0) -> 2 | BV19: =VLOOKUP(BU19,Sheet2!$J$3:$K$14,2) -> 24 | BW19: =IF(AND(BS19>=8,BS19<=11), "valid", "invalid") -> valid | BX19: =IF(BW19="valid",BU19,$BA$7) -> 2 | BY19: =IF(BW19="valid",BV19,$BA$7) -> 24
B20: ='First Assessment'!B20 -> 0 | C20: ='First Assessment'!C20 -> 11 | D20: Disagree | E20: Disagree | F20: Disagree | G20: Disagree | H20: Disagree | I20: Disagree | J20: Disagree | K20: Disagree | L20: Disagree | M20: Disagree | N20: Agree | O20: Agree | P20: Agree | Q20: Agree | R20: Agree | S20: Agree | T20: Agree | U20: Agree | W20: Disagree | X20: Disagree | Y20: Disagree | Z20: Disagree | AA20: Disagree | AB20: Disagree | AC20: Disagree | AD20: Disagree | AE20: Disagree | AF20: Disagree | AH20: Agree | AI20: Agree | AJ20: Agree | AK20: Agree | AL20: Agree | AM20: Agree | AN20: Agree | AO20: Agree | AP20: Agree | AQ20: Agree | AR20: Disagree | AT20: =C20 -> 11 | AU20: =COUNTIF(D20:U20,"agree") -> 8 | AV20: =COUNTIF(D20:U20,"disagree") -> 10 | AW20: =AU20+AV20 -> 18 | AX20: =(AU20/AW20)*18 -> 8 | AY20: =ROUND(AX20,0) -> 8 | AZ20: =VLOOKUP(AY20,Sheet2!$D$3:$E$21,2) -> 46 | BA20: =IF(AND(AW20>=13,AW20<=18), "valid", "invalid") -> valid | BB20: =IF(BA20="valid",AY20,$BA$7) -> 8 | BC20: =IF(BA20="valid",AZ20,$BA$7) -> 46 | BE20: =C20 -> 11 | BF20: =COUNTIF(W20:AF20,"agree") -> 0 | BG20: =COUNTIF(W20:AF20,"disagree") -> 10 | BH20: =BF20+BG20 -> 10 | BI20: =(BF20/BH20)*10 -> 0 | BJ20: =ROUND(BI20,0) -> 0 | BK20: =VLOOKUP(BJ20,Sheet2!$G$3:$H$13,2) -> 0 | BL20: =IF(AND(BH20>=7,BH20<=10), "valid", "invalid") -> valid | BM20: =IF(BL20="valid",BJ20,$BA$7) -> 0 | BN20: =IF(BL20="valid",BK20,$BA$7) -> 0 | BP20: =C20 -> 11 | BQ20: =COUNTIF(AH20:AR20,"agree") -> 10 | BR20: =COUNTIF(AH20:AR20,"disagree") -> 1 | BS20: =BQ20+BR20 -> 11 | BT20: =(BR20/BS20)*11 -> 1 | BU20: =ROUND(BT20,0) -> 1 | BV20: =VLOOKUP(BU20,Sheet2!$J$3:$K$14,2) -> 14 | BW20: =IF(AND(BS20>=8,BS20<=11), "valid", "invalid") -> valid | BX20: =IF(BW20="valid",BU20,$BA$7) -> 1 | BY20: =IF(BW20="valid",BV20,$BA$7) -> 14
B21: ='First Assessment'!B21 -> 0 | C21: ='First Assessment'!C21 -> 12 | D21: Disagree | E21: Disagree | F21: Disagree | G21: Disagree | H21: Disagree | I21: Disagree | J21: Disagree | K21: Disagree | L21: Disagree | M21: Disagree | N21: Disagree | O21: Agree | P21: Agree | Q21: Agree | R21: Agree | S21: Agree | T21: Agree | U21: Agree | W21: Disagree | X21: Disagree | Y21: Disagree | Z21: Disagree | AA21: Disagree | AB21: Disagree | AC21: Disagree | AD21: Disagree | AE21: Disagree | AF21: Disagree | AH21: Agree | AI21: Agree | AJ21: Agree | AK21: Agree | AL21: Agree | AM21: Agree | AN21: Agree | AO21: Agree | AP21: Agree | AQ21: Agree | AR21: Agree | AT21: =C21 -> 12 | AU21: =COUNTIF(D21:U21,"agree") -> 7 | AV21: =COUNTIF(D21:U21,"disagree") -> 11 | AW21: =AU21+AV21 -> 18 | AX21: =(AU21/AW21)*18 -> 7 | AY21: =ROUND(AX21,0) -> 7 | AZ21: =VLOOKUP(AY21,Sheet2!$D$3:$E$21,2) -> 42 | BA21: =IF(AND(AW21>=13,AW21<=18), "valid", "invalid") -> valid | BB21: =IF(BA21="valid",AY21,$BA$7) -> 7 | BC21: =IF(BA21="valid",AZ21,$BA$7) -> 42 | BE21: =C21 -> 12 | BF21: =COUNTIF(W21:AF21,"agree") -> 0 | BG21: =COUNTIF(W21:AF21,"disagree") -> 10 | BH21: =BF21+BG21 -> 10 | BI21: =(BF21/BH21)*10 -> 0 | BJ21: =ROUND(BI21,0) -> 0 | BK21: =VLOOKUP(BJ21,Sheet2!$G$3:$H$13,2) -> 0 | BL21: =IF(AND(BH21>=7,BH21<=10), "valid", "invalid") -> valid | BM21: =IF(BL21="valid",BJ21,$BA$7) -> 0 | BN21: =IF(BL21="valid",BK21,$BA$7) -> 0 | BP21: =C21 -> 12 | BQ21: =COUNTIF(AH21:AR21,"agree") -> 11 | BR21: =COUNTIF(AH21:AR21,"disagree") -> 0 | BS21: =BQ21+BR21 -> 11 | BT21: =(BR21/BS21)*11 -> 0 | BU21: =ROUND(BT21,0) -> 0 | BV21: =VLOOKUP(BU21,Sheet2!$J$3:$K$14,2) -> 0 | BW21: =IF(AND(BS21>=8,BS21<=11), "valid", "invalid") -> valid | BX21: =IF(BW21="valid",BU21,$BA$7) -> 0 | BY21: =IF(BW21="valid",BV21,$BA$7) -> 0
B22: ='First Assessment'!B22 -> 0 | C22: ='First Assessment'!C22 -> 13 | D22: Disagree | E22: Disagree | F22: Disagree | G22: Disagree | H22: Disagree | I22: Disagree | J22: Disagree | K22: Disagree | L22: Disagree | M22: Disagree | N22: Disagree | O22: Disagree | P22: Agree | Q22: Agree | R22: Agree | S22: Agree | T22: Agree | U22: Agree | X22: Agree | Y22: Agree | Z22: Agree | AB22: Disagree | AC22: Disagree | AD22: Disagree | AH22: Disagree | AI22: Disagree | AJ22: Disagree | AK22: Disagree | AL22: Disagree | AM22: Disagree | AN22: Disagree | AO22: Disagree | AP22: Disagree | AQ22: Disagree | AR22: Disagree | AT22: =C22 -> 13 | AU22: =COUNTIF(D22:U22,"agree") -> 6 | AV22: =COUNTIF(D22:U22,"disagree") -> 12 | AW22: =AU22+AV22 -> 18 | AX22: =(AU22/AW22)*18 -> 6 | AY22: =ROUND(AX22,0) -> 6 | AZ22: =VLOOKUP(AY22,Sheet2!$D$3:$E$21,2) -> 38 | BA22: =IF(AND(AW22>=13,AW22<=18), "valid", "invalid") -> valid | BB22: =IF(BA22="valid",AY22,$BA$7) -> 6 | BC22: =IF(BA22="valid",AZ22,$BA$7) -> 38 | BE22: =C22 -> 13 | BF22: =COUNTIF(W22:AF22,"agree") -> 3 | BG22: =COUNTIF(W22:AF22,"disagree") -> 3 | BH22: =BF22+BG22 -> 6 | BI22: =(BF22/BH22)*10 -> 5 | BJ22: =ROUND(BI22,0) -> 5 | BK22: =VLOOKUP(BJ22,Sheet2!$G$3:$H$13,2) -> 56 | BL22: =IF(AND(BH22>=7,BH22<=10), "valid", "invalid") -> invalid | BM22: =IF(BL22="valid",BJ22,$BA$7) -> * | BN22: =IF(BL22="valid",BK22,$BA$7) -> * | BP22: =C22 -> 13 | BQ22: =COUNTIF(AH22:AR22,"agree") -> 0 | BR22: =COUNTIF(AH22:AR22,"disagree") -> 11 | BS22: =BQ22+BR22 -> 11 | BT22: =(BR22/BS22)*11 -> 11 | BU22: =ROUND(BT22,0) -> 11 | BV22: =VLOOKUP(BU22,Sheet2!$J$3:$K$14,2) -> 100 | BW22: =IF(AND(BS22>=8,BS22<=11), "valid", "invalid") -> valid | BX22: =IF(BW22="valid",BU22,$BA$7) -> 11 | BY22: =IF(BW22="valid",BV22,$BA$7) -> 100
B23: ='First Assessment'!B23 -> 0 | C23: ='First Assessment'!C23 -> 14 | D23: Disagree | E23: Disagree | F23: Disagree | G23: Disagree | H23: Disagree | I23: Disagree | J23: Disagree | K23: Disagree | L23: Disagree | M23: Disagree | N23: Disagree | O23: Disagree | P23: Disagree | Q23: Agree | R23: Agree | S23: Agree | T23: Agree | U23: Agree | AT23: =C23 -> 14 | AU23: =COUNTIF(D23:U23,"agree") -> 5 | AV23: =COUNTIF(D23:U23,"disagree") -> 13 | AW23: =AU23+AV23 -> 18 | AX23: =(AU23/AW23)*18 -> 5 | AY23: =ROUND(AX23,0) -> 5 | AZ23: =VLOOKUP(AY23,Sheet2!$D$3:$E$21,2) -> 34 | BA23: =IF(AND(AW23>=13,AW23<=18), "valid", "invalid") -> valid | BB23: =IF(BA23="valid",AY23,$BA$7) -> 5 | BC23: =IF(BA23="valid",AZ23,$BA$7) -> 34 | BE23: =C23 -> 14 | BF23: =COUNTIF(W23:AF23,"agree") -> 0 | BG23: =COUNTIF(W23:AF23,"disagree") -> 0 | BH23: =BF23+BG23 -> 0 | BI23: =(BF23/BH23)*10 -> #DIV/0! | BJ23: =ROUND(BI23,0) -> #DIV/0! | BK23: =VLOOKUP(BJ23,Sheet2!$G$3:$H$13,2) -> #DIV/0! | BL23: =IF(AND(BH23>=7,BH23<=10), "valid", "invalid") -> invalid | BM23: =IF(BL23="valid",BJ23,$BA$7) -> * | BN23: =IF(BL23="valid",BK23,$BA$7) -> * | BP23: =C23 -> 14 | BQ23: =COUNTIF(AH23:AR23,"agree") -> 0 | BR23: =COUNTIF(AH23:AR23,"disagree") -> 0 | BS23: =BQ23+BR23 -> 0 | BT23: =(BR23/BS23)*11 -> #DIV/0! | BU23: =ROUND(BT23,0) -> #DIV/0! | BV23: =VLOOKUP(BU23,Sheet2!$J$3:$K$14,2) -> #DIV/0! | BW23: =IF(AND(BS23>=8,BS23<=11), "valid", "invalid") -> invalid | BX23: =IF(BW23="valid",BU23,$BA$7) -> * | BY23: =IF(BW23="valid",BV23,$BA$7) -> *
B24: ='First Assessment'!B24 -> 0 | C24: ='First Assessment'!C24 -> 15 | D24: Disagree | E24: Disagree | F24: Disagree | G24: Disagree | H24: Disagree | I24: Disagree | J24: Disagree | K24: Disagree | L24: Disagree | M24: Disagree | N24: Disagree | O24: Disagree | P24: Disagree | Q24: Disagree | R24: Agree | S24: Agree | T24: Agree | U24: Agree | AT24: =C24 -> 15 | AU24: =COUNTIF(D24:U24,"agree") -> 4 | AV24: =COUNTIF(D24:U24,"disagree") -> 14 | AW24: =AU24+AV24 -> 18 | AX24: =(AU24/AW24)*18 -> 4 | AY24: =ROUND(AX24,0) -> 4 | AZ24: =VLOOKUP(AY24,Sheet2!$D$3:$E$21,2) -> 30 | BA24: =IF(AND(AW24>=13,AW24<=18), "valid", "invalid") -> valid | BB24: =IF(BA24="valid",AY24,$BA$7) -> 4 | BC24: =IF(BA24="valid",AZ24,$BA$7) -> 30 | BE24: =C24 -> 15 | BF24: =COUNTIF(W24:AF24,"agree") -> 0 | BG24: =COUNTIF(W24:AF24,"disagree") -> 0 | BH24: =BF24+BG24 -> 0 | BI24: =(BF24/BH24)*10 -> #DIV/0! | BJ24: =ROUND(BI24,0) -> #DIV/0! | BK24: =VLOOKUP(BJ24,Sheet2!$G$3:$H$13,2) -> #DIV/0! | BL24: =IF(AND(BH24>=7,BH24<=10), "valid", "invalid") -> invalid | BM24: =IF(BL24="valid",BJ24,$BA$7) -> * | BN24: =IF(BL24="valid",BK24,$BA$7) -> * | BP24: =C24 -> 15 | BQ24: =COUNTIF(AH24:AR24,"agree") -> 0 | BR24: =COUNTIF(AH24:AR24,"disagree") -> 0 | BS24: =BQ24+BR24 -> 0 | BT24: =(BR24/BS24)*11 -> #DIV/0! | BU24: =ROUND(BT24,0) -> #DIV/0! | BV24: =VLOOKUP(BU24,Sheet2!$J$3:$K$14,2) -> #DIV/0! | BW24: =IF(AND(BS24>=8,BS24<=11), "valid", "invalid") -> invalid | BX24: =IF(BW24="valid",BU24,$BA$7) -> * | BY24: =IF(BW24="valid",BV24,$BA$7) -> *
B25: ='First Assessment'!B25 -> 0 | C25: ='First Assessment'!C25 -> 16 | D25: Disagree | E25: Disagree | F25: Disagree | G25: Disagree | H25: Disagree | I25: Disagree | J25: Disagree | K25: Disagree | L25: Disagree | M25: Disagree | N25: Disagree | O25: Disagree | P25: Disagree | Q25: Disagree | R25: Disagree | S25: Agree | T25: Agree | U25: Agree | AT25: =C25 -> 16 | AU25: =COUNTIF(D25:U25,"agree") -> 3 | AV25: =COUNTIF(D25:U25,"disagree") -> 15 | AW25: =AU25+AV25 -> 18 | AX25: =(AU25/AW25)*18 -> 3 | AY25: =ROUND(AX25,0) -> 3 | AZ25: =VLOOKUP(AY25,Sheet2!$D$3:$E$21,2) -> 25 | BA25: =IF(AND(AW25>=13,AW25<=18), "valid", "invalid") -> valid | BB25: =IF(BA25="valid",AY25,$BA$7) -> 3 | BC25: =IF(BA25="valid",AZ25,$BA$7) -> 25 | BE25: =C25 -> 16 | BF25: =COUNTIF(W25:AF25,"agree") -> 0 | BG25: =COUNTIF(W25:AF25,"disagree") -> 0 | BH25: =BF25+BG25 -> 0 | BI25: =(BF25/BH25)*10 -> #DIV/0! | BJ25: =ROUND(BI25,0) -> #DIV/0! | BK25: =VLOOKUP(BJ25,Sheet2!$G$3:$H$13,2) -> #DIV/0! | BL25: =IF(AND(BH25>=7,BH25<=10), "valid", "invalid") -> invalid | BM25: =IF(BL25="valid",BJ25,$BA$7) -> * | BN25: =IF(BL25="valid",BK25,$BA$7) -> * | BP25: =C25 -> 16 | BQ25: =COUNTIF(AH25:AR25,"agree") -> 0 | BR25: =COUNTIF(AH25:AR25,"disagree") -> 0 | BS25: =BQ25+BR25 -> 0 | BT25: =(BR25/BS25)*11 -> #DIV/0! | BU25: =ROUND(BT25,0) -> #DIV/0! | BV25: =VLOOKUP(BU25,Sheet2!$J$3:$K$14,2) -> #DIV/0! | BW25: =IF(AND(BS25>=8,BS25<=11), "valid", "invalid") -> invalid | BX25: =IF(BW25="valid",BU25,$BA$7) -> * | BY25: =IF(BW25="valid",BV25,$BA$7) -> *
B26: ='First Assessment'!B26 -> 0 | C26: ='First Assessment'!C26 -> 17 | D26: Disagree | E26: Disagree | F26: Disagree | G26: Disagree | H26: Disagree | I26: Disagree | J26: Disagree | K26: Disagree | L26: Disagree | M26: Disagree | N26: Disagree | O26: Disagree | P26: Disagree | Q26: Disagree | R26: Disagree | S26: Disagree | T26: Agree | U26: Agree | AT26: =C26 -> 17 | AU26: =COUNTIF(D26:U26,"agree") -> 2 | AV26: =COUNTIF(D26:U26,"disagree") -> 16 | AW26: =AU26+AV26 -> 18 | AX26: =(AU26/AW26)*18 -> 2 | AY26: =ROUND(AX26,0) -> 2 | AZ26: =VLOOKUP(AY26,Sheet2!$D$3:$E$21,2) -> 19 | BA26: =IF(AND(AW26>=13,AW26<=18), "valid", "invalid") -> valid | BB26: =IF(BA26="valid",AY26,$BA$7) -> 2 | BC26: =IF(BA26="valid",AZ26,$BA$7) -> 19 | BE26: =C26 -> 17 | BF26: =COUNTIF(W26:AF26,"agree") -> 0 | BG26: =COUNTIF(W26:AF26,"disagree") -> 0 | BH26: =BF26+BG26 -> 0 | BI26: =(BF26/BH26)*10 -> #DIV/0! | BJ26: =ROUND(BI26,0) -> #DIV/0! | BK26: =VLOOKUP(BJ26,Sheet2!$G$3:$H$13,2) -> #DIV/0! | BL26: =IF(AND(BH26>=7,BH26<=10), "valid", "invalid") -> invalid | BM26: =IF(BL26="valid",BJ26,$BA$7) -> * | BN26: =IF(BL26="valid",BK26,$BA$7) -> * | BP26: =C26 -> 17 | BQ26: =COUNTIF(AH26:AR26,"agree") -> 0 | BR26: =COUNTIF(AH26:AR26,"disagree") -> 0 | BS26: =BQ26+BR26 -> 0 | BT26: =(BR26/BS26)*11 -> #DIV/0! | BU26: =ROUND(BT26,0) -> #DIV/0! | BV26: =VLOOKUP(BU26,Sheet2!$J$3:$K$14,2) -> #DIV/0! | BW26: =IF(AND(BS26>=8,BS26<=11), "valid", "invalid") -> invalid | BX26: =IF(BW26="valid",BU26,$BA$7) -> * | BY26: =IF(BW26="valid",BV26,$BA$7) -> *
B27: ='First Assessment'!B27 -> 0 | C27: ='First Assessment'!C27 -> 18 | D27: Disagree | E27: Disagree | F27: Disagree | G27: Disagree | H27: Disagree | I27: Disagree | J27: Disagree | K27: Disagree | L27: Disagree | M27: Disagree | N27: Disagree | O27: Disagree | P27: Disagree | Q27: Disagree | R27: Disagree | S27: Disagree | T27: Disagree | U27: Agree | AT27: =C27 -> 18 | AU27: =COUNTIF(D27:U27,"agree") -> 1 | AV27: =COUNTIF(D27:U27,"disagree") -> 17 | AW27: =AU27+AV27 -> 18 | AX27: =(AU27/AW27)*18 -> 1 | AY27: =ROUND(AX27,0) -> 1 | AZ27: =VLOOKUP(AY27,Sheet2!$D$3:$E$21,2) -> 11 | BA27: =IF(AND(AW27>=13,AW27<=18), "valid", "invalid") -> valid | BB27: =IF(BA27="valid",AY27,$BA$7) -> 1 | BC27: =IF(BA27="valid",AZ27,$BA$7) -> 11 | BE27: =C27 -> 18 | BF27: =COUNTIF(W27:AF27,"agree") -> 0 | BG27: =COUNTIF(W27:AF27,"disagree") -> 0 | BH27: =BF27+BG27 -> 0 | BI27: =(BF27/BH27)*10 -> #DIV/0! | BJ27: =ROUND(BI27,0) -> #DIV/0! | BK27: =VLOOKUP(BJ27,Sheet2!$G$3:$H$13,2) -> #DIV/0! | BL27: =IF(AND(BH27>=7,BH27<=10), "valid", "invalid") -> invalid | BM27: =IF(BL27="valid",BJ27,$BA$7) -> * | BN27: =IF(BL27="valid",BK27,$BA$7) -> * | BP27: =C27 -> 18 | BQ27: =COUNTIF(AH27:AR27,"agree") -> 0 | BR27: =COUNTIF(AH27:AR27,"disagree") -> 0 | BS27: =BQ27+BR27 -> 0 | BT27: =(BR27/BS27)*11 -> #DIV/0! | BU27: =ROUND(BT27,0) -> #DIV/0! | BV27: =VLOOKUP(BU27,Sheet2!$J$3:$K$14,2) -> #DIV/0! | BW27: =IF(AND(BS27>=8,BS27<=11), "valid", "invalid") -> invalid | BX27: =IF(BW27="valid",BU27,$BA$7) -> * | BY27: =IF(BW27="valid",BV27,$BA$7) -> *
B28: ='First Assessment'!B28 -> 0 | C28: ='First Assessment'!C28 -> 19 | D28: Disagree | E28: Disagree | F28: Disagree | G28: Disagree | H28: Disagree | I28: Disagree | J28: Disagree | K28: Disagree | L28: Disagree | M28: Disagree | N28: Disagree | O28: Disagree | P28: Disagree | Q28: Disagree | R28: Disagree | S28: Disagree | T28: Disagree | U28: Disagree | AT28: =C28 -> 19 | AU28: =COUNTIF(D28:U28,"agree") -> 0 | AV28: =COUNTIF(D28:U28,"disagree") -> 18 | AW28: =AU28+AV28 -> 18 | AX28: =(AU28/AW28)*18 -> 0 | AY28: =ROUND(AX28,0) -> 0 | AZ28: =VLOOKUP(AY28,Sheet2!$D$3:$E$21,2) -> 0 | BA28: =IF(AND(AW28>=13,AW28<=18), "valid", "invalid") -> valid | BB28: =IF(BA28="valid",AY28,$BA$7) -> 0 | BC28: =IF(BA28="valid",AZ28,$BA$7) -> 0 | BE28: =C28 -> 19 | BF28: =COUNTIF(W28:AF28,"agree") -> 0 | BG28: =COUNTIF(W28:AF28,"disagree") -> 0 | BH28: =BF28+BG28 -> 0 | BI28: =(BF28/BH28)*10 -> #DIV/0! | BJ28: =ROUND(BI28,0) -> #DIV/0! | BK28: =VLOOKUP(BJ28,Sheet2!$G$3:$H$13,2) -> #DIV/0! | BL28: =IF(AND(BH28>=7,BH28<=10), "valid", "invalid") -> invalid | BM28: =IF(BL28="valid",BJ28,$BA$7) -> * | BN28: =IF(BL28="valid",BK28,$BA$7) -> * | BP28: =C28 -> 19 | BQ28: =COUNTIF(AH28:AR28,"agree") -> 0 | BR28: =COUNTIF(AH28:AR28,"disagree") -> 0 | BS28: =BQ28+BR28 -> 0 | BT28: =(BR28/BS28)*11 -> #DIV/0! | BU28: =ROUND(BT28,0) -> #DIV/0! | BV28: =VLOOKUP(BU28,Sheet2!$J$3:$K$14,2) -> #DIV/0! | BW28: =IF(AND(BS28>=8,BS28<=11), "valid", "invalid") -> invalid | BX28: =IF(BW28="valid",BU28,$BA$7) -> * | BY28: =IF(BW28="valid",BV28,$BA$7) -> *
B29: ='First Assessment'!B29 -> 0 | C29: ='First Assessment'!C29 -> 20 | AT29: =C29 -> 20 | AU29: =COUNTIF(D29:U29,"agree") -> 0 | AV29: =COUNTIF(D29:U29,"disagree") -> 0 | AW29: =AU29+AV29 -> 0 | AX29: =(AU29/AW29)*18 -> #DIV/0! | AY29: =ROUND(AX29,0) -> #DIV/0! | AZ29: =VLOOKUP(AY29,Sheet2!$D$3:$E$21,2) -> #DIV/0! | BA29: =IF(AND(AW29>=13,AW29<=18), "valid", "invalid") -> invalid | BB29: =IF(BA29="valid",AY29,$BA$7) -> * | BC29: =IF(BA29="valid",AZ29,$BA$7) -> * | BE29: =C29 -> 20 | BF29: =COUNTIF(W29:AF29,"agree") -> 0 | BG29: =COUNTIF(W29:AF29,"disagree") -> 0 | BH29: =BF29+BG29 -> 0 | BI29: =(BF29/BH29)*10 -> #DIV/0! | BJ29: =ROUND(BI29,0) -> #DIV/0! | BK29: =VLOOKUP(BJ29,Sheet2!$G$3:$H$13,2) -> #DIV/0! | BL29: =IF(AND(BH29>=7,BH29<=10), "valid", "invalid") -> invalid | BM29: =IF(BL29="valid",BJ29,$BA$7) -> * | BN29: =IF(BL29="valid",BK29,$BA$7) -> * | BP29: =C29 -> 20 | BQ29: =COUNTIF(AH29:AR29,"agree") -> 0 | BR29: =COUNTIF(AH29:AR29,"disagree") -> 0 | BS29: =BQ29+BR29 -> 0 | BT29: =(BR29/BS29)*11 -> #DIV/0! | BU29: =ROUND(BT29,0) -> #DIV/0! | BV29: =VLOOKUP(BU29,Sheet2!$J$3:$K$14,2) -> #DIV/0! | BW29: =IF(AND(BS29>=8,BS29<=11), "valid", "invalid") -> invalid | BX29: =IF(BW29="valid",BU29,$BA$7) -> * | BY29: =IF(BW29="valid",BV29,$BA$7) -> *
B30: ='First Assessment'!B30 -> 0 | C30: ='First Assessment'!C30 -> 21 | AT30: =C30 -> 21 | AU30: =COUNTIF(D30:U30,"agree") -> 0 | AV30: =COUNTIF(D30:U30,"disagree") -> 0 | AW30: =AU30+AV30 -> 0 | AX30: =(AU30/AW30)*18 -> #DIV/0! | AY30: =ROUND(AX30,0) -> #DIV/0! | AZ30: =VLOOKUP(AY30,Sheet2!$D$3:$E$21,2) -> #DIV/0! | BA30: =IF(AND(AW30>=13,AW30<=18), "valid", "invalid") -> invalid | BB30: =IF(BA30="valid",AY30,$BA$7) -> * | BC30: =IF(BA30="valid",AZ30,$BA$7) -> * | BE30: =C30 -> 21 | BF30: =COUNTIF(W30:AF30,"agree") -> 0 | BG30: =COUNTIF(W30:AF30,"disagree") -> 0 | BH30: =BF30+BG30 -> 0 | BI30: =(BF30/BH30)*10 -> #DIV/0! | BJ30: =ROUND(BI30,0) -> #DIV/0! | BK30: =VLOOKUP(BJ30,Sheet2!$G$3:$H$13,2) -> #DIV/0! | BL30: =IF(AND(BH30>=7,BH30<=10), "valid", "invalid") -> invalid | BM30: =IF(BL30="valid",BJ30,$BA$7) -> * | BN30: =IF(BL30="valid",BK30,$BA$7) -> * | BP30: =C30 -> 21 | BQ30: =COUNTIF(AH30:AR30,"agree") -> 0 | BR30: =COUNTIF(AH30:AR30,"disagree") -> 0 | BS30: =BQ30+BR30 -> 0 | BT30: =(BR30/BS30)*11 -> #DIV/0! | BU30: =ROUND(BT30,0) -> #DIV/0! | BV30: =VLOOKUP(BU30,Sheet2!$J$3:$K$14,2) -> #DIV/0! | BW30: =IF(AND(BS30>=8,BS30<=11), "valid", "invalid") -> invalid | BX30: =IF(BW30="valid",BU30,$BA$7) -> * | BY30: =IF(BW30="valid",BV30,$BA$7) -> *
B31: ='First Assessment'!B31 -> 0 | C31: ='First Assessment'!C31 -> 22 | AT31: =C31 -> 22 | AU31: =COUNTIF(D31:U31,"agree") -> 0 | AV31: =COUNTIF(D31:U31,"disagree") -> 0 | AW31: =AU31+AV31 -> 0 | AX31: =(AU31/AW31)*18 -> #DIV/0! | AY31: =ROUND(AX31,0) -> #DIV/0! | AZ31: =VLOOKUP(AY31,Sheet2!$D$3:$E$21,2) -> #DIV/0! | BA31: =IF(AND(AW31>=13,AW31<=18), "valid", "invalid") -> invalid | BB31: =IF(BA31="valid",AY31,$BA$7) -> * | BC31: =IF(BA31="valid",AZ31,$BA$7) -> * | BE31: =C31 -> 22 | BF31: =COUNTIF(W31:AF31,"agree") -> 0 | BG31: =COUNTIF(W31:AF31,"disagree") -> 0 | BH31: =BF31+BG31 -> 0 | BI31: =(BF31/BH31)*10 -> #DIV/0! | BJ31: =ROUND(BI31,0) -> #DIV/0! | BK31: =VLOOKUP(BJ31,Sheet2!$G$3:$H$13,2) -> #DIV/0! | BL31: =IF(AND(BH31>=7,BH31<=10), "valid", "invalid") -> invalid | BM31: =IF(BL31="valid",BJ31,$BA$7) -> * | BN31: =IF(BL31="valid",BK31,$BA$7) -> * | BP31: =C31 -> 22 | BQ31: =COUNTIF(AH31:AR31,"agree") -> 0 | BR31: =COUNTIF(AH31:AR31,"disagree") -> 0 | BS31: =BQ31+BR31 -> 0 | BT31: =(BR31/BS31)*11 -> #DIV/0! | BU31: =ROUND(BT31,0) -> #DIV/0! | BV31: =VLOOKUP(BU31,Sheet2!$J$3:$K$14,2) -> #DIV/0! | BW31: =IF(AND(BS31>=8,BS31<=11), "valid", "invalid") -> invalid | BX31: =IF(BW31="valid",BU31,$BA$7) -> * | BY31: =IF(BW31="valid",BV31,$BA$7) -> *
B32: ='First Assessment'!B32 -> 0 | C32: ='First Assessment'!C32 -> 23 | AT32: =C32 -> 23 | AU32: =COUNTIF(D32:U32,"agree") -> 0 | AV32: =COUNTIF(D32:U32,"disagree") -> 0 | AW32: =AU32+AV32 -> 0 | AX32: =(AU32/AW32)*18 -> #DIV/0! | AY32: =ROUND(AX32,0) -> #DIV/0! | AZ32: =VLOOKUP(AY32,Sheet2!$D$3:$E$21,2) -> #DIV/0! | BA32: =IF(AND(AW32>=13,AW32<=18), "valid", "invalid") -> invalid | BB32: =IF(BA32="valid",AY32,$BA$7) -> * | BC32: =IF(BA32="valid",AZ32,$BA$7) -> * | BE32: =C32 -> 23 | BF32: =COUNTIF(W32:AF32,"agree") -> 0 | BG32: =COUNTIF(W32:AF32,"disagree") -> 0 | BH32: =BF32+BG32 -> 0 | BI32: =(BF32/BH32)*10 -> #DIV/0! | BJ32: =ROUND(BI32,0) -> #DIV/0! | BK32: =VLOOKUP(BJ32,Sheet2!$G$3:$H$13,2) -> #DIV/0! | BL32: =IF(AND(BH32>=7,BH32<=10), "valid", "invalid") -> invalid | BM32: =IF(BL32="valid",BJ32,$BA$7) -> * | BN32: =IF(BL32="valid",BK32,$BA$7) -> * | BP32: =C32 -> 23 | BQ32: =COUNTIF(AH32:AR32,"agree") -> 0 | BR32: =COUNTIF(AH32:AR32,"disagree") -> 0 | BS32: =BQ32+BR32 -> 0 | BT32: =(BR32/BS32)*11 -> #DIV/0! | BU32: =ROUND(BT32,0) -> #DIV/0! | BV32: =VLOOKUP(BU32,Sheet2!$J$3:$K$14,2) -> #DIV/0! | BW32: =IF(AND(BS32>=8,BS32<=11), "valid", "invalid") -> invalid | BX32: =IF(BW32="valid",BU32,$BA$7) -> * | BY32: =IF(BW32="valid",BV32,$BA$7) -> *
B33: ='First Assessment'!B33 -> 0 | C33: ='First Assessment'!C33 -> 24 | AT33: =C33 -> 24 | AU33: =COUNTIF(D33:U33,"agree") -> 0 | AV33: =COUNTIF(D33:U33,"disagree") -> 0 | AW33: =AU33+AV33 -> 0 | AX33: =(AU33/AW33)*18 -> #DIV/0! | AY33: =ROUND(AX33,0) -> #DIV/0! | AZ33: =VLOOKUP(AY33,Sheet2!$D$3:$E$21,2) -> #DIV/0! | BA33: =IF(AND(AW33>=13,AW33<=18), "valid", "invalid") -> invalid | BB33: =IF(BA33="valid",AY33,$BA$7) -> * | BC33: =IF(BA33="valid",AZ33,$BA$7) -> * | BE33: =C33 -> 24 | BF33: =COUNTIF(W33:AF33,"agree") -> 0 | BG33: =COUNTIF(W33:AF33,"disagree") -> 0 | BH33: =BF33+BG33 -> 0 | BI33: =(BF33/BH33)*10 -> #DIV/0! | BJ33: =ROUND(BI33,0) -> #DIV/0! | BK33: =VLOOKUP(BJ33,Sheet2!$G$3:$H$13,2) -> #DIV/0! | BL33: =IF(AND(BH33>=7,BH33<=10), "valid", "invalid") -> invalid | BM33: =IF(BL33="valid",BJ33,$BA$7) -> * | BN33: =IF(BL33="valid",BK33,$BA$7) -> * | BP33: =C33 -> 24 | BQ33: =COUNTIF(AH33:AR33,"agree") -> 0 | BR33: =COUNTIF(AH33:AR33,"disagree") -> 0 | BS33: =BQ33+BR33 -> 0 | BT33: =(BR33/BS33)*11 -> #DIV/0! | BU33: =ROUND(BT33,0) -> #DIV/0! | BV33: =VLOOKUP(BU33,Sheet2!$J$3:$K$14,2) -> #DIV/0! | BW33: =IF(AND(BS33>=8,BS33<=11), "valid", "invalid") -> invalid | BX33: =IF(BW33="valid",BU33,$BA$7) -> * | BY33: =IF(BW33="valid",BV33,$BA$7) -> *
B34: ='First Assessment'!B34 -> 0 | C34: ='First Assessment'!C34 -> 25 | AT34: =C34 -> 25 | AU34: =COUNTIF(D34:U34,"agree") -> 0 | AV34: =COUNTIF(D34:U34,"disagree") -> 0 | AW34: =AU34+AV34 -> 0 | AX34: =(AU34/AW34)*18 -> #DIV/0! | AY34: =ROUND(AX34,0) -> #DIV/0! | AZ34: =VLOOKUP(AY34,Sheet2!$D$3:$E$21,2) -> #DIV/0! | BA34: =IF(AND(AW34>=13,AW34<=18), "valid", "invalid") -> invalid | BB34: =IF(BA34="valid",AY34,$BA$7) -> * | BC34: =IF(BA34="valid",AZ34,$BA$7) -> * | BE34: =C34 -> 25 | BF34: =COUNTIF(W34:AF34,"agree") -> 0 | BG34: =COUNTIF(W34:AF34,"disagree") -> 0 | BH34: =BF34+BG34 -> 0 | BI34: =(BF34/BH34)*10 -> #DIV/0! | BJ34: =ROUND(BI34,0) -> #DIV/0! | BK34: =VLOOKUP(BJ34,Sheet2!$G$3:$H$13,2) -> #DIV/0! | BL34: =IF(AND(BH34>=7,BH34<=10), "valid", "invalid") -> invalid | BM34: =IF(BL34="valid",BJ34,$BA$7) -> * | BN34: =IF(BL34="valid",BK34,$BA$7) -> * | BP34: =C34 -> 25 | BQ34: =COUNTIF(AH34:AR34,"agree") -> 0 | BR34: =COUNTIF(AH34:AR34,"disagree") -> 0 | BS34: =BQ34+BR34 -> 0 | BT34: =(BR34/BS34)*11 -> #DIV/0! | BU34: =ROUND(BT34,0) -> #DIV/0! | BV34: =VLOOKUP(BU34,Sheet2!$J$3:$K$14,2) -> #DIV/0! | BW34: =IF(AND(BS34>=8,BS34<=11), "valid", "invalid") -> invalid | BX34: =IF(BW34="valid",BU34,$BA$7) -> * | BY34: =IF(BW34="valid",BV34,$BA$7) -> *
B35: ='First Assessment'!B35 -> 0 | C35: ='First Assessment'!C35 -> 26 | AT35: =C35 -> 26 | AU35: =COUNTIF(D35:U35,"agree") -> 0 | AV35: =COUNTIF(D35:U35,"disagree") -> 0 | AW35: =AU35+AV35 -> 0 | AX35: =(AU35/AW35)*18 -> #DIV/0! | AY35: =ROUND(AX35,0) -> #DIV/0! | AZ35: =VLOOKUP(AY35,Sheet2!$D$3:$E$21,2) -> #DIV/0! | BA35: =IF(AND(AW35>=13,AW35<=18), "valid", "invalid") -> invalid | BB35: =IF(BA35="valid",AY35,$BA$7) -> * | BC35: =IF(BA35="valid",AZ35,$BA$7) -> * | BE35: =C35 -> 26 | BF35: =COUNTIF(W35:AF35,"agree") -> 0 | BG35: =COUNTIF(W35:AF35,"disagree") -> 0 | BH35: =BF35+BG35 -> 0 | BI35: =(BF35/BH35)*10 -> #DIV/0! | BJ35: =ROUND(BI35,0) -> #DIV/0! | BK35: =VLOOKUP(BJ35,Sheet2!$G$3:$H$13,2) -> #DIV/0! | BL35: =IF(AND(BH35>=7,BH35<=10), "valid", "invalid") -> invalid | BM35: =IF(BL35="valid",BJ35,$BA$7) -> * | BN35: =IF(BL35="valid",BK35,$BA$7) -> * | BP35: =C35 -> 26 | BQ35: =COUNTIF(AH35:AR35,"agree") -> 0 | BR35: =COUNTIF(AH35:AR35,"disagree") -> 0 | BS35: =BQ35+BR35 -> 0 | BT35: =(BR35/BS35)*11 -> #DIV/0! | BU35: =ROUND(BT35,0) -> #DIV/0! | BV35: =VLOOKUP(BU35,Sheet2!$J$3:$K$14,2) -> #DIV/0! | BW35: =IF(AND(BS35>=8,BS35<=11), "valid", "invalid") -> invalid | BX35: =IF(BW35="valid",BU35,$BA$7) -> * | BY35: =IF(BW35="valid",BV35,$BA$7) -> *
B36: ='First Assessment'!B36 -> 0 | C36: ='First Assessment'!C36 -> 27 | AT36: =C36 -> 27 | AU36: =COUNTIF(D36:U36,"agree") -> 0 | AV36: =COUNTIF(D36:U36,"disagree") -> 0 | AW36: =AU36+AV36 -> 0 | AX36: =(AU36/AW36)*18 -> #DIV/0! | AY36: =ROUND(AX36,0) -> #DIV/0! | AZ36: =VLOOKUP(AY36,Sheet2!$D$3:$E$21,2) -> #DIV/0! | BA36: =IF(AND(AW36>=13,AW36<=18), "valid", "invalid") -> invalid | BB36: =IF(BA36="valid",AY36,$BA$7) -> * | BC36: =IF(BA36="valid",AZ36,$BA$7) -> * | BE36: =C36 -> 27 | BF36: =COUNTIF(W36:AF36,"agree") -> 0 | BG36: =COUNTIF(W36:AF36,"disagree") -> 0 | BH36: =BF36+BG36 -> 0 | BI36: =(BF36/BH36)*10 -> #DIV/0! | BJ36: =ROUND(BI36,0) -> #DIV/0! | BK36: =VLOOKUP(BJ36,Sheet2!$G$3:$H$13,2) -> #DIV/0! | BL36: =IF(AND(BH36>=7,BH36<=10), "valid", "invalid") -> invalid | BM36: =IF(BL36="valid",BJ36,$BA$7) -> * | BN36: =IF(BL36="valid",BK36,$BA$7) -> * | BP36: =C36 -> 27 | BQ36: =COUNTIF(AH36:AR36,"agree") -> 0 | BR36: =COUNTIF(AH36:AR36,"disagree") -> 0 | BS36: =BQ36+BR36 -> 0 | BT36: =(BR36/BS36)*11 -> #DIV/0! | BU36: =ROUND(BT36,0) -> #DIV/0! | BV36: =VLOOKUP(BU36,Sheet2!$J$3:$K$14,2) -> #DIV/0! | BW36: =IF(AND(BS36>=8,BS36<=11), "valid", "invalid") -> invalid | BX36: =IF(BW36="valid",BU36,$BA$7) -> * | BY36: =IF(BW36="valid",BV36,$BA$7) -> *
B37: ='First Assessment'!B37 -> 0 | C37: ='First Assessment'!C37 -> 28 | AT37: =C37 -> 28 | AU37: =COUNTIF(D37:U37,"agree") -> 0 | AV37: =COUNTIF(D37:U37,"disagree") -> 0 | AW37: =AU37+AV37 -> 0 | AX37: =(AU37/AW37)*18 -> #DIV/0! | AY37: =ROUND(AX37,0) -> #DIV/0! | AZ37: =VLOOKUP(AY37,Sheet2!$D$3:$E$21,2) -> #DIV/0! | BA37: =IF(AND(AW37>=13,AW37<=18), "valid", "invalid") -> invalid | BB37: =IF(BA37="valid",AY37,$BA$7) -> * | BC37: =IF(BA37="valid",AZ37,$BA$7) -> * | BE37: =C37 -> 28 | BF37: =COUNTIF(W37:AF37,"agree") -> 0 | BG37: =COUNTIF(W37:AF37,"disagree") -> 0 | BH37: =BF37+BG37 -> 0 | BI37: =(BF37/BH37)*10 -> #DIV/0! | BJ37: =ROUND(BI37,0) -> #DIV/0! | BK37: =VLOOKUP(BJ37,Sheet2!$G$3:$H$13,2) -> #DIV/0! | BL37: =IF(AND(BH37>=7,BH37<=10), "valid", "invalid") -> invalid | BM37: =IF(BL37="valid",BJ37,$BA$7) -> * | BN37: =IF(BL37="valid",BK37,$BA$7) -> * | BP37: =C37 -> 28 | BQ37: =COUNTIF(AH37:AR37,"agree") -> 0 | BR37: =COUNTIF(AH37:AR37,"disagree") -> 0 | BS37: =BQ37+BR37 -> 0 | BT37: =(BR37/BS37)*11 -> #DIV/0! | BU37: =ROUND(BT37,0) -> #DIV/0! | BV37: =VLOOKUP(BU37,Sheet2!$J$3:$K$14,2) -> #DIV/0! | BW37: =IF(AND(BS37>=8,BS37<=11), "valid", "invalid") -> invalid | BX37: =IF(BW37="valid",BU37,$BA$7) -> * | BY37: =IF(BW37="valid",BV37,$BA$7) -> *
B38: ='First Assessment'!B38 -> 0 | C38: ='First Assessment'!C38 -> 29 | AT38: =C38 -> 29 | AU38: =COUNTIF(D38:U38,"agree") -> 0 | AV38: =COUNTIF(D38:U38,"disagree") -> 0 | AW38: =AU38+AV38 -> 0 | AX38: =(AU38/AW38)*18 -> #DIV/0! | AY38: =ROUND(AX38,0) -> #DIV/0! | AZ38: =VLOOKUP(AY38,Sheet2!$D$3:$E$21,2) -> #DIV/0! | BA38: =IF(AND(AW38>=13,AW38<=18), "valid", "invalid") -> invalid | BB38: =IF(BA38="valid",AY38,$BA$7) -> * | BC38: =IF(BA38="valid",AZ38,$BA$7) -> * | BE38: =C38 -> 29 | BF38: =COUNTIF(W38:AF38,"agree") -> 0 | BG38: =COUNTIF(W38:AF38,"disagree") -> 0 | BH38: =BF38+BG38 -> 0 | BI38: =(BF38/BH38)*10 -> #DIV/0! | BJ38: =ROUND(BI38,0) -> #DIV/0! | BK38: =VLOOKUP(BJ38,Sheet2!$G$3:$H$13,2) -> #DIV/0! | BL38: =IF(AND(BH38>=7,BH38<=10), "valid", "invalid") -> invalid | BM38: =IF(BL38="valid",BJ38,$BA$7) -> * | BN38: =IF(BL38="valid",BK38,$BA$7) -> * | BP38: =C38 -> 29 | BQ38: =COUNTIF(AH38:AR38,"agree") -> 0 | BR38: =COUNTIF(AH38:AR38,"disagree") -> 0 | BS38: =BQ38+BR38 -> 0 | BT38: =(BR38/BS38)*11 -> #DIV/0! | BU38: =ROUND(BT38,0) -> #DIV/0! | BV38: =VLOOKUP(BU38,Sheet2!$J$3:$K$14,2) -> #DIV/0! | BW38: =IF(AND(BS38>=8,BS38<=11), "valid", "invalid") -> invalid | BX38: =IF(BW38="valid",BU38,$BA$7) -> * | BY38: =IF(BW38="valid",BV38,$BA$7) -> *
B39: ='First Assessment'!B39 -> 0 | C39: ='First Assessment'!C39 -> 30 | AT39: =C39 -> 30 | AU39: =COUNTIF(D39:U39,"agree") -> 0 | AV39: =COUNTIF(D39:U39,"disagree") -> 0 | AW39: =AU39+AV39 -> 0 | AX39: =(AU39/AW39)*18 -> #DIV/0! | AY39: =ROUND(AX39,0) -> #DIV/0! | AZ39: =VLOOKUP(AY39,Sheet2!$D$3:$E$21,2) -> #DIV/0! | BA39: =IF(AND(AW39>=13,AW39<=18), "valid", "invalid") -> invalid | BB39: =IF(BA39="valid",AY39,$BA$7) -> * | BC39: =IF(BA39="valid",AZ39,$BA$7) -> * | BE39: =C39 -> 30 | BF39: =COUNTIF(W39:AF39,"agree") -> 0 | BG39: =COUNTIF(W39:AF39,"disagree") -> 0 | BH39: =BF39+BG39 -> 0 | BI39: =(BF39/BH39)*10 -> #DIV/0! | BJ39: =ROUND(BI39,0) -> #DIV/0! | BK39: =VLOOKUP(BJ39,Sheet2!$G$3:$H$13,2) -> #DIV/0! | BL39: =IF(AND(BH39>=7,BH39<=10), "valid", "invalid") -> invalid | BM39: =IF(BL39="valid",BJ39,$BA$7) -> * | BN39: =IF(BL39="valid",BK39,$BA$7) -> * | BP39: =C39 -> 30 | BQ39: =COUNTIF(AH39:AR39,"agree") -> 0 | BR39: =COUNTIF(AH39:AR39,"disagree") -> 0 | BS39: =BQ39+BR39 -> 0 | BT39: =(BR39/BS39)*11 -> #DIV/0! | BU39: =ROUND(BT39,0) -> #DIV/0! | BV39: =VLOOKUP(BU39,Sheet2!$J$3:$K$14,2) -> #DIV/0! | BW39: =IF(AND(BS39>=8,BS39<=11), "valid", "invalid") -> invalid | BX39: =IF(BW39="valid",BU39,$BA$7) -> * | BY39: =IF(BW39="valid",BV39,$BA$7) -> *
B40: ='First Assessment'!B40 -> 0 | C40: ='First Assessment'!C40 -> 31 | AT40: =C40 -> 31 | AU40: =COUNTIF(D40:U40,"agree") -> 0 | AV40: =COUNTIF(D40:U40,"disagree") -> 0 | AW40: =AU40+AV40 -> 0 | AX40: =(AU40/AW40)*18 -> #DIV/0! | AY40: =ROUND(AX40,0) -> #DIV/0! | AZ40: =VLOOKUP(AY40,Sheet2!$D$3:$E$21,2) -> #DIV/0! | BA40: =IF(AND(AW40>=13,AW40<=18), "valid", "invalid") -> invalid | BB40: =IF(BA40="valid",AY40,$BA$7) -> * | BC40: =IF(BA40="valid",AZ40,$BA$7) -> * | BE40: =C40 -> 31 | BF40: =COUNTIF(W40:AF40,"agree") -> 0 | BG40: =COUNTIF(W40:AF40,"disagree") -> 0 | BH40: =BF40+BG40 -> 0 | BI40: =(BF40/BH40)*10 -> #DIV/0! | BJ40: =ROUND(BI40,0) -> #DIV/0! | BK40: =VLOOKUP(BJ40,Sheet2!$G$3:$H$13,2) -> #DIV/0! | BL40: =IF(AND(BH40>=7,BH40<=10), "valid", "invalid") -> invalid | BM40: =IF(BL40="valid",BJ40,$BA$7) -> * | BN40: =IF(BL40="valid",BK40,$BA$7) -> * | BP40: =C40 -> 31 | BQ40: =COUNTIF(AH40:AR40,"agree") -> 0 | BR40: =COUNTIF(AH40:AR40,"disagree") -> 0 | BS40: =BQ40+BR40 -> 0 | BT40: =(BR40/BS40)*11 -> #DIV/0! | BU40: =ROUND(BT40,0) -> #DIV/0! | BV40: =VLOOKUP(BU40,Sheet2!$J$3:$K$14,2) -> #DIV/0! | BW40: =IF(AND(BS40>=8,BS40<=11), "valid", "invalid") -> invalid | BX40: =IF(BW40="valid",BU40,$BA$7) -> * | BY40: =IF(BW40="valid",BV40,$BA$7) -> *
... B1009: ='First Assessment'!B1009 -> 0 | C1009: ='First Assessment'!C1009 -> 1000 | AT1009: =C1009 -> 1000 | AU1009: =COUNTIF(D1009:U1009,"agree") -> 0 | AV1009: =COUNTIF(D1009:U1009,"disagree") -> 0 | AW1009: =AU1009+AV1009 -> 0 | AX1009: =(AU1009/AW1009)*18 -> #DIV/0! | AY1009: =ROUND(AX1009,0) -> #DIV/0! | AZ1009: =VLOOKUP(AY1009,Sheet2!$D$3:$E$21,2) -> #DIV/0! | BA1009: =IF(AND(AW1009>=13,AW1009<=18), "valid", "invalid") -> invalid | BB1009: =IF(BA1009="valid",AY1009,$BA$7) -> * | BC1009: =IF(BA1009="valid",AZ1009,$BA$7) -> * | BE1009: =C1009 -> 1000 | BF1009: =COUNTIF(W1009:AF1009,"agree") -> 0 | BG1009: =COUNTIF(W1009:AF1009,"disagree") -> 0 | BH1009: =BF1009+BG1009 -> 0 | BI1009: =(BF1009/BH1009)*10 -> #DIV/0! | BJ1009: =ROUND(BI1009,0) -> #DIV/0! | BK1009: =VLOOKUP(BJ1009,Sheet2!$G$3:$H$13,2) -> #DIV/0! | BL1009: =IF(AND(BH1009>=7,BH1009<=10), "valid", "invalid") -> invalid | BM1009: =IF(BL1009="valid",BJ1009,$BA$7) -> * | BN1009: =IF(BL1009="valid",BK1009,$BA$7) -> * | BP1009: =C1009 -> 1000 | BQ1009: =COUNTIF(AH1009:AR1009,"agree") -> 0 | BR1009: =COUNTIF(AH1009:AR1009,"disagree") -> 0 | BS1009: =BQ1009+BR1009 -> 0 | BT1009: =(BR1009/BS1009)*11 -> #DIV/0! | BU1009: =ROUND(BT1009,0) -> #DIV/0! | BV1009: =VLOOKUP(BU1009,Sheet2!$J$3:$K$14,2) -> #DIV/0! | BW1009: =IF(AND(BS1009>=8,BS1009<=11), "valid", "invalid") -> invalid | BX1009: =IF(BW1009="valid",BU1009,$BA$7) -> * | BY1009: =IF(BW1009="valid",BV1009,$BA$7) -> *

Sheet Output scores
B1: Carer | C1: SIDECAR D | H1: SIDECAR I | M1: SIDECAR S
C2: First assessment | E2: Follow up | G2: Standardised score difference | H2: First assessment | J2: Follow up | L2: Standardised score difference | M2: First assessment | O2: Follow up | Q2: Standardised score difference
B3: Carer code | C3: Raw score | D3: Standardised score | E3: Raw score | F3: Standardised score | H3: Raw score | I3: Standardised | J3: Raw score | K3: Standardised score | M3: Raw score | N3: Standardised score | O3: Raw score | P3: Standardised score
A4: Carer name/ID (optional) | I4: score
A5: ='First Assessment'!B10 -> John Smith | B5: ='First Assessment'!C10 -> 1 | C5: ='First Assessment'!BB10 -> 0 | D5: ='First Assessment'!BC10 -> 0 | E5: ='Follow-up'!BB10 -> 18 | F5: ='Follow-up'!BC10 -> 100 | G5: =F5-D5 -> 100 | H5: ='First Assessment'!BM10 -> 0 | I5: ='First Assessment'!BN10 -> 0 | J5: ='Follow-up'!BM10 -> 10 | K5: ='Follow-up'!BN10 -> 100 | L5: =K5-I5 -> 100 | M5: ='First Assessment'!BX10 -> 0 | N5: ='First Assessment'!BY10 -> 0 | O5: ='Follow-up'!BX10 -> 11 | P5: ='Follow-up'!BY10 -> 100 | Q5: =P5-N5 -> 100 | S5: Key:
A6: ='First Assessment'!B11 -> 0 | B6: ='First Assessment'!C11 -> 2 | C6: ='First Assessment'!BB11 -> 1 | D6: ='First Assessment'!BC11 -> 11 | E6: ='Follow-up'!BB11 -> 17 | F6: ='Follow-up'!BC11 -> 88 | G6: =F6-D6 -> 77 | H6: ='First Assessment'!BM11 -> 1 | I6: ='First Assessment'!BN11 -> 19 | J6: ='Follow-up'!BM11 -> 9 | K6: ='Follow-up'!BN11 -> 88 | L6: =K6-I6 -> 69 | M6: ='First Assessment'!BX11 -> 1 | N6: ='First Assessment'!BY11 -> 14 | O6: ='Follow-up'!BX11 -> 10 | P6: ='Follow-up'!BY11 -> 85 | Q6: =P6-N6 -> 71 | S6: score difference | T6: = no meaningful change in QoL
A7: ='First Assessment'!B12 -> 0 | B7: ='First Assessment'!C12 -> 3 | C7: ='First Assessment'!BB12 -> 2 | D7: ='First Assessment'!BC12 -> 19 | E7: ='Follow-up'!BB12 -> 16 | F7: ='Follow-up'!BC12 -> 79 | G7: =F7-D7 -> 60 | H7: ='First Assessment'!BM12 -> 2 | I7: ='First Assessment'!BN12 -> 32 | J7: ='Follow-up'!BM12 -> 8 | K7: ='Follow-up'!BN12 -> 78 | L7: =K7-I7 -> 46 | M7: ='First Assessment'!BX12 -> 2 | N7: ='First Assessment'!BY12 -> 24 | O7: ='Follow-up'!BX12 -> 9 | P7: ='Follow-up'!BY12 -> 74 | Q7: =P7-N7 -> 50 | S7: score difference | T7: = meaningful worsening of QoL
A8: ='First Assessment'!B13 -> 0 | B8: ='First Assessment'!C13 -> 4 | C8: ='First Assessment'!BB13 -> 3 | D8: ='First Assessment'!BC13 -> 25 | E8: ='Follow-up'!BB13 -> 15 | F8: ='Follow-up'!BC13 -> 73 | G8: =F8-D8 -> 48 | H8: ='First Assessment'!BM13 -> 3 | I8: ='First Assessment'!BN13 -> 41 | J8: ='Follow-up'!BM13 -> 7 | K8: ='Follow-up'!BN13 -> 70 | L8: =K8-I8 -> 29 | M8: ='First Assessment'!BX13 -> 3 | N8: ='First Assessment'!BY13 -> 32 | O8: ='Follow-up'!BX13 -> 8 | P8: ='Follow-up'!BY13 -> 65 | Q8: =P8-N8 -> 33 | S8: score difference | T8: = meaningful improvement in QoL
A9: ='First Assessment'!B14 -> 0 | B9: ='First Assessment'!C14 -> 5 | C9: ='First Assessment'!BB14 -> 4 | D9: ='First Assessment'!BC14 -> 30 | E9: ='Follow-up'!BB14 -> 14 | F9: ='Follow-up'!BC14 -> 68 | G9: =F9-D9 -> 38 | H9: ='First Assessment'!BM14 -> 4 | I9: ='First Assessment'!BN14 -> 49 | J9: ='Follow-up'!BM14 -> 6 | K9: ='Follow-up'!BN14 -> 63 | L9: =K9-I9 -> 14 | M9: ='First Assessment'!BX14 -> 4 | N9: ='First Assessment'!BY14 -> 39 | O9: ='Follow-up'!BX14 -> 7 | P9: ='Follow-up'!BY14 -> 58 | Q9: =P9-N9 -> 19
A10: ='First Assessment'!B15 -> Betty Jones | B10: ='First Assessment'!C15 -> 6 | C10: ='First Assessment'!BB15 -> 5 | D10: ='First Assessment'!BC15 -> 34 | E10: ='Follow-up'!BB15 -> 13 | F10: ='Follow-up'!BC15 -> 64 | G10: =F10-D10 -> 30 | H10: ='First Assessment'!BM15 -> 5 | I10: ='First Assessment'!BN15 -> 56 | J10: ='Follow-up'!BM15 -> 5 | K10: ='Follow-up'!BN15 -> 56 | L10: =K10-I10 -> 0 | M10: ='First Assessment'!BX15 -> 5 | N10: ='First Assessment'!BY15 -> 45 | O10: ='Follow-up'!BX15 -> 6 | P10: ='Follow-up'!BY15 -> 52 | Q10: =P10-N10 -> 7
A11: ='First Assessment'!B16 -> 0 | B11: ='First Assessment'!C16 -> 7 | C11: ='First Assessment'!BB16 -> 6 | D11: ='First Assessment'!BC16 -> 38 | E11: ='Follow-up'!BB16 -> 12 | F11: ='Follow-up'!BC16 -> 60 | G11: =F11-D11 -> 22 | H11: ='First Assessment'!BM16 -> 6 | I11: ='First Assessment'!BN16 -> 63 | J11: ='Follow-up'!BM16 -> 4 | K11: ='Follow-up'!BN16 -> 49 | L11: =K11-I11 -> -14 | M11: ='First Assessment'!BX16 -> 6 | N11: ='First Assessment'!BY16 -> 52 | O11: ='Follow-up'!BX16 -> 5 | P11: ='Follow-up'!BY16 -> 45 | Q11: =P11-N11 -> -7
A12: ='First Assessment'!B17 -> 0 | B12: ='First Assessment'!C17 -> 8 | C12: ='First Assessment'!BB17 -> 7 | D12: ='First Assessment'!BC17 -> 42 | E12: ='Follow-up'!BB17 -> 11 | F12: ='Follow-up'!BC17 -> 56 | G12: =F12-D12 -> 14 | H12: ='First Assessment'!BM17 -> 7 | I12: ='First Assessment'!BN17 -> 70 | J12: ='Follow-up'!BM17 -> 3 | K12: ='Follow-up'!BN17 -> 41 | L12: =K12-I12 -> -29 | M12: ='First Assessment'!BX17 -> 7 | N12: ='First Assessment'!BY17 -> 58 | O12: ='Follow-up'!BX17 -> 4 | P12: ='Follow-up'!BY17 -> 39 | Q12: =P12-N12 -> -19
A13: ='First Assessment'!B18 -> 0 | B13: ='First Assessment'!C18 -> 9 | C13: ='First Assessment'!BB18 -> 8 | D13: ='First Assessment'!BC18 -> 46 | E13: ='Follow-up'!BB18 -> 10 | F13: ='Follow-up'!BC18 -> 53 | G13: =F13-D13 -> 7 | H13: ='First Assessment'!BM18 -> 8 | I13: ='First Assessment'!BN18 -> 78 | J13: ='Follow-up'!BM18 -> 2 | K13: ='Follow-up'!BN18 -> 32 | L13: =K13-I13 -> -46 | M13: ='First Assessment'!BX18 -> 8 | N13: ='First Assessment'!BY18 -> 65 | O13: ='Follow-up'!BX18 -> 3 | P13: ='Follow-up'!BY18 -> 32 | Q13: =P13-N13 -> -33
A14: ='First Assessment'!B19 -> 0 | B14: ='First Assessment'!C19 -> 10 | C14: ='First Assessment'!BB19 -> 9 | D14: ='First Assessment'!BC19 -> 49 | E14: ='Follow-up'!BB19 -> 9 | F14: ='Follow-up'!BC19 -> 49 | G14: =F14-D14 -> 0 | H14: ='First Assessment'!BM19 -> 9 | I14: ='First Assessment'!BN19 -> 88 | J14: ='Follow-up'!BM19 -> 1 | K14: ='Follow-up'!BN19 -> 19 | L14: =K14-I14 -> -69 | M14: ='First Assessment'!BX19 -> 9 | N14: ='First Assessment'!BY19 -> 74 | O14: ='Follow-up'!BX19 -> 2 | P14: ='Follow-up'!BY19 -> 24 | Q14: =P14-N14 -> -50
A15: ='First Assessment'!B20 -> 0 | B15: ='First Assessment'!C20 -> 11 | C15: ='First Assessment'!BB20 -> 10 | D15: ='First Assessment'!BC20 -> 53 | E15: ='Follow-up'!BB20 -> 8 | F15: ='Follow-up'!BC20 -> 46 | G15: =F15-D15 -> -7 | H15: ='First Assessment'!BM20 -> 10 | I15: ='First Assessment'!BN20 -> 100 | J15: ='Follow-up'!BM20 -> 0 | K15: ='Follow-up'!BN20 -> 0 | L15: =K15-I15 -> -100 | M15: ='First Assessment'!BX20 -> 10 | N15: ='First Assessment'!BY20 -> 85 | O15: ='Follow-up'!BX20 -> 1 | P15: ='Follow-up'!BY20 -> 14 | Q15: =P15-N15 -> -71
A16: ='First Assessment'!B21 -> 0 | B16: ='First Assessment'!C21 -> 12 | C16: ='First Assessment'!BB21 -> 11 | D16: ='First Assessment'!BC21 -> 56 | E16: ='Follow-up'!BB21 -> 7 | F16: ='Follow-up'!BC21 -> 42 | G16: =F16-D16 -> -14 | H16: ='First Assessment'!BM21 -> 0 | I16: ='First Assessment'!BN21 -> 0 | J16: ='Follow-up'!BM21 -> 0 | K16: ='Follow-up'!BN21 -> 0 | L16: =K16-I16 -> 0 | M16: ='First Assessment'!BX21 -> 11 | N16: ='First Assessment'!BY21 -> 100 | O16: ='Follow-up'!BX21 -> 0 | P16: ='Follow-up'!BY21 -> 0 | Q16: =P16-N16 -> -100
A17: ='First Assessment'!B22 -> 0 | B17: ='First Assessment'!C22 -> 13 | C17: ='First Assessment'!BB22 -> 12 | D17: ='First Assessment'!BC22 -> 60 | E17: ='Follow-up'!BB22 -> 6 | F17: ='Follow-up'!BC22 -> 38 | G17: =F17-D17 -> -22 | H17: ='First Assessment'!BM22 -> * | I17: ='First Assessment'!BN22 -> * | J17: ='Follow-up'!BM22 -> * | K17: ='Follow-up'!BN22 -> * | L17: =K17-I17 -> #VALUE! | M17: ='First Assessment'!BX22 -> 11 | N17: ='First Assessment'!BY22 -> 100 | O17: ='Follow-up'!BX22 -> 11 | P17: ='Follow-up'!BY22 -> 100 | Q17: =P17-N17 -> 0
A18: ='First Assessment'!B23 -> 0 | B18: ='First Assessment'!C23 -> 14 | C18: ='First Assessment'!BB23 -> 13 | D18: ='First Assessment'!BC23 -> 64 | E18: ='Follow-up'!BB23 -> 5 | F18: ='Follow-up'!BC23 -> 34 | G18: =F18-D18 -> -30 | H18: ='First Assessment'!BM23 -> * | I18: ='First Assessment'!BN23 -> * | J18: ='Follow-up'!BM23 -> * | K18: ='Follow-up'!BN23 -> * | L18: =K18-I18 -> #VALUE! | M18: ='First Assessment'!BX23 -> * | N18: ='First Assessment'!BY23 -> * | O18: ='Follow-up'!BX23 -> * | P18: ='Follow-up'!BY23 -> * | Q18: =P18-N18 -> #VALUE!
A19: ='First Assessment'!B24 -> 0 | B19: ='First Assessment'!C24 -> 15 | C19: ='First Assessment'!BB24 -> 14 | D19: ='First Assessment'!BC24 -> 68 | E19: ='Follow-up'!BB24 -> 4 | F19: ='Follow-up'!BC24 -> 30 | G19: =F19-D19 -> -38 | H19: ='First Assessment'!BM24 -> * | I19: ='First Assessment'!BN24 -> * | J19: ='Follow-up'!BM24 -> * | K19: ='Follow-up'!BN24 -> * | L19: =K19-I19 -> #VALUE! | M19: ='First Assessment'!BX24 -> * | N19: ='First Assessment'!BY24 -> * | O19: ='Follow-up'!BX24 -> * | P19: ='Follow-up'!BY24 -> * | Q19: =P19-N19 -> #VALUE!
A20: ='First Assessment'!B25 -> 0 | B20: ='First Assessment'!C25 -> 16 | C20: ='First Assessment'!BB25 -> 15 | D20: ='First Assessment'!BC25 -> 73 | E20: ='Follow-up'!BB25 -> 3 | F20: ='Follow-up'!BC25 -> 25 | G20: =F20-D20 -> -48 | H20: ='First Assessment'!BM25 -> * | I20: ='First Assessment'!BN25 -> * | J20: ='Follow-up'!BM25 -> * | K20: ='Follow-up'!BN25 -> * | L20: =K20-I20 -> #VALUE! | M20: ='First Assessment'!BX25 -> * | N20: ='First Assessment'!BY25 -> * | O20: ='Follow-up'!BX25 -> * | P20: ='Follow-up'!BY25 -> * | Q20: =P20-N20 -> #VALUE!
... A204: ='First Assessment'!B209 -> 0 | B204: ='First Assessment'!C209 -> 200 | C204: ='First Assessment'!BB209 -> * | D204: ='First Assessment'!BC209 -> * | E204: ='Follow-up'!BB209 -> * | F204: ='Follow-up'!BC209 -> * | G204: =F204-D204 -> #VALUE! | H204: ='First Assessment'!BM209 -> * | I204: ='First Assessment'!BN209 -> * | J204: ='Follow-up'!BM209 -> * | K204: ='Follow-up'!BN209 -> * | L204: =K204-I204 -> #VALUE! | M204: ='First Assessment'!BX209 -> * | N204: ='First Assessment'!BY209 -> * | O204: ='Follow-up'!BX209 -> * | P204: ='Follow-up'!BY209 -> * | Q204: =P204-N204 -> #VALUE!

Sheet Sheet2
A1: Column1 | D1: SIDECAR D | G1: SIDECAR I | J1: SIDECAR S
A2: Agree | D2: Raw score | E2: 0-100 score | G2: Raw score | H2: 0-100 score | J2: Raw score | K2: 0-100 score
A3: Disagree | D3: 0 | E3: 0 | G3: 0 | H3: 0 | J3: 0 | K3: 0
D4: 1 | E4: 11 | G4: 1 | H4: 19 | J4: 1 | K4: 14
D5: 2 | E5: 19 | G5: 2 | H5: 32 | J5: 2 | K5: 24
D6: 3 | E6: 25 | G6: 3 | H6: 41 | J6: 3 | K6: 32
D7: 4 | E7: 30 | G7: 4 | H7: 49 | J7: 4 | K7: 39
D8: 5 | E8: 34 | G8: 5 | H8: 56 | J8: 5 | K8: 45
D9: 6 | E9: 38 | G9: 6 | H9: 63 | J9: 6 | K9: 52
D10: 7 | E10: 42 | G10: 7 | H10: 70 | J10: 7 | K10: 58
D11: 8 | E11: 46 | G11: 8 | H11: 78 | J11: 8 | K11: 65
D12: 9 | E12: 49 | G12: 9 | H12: 88 | J12: 9 | K12: 74
D13: 10 | E13: 53 | G13: 10 | H13: 100 | J13: 10 | K13: 85
D14: 11 | E14: 56 | J14: 11 | K14: 100
D15: 12 | E15: 60
D16: 13 | E16: 64
D17: 14 | E17: 68
D18: 15 | E18: 73
D19: 16 | E19: 79
D20: 17 | E20: 88
D21: 18 | E21: 100

Sheet Item codes and statements
D3: SIDECAR D - Direct impact of care
C6: Question code | D6: Question statement
C7: D1 | D7: I regularly have to do things as a carer that I am not comfortable with
C8: D2 | D8: Almost all of my conversations are about dementia or caring
C9: D3 | D9: People see me only as a carer rather than a person in my own right
C10: D4 | D10: It is hard to find anyone else to spend time looking after the person I care for
C11: D5 | D11: I dread the future
C12: D6 | D12: I can only get through one day at a time
C13: D7 | D13: My role in our relationship has changed
C14: D8 | D14: Receiving help is more hassle than it’s worth
C15: D9 | D15: I have to cope with a lot of opinions about what I should and shouldn't do
C16: D10 | D16: There is always something new to deal with when providing care
C17: D11 | D17: Little things add up to make caring difficult
... C24: D18 | D24: I spend a lot of time trying to sort out services
D28: SIDECAR I - Indirect impact of care
C30: Question code | D30: Question statement
C31: I1 | D31: I worry about what people think of the behaviour of the person I care for
C32: I2 | D32: It is hard to decide what to tell others about the person’s dementia
C33: I3 | D33: I have distressing arguments with the person I care for
C34: I4 | D34: I worry about what will happen if I can no longer provide care
C35: I5 | D35: It is hard to know when to help the person I care for and when to let them do things on their own
C36: I6 | D36: It is distressing when I have to upset the person I care for to do the right thing for them
C37: I7 | D37: I find it hard to understand how dementia affects the person I care for
C38: I8 | D38: It is distressing to the see the person I care for changing
C39: I9 | D39: I feel the good things we have won't last
C40: I10 | D40: I worry about the safety of the person I care for
D45: SIDECAR S - Support and Information
C47: Question code | D47: Question statement
C48: S1 | D48: I get help from people who know a lot about how to care for someone with dementia
C49: S2 | D49: I have been given clear information about finances (e.g. benefits, financial planning)
C50: S3 | D50: I receive all the support I need to help me provide care
C51: S4 | D51: I have planned for when things get worse
C52: S5 | D52: I have been given clear information about medical issues (e.g. diagnosis, managing medications)
C53: S6 | D53: I have been given clear information about how to make future plans (e.g. care arrangements if circumstances changed, power of attorney)
C54: S7 | D54: I have been given clear information about social care for the person I care for (e.g. adult social care services)
C55: S8 | D55: I am willing to ask for help if I need it
C56: S9 | D56: I feel other people care about me
C57: S10 | D57: I am well supported by medical professionals (e.g. GPs, psychiatrists)
C58: S11 | D58: I have enough guidance to know how to provide care (e.g. managing difficult behaviours, providing activities)

Sheet conversion tables
B2: SIDECAR D | E2: SIDECAR I | H2: SIDECAR S
B3: Raw score | C3: 0-100 score | E3: Raw score | F3: 0-100 score | H3: Raw score | I3: 0-100 score
B4: 0 | C4: 0 | E4: 0 | F4: 0 | H4: 0 | I4: 0
B5: 1 | C5: 11 | E5: 1 | F5: 19 | H5: 1 | I5: 14
B6: 2 | C6: 19 | E6: 2 | F6: 32 | H6: 2 | I6: 24
B7: 3 | C7: 25 | E7: 3 | F7: 41 | H7: 3 | I7: 32
B8: 4 | C8: 30 | E8: 4 | F8: 49 | H8: 4 | I8: 39
B9: 5 | C9: 34 | E9: 5 | F9: 56 | H9: 5 | I9: 45
B10: 6 | C10: 38 | E10: 6 | F10: 63 | H10: 6 | I10: 52
B11: 7 | C11: 42 | E11: 7 | F11: 70 | H11: 7 | I11: 58
B12: 8 | C12: 46 | E12: 8 | F12: 78 | H12: 8 | I12: 65
B13: 9 | C13: 49 | E13: 9 | F13: 88 | H13: 9 | I13: 74
B14: 10 | C14: 53 | E14: 10 | F14: 100 | H14: 10 | I14: 85
B15: 11 | C15: 56 | H15: 11 | I15: 100
B16: 12 | C16: 60
B17: 13 | C17: 64
B18: 14 | C18: 68
B19: 15 | C19: 73
B20: 16 | C20: 79
B21: 17 | C21: 88
B22: 18 | C22: 100
