Workbook

Sheet Sheet1
B2: SIDECAR D - Direct impact of care
C3: First Assessment | F3: Follow-up
C4: Please select option from drop down list | F4: Please select option from drop down list
A5: Question code | B5: Question statement | C5: Carer response: | D5: Score | F5: Carer response: | G5: Score
A6: D1 | B6: I regularly have to do things as a carer that I am not comfortable with | C6: Agree | D6: {=_xlfn.IFS(C6="Agree",1,C6="Disagree",0)} -> 1 | F6: Agree | G6: {=_xlfn.IFS(F6="Agree",1,F6="Disagree",0)} -> 1 | J6: First Assessment | K6: Follow-up | N6: First Assessment | O6: Follow-up
A7: D2 | B7: Almost all of my conversations are about dementia or caring | C7: Disagree | D7: {=_xlfn.IFS(C7="Agree",1,C7="Disagree",0)} -> 0 | F7: Agree | G7: {=_xlfn.IFS(F7="Agree",1,F7="Disagree",0)} -> 1 | I7: Total raw score | J7: =D24 -> 16 | K7: =G24 -> 8 | M7: Basic score | N7: =D24 -> 16 | O7: =G24 -> 8
A8: D3 | B8: People see me only as a carer rather than a person in my own right | C8: Agree | D8: {=_xlfn.IFS(C8="Agree",1,C8="Disagree",0)} -> 1 | F8: Disagree | G8: {=_xlfn.IFS(F8="Agree",1,F8="Disagree",0)} -> 0 | I8: Converted 0-100 score | J8: =VLOOKUP(J7,Sheet2!$D$3:$E$21,2) -> 79 | K8: =VLOOKUP(K7,Sheet2!$D$3:$E$21,2) -> 46 | M8: Number of items responded | N8: =D25 -> 18 | O8: =G25 -> 18
A9: D4 | B9: It is hard to find anyone else to spend time looking after the person I care for | C9: Disagree | D9: {=_xlfn.IFS(C9="Agree",1,C9="Disagree",0)} -> 0 | F9: Disagree | G9: {=_xlfn.IFS(F9="Agree",1,F9="Disagree",0)} -> 0
A10: D5 | B10: I dread the future | C10: Agree | D10: {=_xlfn.IFS(C10="Agree",1,C10="Disagree",0)} -> 1 | F10: Disagree | G10: {=_xlfn.IFS(F10="Agree",1,F10="Disagree",0)} -> 0 | I10: N/A (data is complete)
A11: D6 | B11: I can only get through one day at a time | C11: Agree | D11: {=_xlfn.IFS(C11="Agree",1,C11="Disagree",0)} -> 1 | F11: Disagree | G11: {=_xlfn.IFS(F11="Agree",1,F11="Disagree",0)} -> 0 | I11: Incomplete data - use pseudo raw score | M11: Total raw score out of 18 | N11: =IF(D25=18,D24,I11) -> 16 | O11: =IF(G25=18,G24,I11) -> 8
A12: D7 | B12: My role in our relationship has changed | C12: Agree | D12: {=_xlfn.IFS(C12="Agree",1,C12="Disagree",0)} -> 1 | F12: Disagree | G12: {=_xlfn.IFS(F12="Agree",1,F12="Disagree",0)} -> 0 | I12: *
A13: D8 | B13: Receiving help is more hassle than it’s worth | C13: Agree | D13: {=_xlfn.IFS(C13="Agree",1,C13="Disagree",0)} -> 1 | F13: Disagree | G13: {=_xlfn.IFS(F13="Agree",1,F13="Disagree",0)} -> 0
A14: D9 | B14: I have to cope with a lot of opinions about what I should and shouldn't do | C14: Agree | D14: {=_xlfn.IFS(C14="Agree",1,C14="Disagree",0)} -> 1 | F14: Disagree | G14: {=_xlfn.IFS(F14="Agree",1,F14="Disagree",0)} -> 0 | M14: Pseudo raw score out of 18 | N14: =IF(AND(D25>=13, D25<18), J18, I12) -> * | O14: =IF(AND(G25>=13, G25<18), K18, I12) -> *
A15: D10 | B15: There is always something new to deal with when providing care | C15: Agree | D15: {=_xlfn.IFS(C15="Agree",1,C15="Disagree",0)} -> 1 | F15: Disagree | G15: {=_xlfn.IFS(F15="Agree",1,F15="Disagree",0)} -> 0 | M15: Converted 0-100 score | N15: =IF(J21="valid",J19,I12) -> 79 | O15: =IF(K21="valid",K19,I12) -> 46 | P15: Score change | Q15: =O15-N15 -> -33
A16: D11 | B16: Little things add up to make caring difficult | C16: Agree | D16: {=_xlfn.IFS(C16="Agree",1,C16="Disagree",0)} -> 1 | F16: Disagree | G16: {=_xlfn.IFS(F16="Agree",1,F16="Disagree",0)} -> 0 | J16: First Assessment | K16: Follow-up
A17: D12 | B17: I don't take very good care of myself | C17: Agree | D17: {=_xlfn.IFS(C17="Agree",1,C17="Disagree",0)} -> 1 | F17: Disagree | G17: {=_xlfn.IFS(F17="Agree",1,F17="Disagree",0)} -> 0 | I17: Pseudo raw score | J17: =D26 -> 16 | K17: =G26 -> 8 | N17: Score change key: | O17: = worsening QoL
A18: D13 | B18: I often feel I want to escape my caring responsibilities | C18: Agree | D18: {=_xlfn.IFS(C18="Agree",1,C18="Disagree",0)} -> 1 | F18: Agree | G18: {=_xlfn.IFS(F18="Agree",1,F18="Disagree",0)} -> 1 | I18: rounded | J18: =ROUND(J17,0) -> 16 | K18: =ROUND(K17,0) -> 8 | O18: = improving QoL
A19: D14 | B19: Caring prevents me from fulfilling my other responsibilities (e.g. working, being a parent, volunteering) | C19: Agree | D19: {=_xlfn.IFS(C19="Agree",1,C19="Disagree",0)} -> 1 | F19: Agree | G19: {=_xlfn.IFS(F19="Agree",1,F19="Disagree",0)} -> 1 | I19: Converted 0-100 score | J19: =VLOOKUP(J18,Sheet2!$D$3:$E$21,2) -> 79 | K19: =VLOOKUP(K18,Sheet2!$D$3:$E$21,2) -> 46 | O19: = no change
A20: D15 | B20: I feel guilty if I do something for myself | C20: Agree | D20: {=_xlfn.IFS(C20="Agree",1,C20="Disagree",0)} -> 1 | F20: Agree | G20: {=_xlfn.IFS(F20="Agree",1,F20="Disagree",0)} -> 1 | M20: A score change of 9 points or more (either improving or worsening) can be considered meaningful change
A21: D16 | B21: I would like it if others tried harder to understand the situation I am in | C21: Agree | D21: {=_xlfn.IFS(C21="Agree",1,C21="Disagree",0)} -> 1 | F21: Agree | G21: {=_xlfn.IFS(F21="Agree",1,F21="Disagree",0)} -> 1 | I21: more than 13 items | J21: =IF(AND(N8>=13,N8<=18), "valid", "invalid") -> valid | K21: =IF(AND(O8>=13,O8<=18), "valid", "invalid") -> valid
A22: D17 | B22: Everything I do has to be planned in advance now | C22: Agree | D22: {=_xlfn.IFS(C22="Agree",1,C22="Disagree",0)} -> 1 | F22: Agree | G22: {=_xlfn.IFS(F22="Agree",1,F22="Disagree",0)} -> 1
A23: D18 | B23: I spend a lot of time trying to sort out services | C23: Agree | D23: {=_xlfn.IFS(C23="Agree",1,C23="Disagree",0)} -> 1 | F23: Agree | G23: {=_xlfn.IFS(F23="Agree",1,F23="Disagree",0)} -> 1
C24: Total raw score | D24: =COUNTIF(D6:D23,1) -> 16 | F24: Total raw score | G24: =COUNTIF(G6:G23,1) -> 8
C25: out of: | D25: =COUNT(D6:D23) -> 18 | F25: out of: | G25: =COUNT(G6:G23) -> 18 | H25: *This should be 18 if all questions have been answered
D26: =(D24/D25)*18 -> 16 | G26: =(G24/G25)*18 -> 8
B31: SIDECAR I - Indirect impact of care | C31: First Assessment | F31: Follow-up
C32: Please select option from drop down list | F32: Please select option from drop down list
A33: Question code | B33: Question statement | C33: Carer response: | D33: Score | F33: Carer response: | G33: Score
A34: I1 | B34: I worry about what people think of the behaviour of the person I care for | C34: Agree | D34: {=_xlfn.IFS(C34="Agree",1,C34="Disagree",0)} -> 1 | F34: Agree | G34: {=_xlfn.IFS(F34="Agree",1,F34="Disagree",0)} -> 1 | J34: First Assessment | K34: Follow-up | N34: First Assessment | O34: Follow-up
A35: I2 | B35: It is hard to decide what to tell others about the person’s dementia | C35: Agree | D35: {=_xlfn.IFS(C35="Agree",1,C35="Disagree",0)} -> 1 | F35: Agree | G35: {=_xlfn.IFS(F35="Agree",1,F35="Disagree",0)} -> 1 | I35: Total raw score | J35: =D51 -> 8 | K35: =G51 -> 6 | M35: Basic score | N35: =D51 -> 8 | O35: =G51 -> 6
A36: I3 | B36: I have distressing arguments with the person I care for | C36: Disagree | D36: {=_xlfn.IFS(C36="Agree",1,C36="Disagree",0)} -> 0 | F36: Disagree | G36: {=_xlfn.IFS(F36="Agree",1,F36="Disagree",0)} -> 0 | I36: Converted 0-100 score | J36: =VLOOKUP(J35,Sheet2!$G$3:$H$13,2) -> 78 | K36: =VLOOKUP(K35,Sheet2!$G$3:$H$13,2) -> 63 | M36: Number of items responded | N36: =D52 -> 10 | O36: =G52 -> 10
A37: I4 | B37: I worry about what will happen if I can no longer provide care | C37: Agree | D37: {=_xlfn.IFS(C37="Agree",1,C37="Disagree",0)} -> 1 | F37: Disagree | G37: {=_xlfn.IFS(F37="Agree",1,F37="Disagree",0)} -> 0
A38: I5 | B38: It is hard to know when to help the person I care for and when to let them do things on their own | C38: Agree | D38: {=_xlfn.IFS(C38="Agree",1,C38="Disagree",0)} -> 1 | F38: Agree | G38: {=_xlfn.IFS(F38="Agree",1,F38="Disagree",0)} -> 1 | I38: N/A (data is complete)
A39: I6 | B39: It is distressing when I have to upset the person I care for to do the right thing for them | C39: Agree | D39: {=_xlfn.IFS(C39="Agree",1,C39="Disagree",0)} -> 1 | F39: Disagree | G39: {=_xlfn.IFS(F39="Agree",1,F39="Disagree",0)} -> 0 | I39: Incomplete data - use pseudo raw score | M39: Total raw score out of 10 | N39: =IF(D52=10,D51,I39) -> 8 | O39: =IF(G52=10,G51,I39) -> 6
A40: I7 | B40: I find it hard to understand how dementia affects the person I care for | C40: Disagree | D40: {=_xlfn.IFS(C40="Agree",1,C40="Disagree",0)} -> 0 | F40: Agree | G40: {=_xlfn.IFS(F40="Agree",1,F40="Disagree",0)} -> 1 | I40: *
A41: I8 | B41: It is distressing to the see the person I care for changing | C41: Agree | D41: {=_xlfn.IFS(C41="Agree",1,C41="Disagree",0)} -> 1 | F41: Disagree | G41: {=_xlfn.IFS(F41="Agree",1,F41="Disagree",0)} -> 0
A42: I9 | B42: I feel the good things we have won't last | C42: Agree | D42: {=_xlfn.IFS(C42="Agree",1,C42="Disagree",0)} -> 1 | F42: Agree | G42: {=_xlfn.IFS(F42="Agree",1,F42="Disagree",0)} -> 1 | M42: Pseudo raw score out of 10 | N42: =IF(AND(D52>=7, D52<10), J46, I40) -> * | O42: =IF(AND(G52>=7, G52<10), K46, I40) -> *
A43: I10 | B43: I worry about the safety of the person I care for | C43: Agree | D43: {=_xlfn.IFS(C43="Agree",1,C43="Disagree",0)} -> 1 | F43: Agree | G43: {=_xlfn.IFS(F43="Agree",1,F43="Disagree",0)} -> 1 | M43: Converted 0-100 score | N43: =IF(J49="valid",J47,I40) -> 78 | O43: =IF(K49="valid",K47,I40) -> 63 | P43: Score change | Q43: =O43-N43 -> -15
J44: First Assessment | K44: Follow-up
I45: Pseudo raw score | J45: =D53 -> 8 | K45: =G53 -> 6 | N45: Score change key: | O45: = worsening QoL
I46: rounded | J46: =ROUND(J45,0) -> 8 | K46: =ROUND(K45,0) -> 6 | O46: = improving QoL
I47: Converted 0-100 score | J47: =VLOOKUP(J46,Sheet2!$G$3:$H$13,2) -> 78 | K47: =VLOOKUP(K46,Sheet2!$G$3:$H$13,2) -> 63 | O47: = no change
M48: A score change of 10 points or more (either improving or worsening) can be considered meaningful change
I49: more than 7 items | J49: =IF(AND(N36>=7,N36<=10), "valid", "invalid") -> valid | K49: =IF(AND(O36>=7,O36<=10), "valid", "invalid") -> valid
C51: Total raw score | D51: =COUNTIF(D34:D43,1) -> 8 | F51: Total raw score | G51: =COUNTIF(G34:G43,1) -> 6
C52: out of: | D52: =COUNT(D34:D43) -> 10 | F52: out of: | G52: =COUNT(G34:G43) -> 10 | H52: *This should be 10 if all questions have been answered
D53: =(D51/D52)*10 -> 8 | G53: =(G51/G52)*10 -> 6
B58: SIDECAR S - Support and Information | C58: First Assessment | F58: Follow-up
C59: Please select option from drop down list | F59: Please select option from drop down list
A60: Question code | B60: Question statement | C60: Carer response: | D60: Score | F60: Carer response: | G60: Score
A61: S1 | B61: I get help from people who know a lot about how to care for someone with dementia | C61: Agree | D61: {=_xlfn.IFS(C61="Agree",0,C61="Disagree",1)} -> 0 | F61: Agree | G61: {=_xlfn.IFS(F61="Agree",0,F61="Disagree",1)} -> 0 | J61: First Assessment | K61: Follow-up | N61: First Assessment | O61: Follow-up
A62: S2 | B62: I have been given clear information about finances (e.g. benefits, financial planning) | C62: Agree | D62: {=_xlfn.IFS(C62="Agree",0,C62="Disagree",1)} -> 0 | F62: Agree | G62: {=_xlfn.IFS(F62="Agree",0,F62="Disagree",1)} -> 0 | I62: Total raw score | J62: =D77 -> 3 | K62: =G77 -> 2 | M62: Basic score | N62: =D77 -> 3 | O62: =G77 -> 2
A63: S3 | B63: I receive all the support I need to help me provide care | C63: Agree | D63: {=_xlfn.IFS(C63="Agree",0,C63="Disagree",1)} -> 0 | F63: Disagree | G63: {=_xlfn.IFS(F63="Agree",0,F63="Disagree",1)} -> 1 | I63: Converted 0-100 score | J63: =VLOOKUP(J62,Sheet2!$J$3:$K$14,2) -> 32 | K63: =VLOOKUP(K62,Sheet2!$J$3:$K$14,2) -> 24 | M63: Number of items responded | N63: =D78 -> 11 | O63: =G78 -> 11
A64: S4 | B64: I have planned for when things get worse | C64: Disagree | D64: {=_xlfn.IFS(C64="Agree",0,C64="Disagree",1)} -> 1 | F64: Agree | G64: {=_xlfn.IFS(F64="Agree",0,F64="Disagree",1)} -> 0
A65: S5 | B65: I have been given clear information about medical issues (e.g. diagnosis, managing medications) | C65: Disagree | D65: {=_xlfn.IFS(C65="Agree",0,C65="Disagree",1)} -> 1 | F65: Agree | G65: {=_xlfn.IFS(F65="Agree",0,F65="Disagree",1)} -> 0 | I65: N/A (data is complete)
A66: S6 | B66: I have been given clear information about how to make future plans (e.g. care arrangements if circumstances changed, power of attorney) | C66: Agree | D66: {=_xlfn.IFS(C66="Agree",0,C66="Disagree",1)} -> 0 | F66: Agree | G66: {=_xlfn.IFS(F66="Agree",0,F66="Disagree",1)} -> 0 | I66: Incomplete data - use pseudo raw score | M66: Total raw score out of 11 | N66: =IF(D78=11,D77,I66) -> 3 | O66: =IF(G78=11,G77,I66) -> 2
A67: S7 | B67: I have been given clear information about social care for the person I care for (e.g. adult social care services) | C67: Disagree | D67: {=_xlfn.IFS(C67="Agree",0,C67="Disagree",1)} -> 1 | F67: Disagree | G67: {=_xlfn.IFS(F67="Agree",0,F67="Disagree",1)} -> 1 | I67: *
A68: S8 | B68: I am willing to ask for help if I need it | C68: Agree | D68: {=_xlfn.IFS(C68="Agree",0,C68="Disagree",1)} -> 0 | F68: Agree | G68: {=_xlfn.IFS(F68="Agree",0,F68="Disagree",1)} -> 0 | M68: Pseudo raw score out of 11 | N68: =IF(AND(D77>=8, D77<11), J73, I67) -> * | O68: =IF(AND(G77>=7, G77<10), K73, I67) -> *
A69: S9 | B69: I feel other people care about me | C69: Agree | D69: {=_xlfn.IFS(C69="Agree",0,C69="Disagree",1)} -> 0 | F69: Agree | G69: {=_xlfn.IFS(F69="Agree",0,F69="Disagree",1)} -> 0 | M69: Converted 0-100 score | N69: =IF(J76="valid",J74,I67) -> 32 | O69: =IF(K76="valid",K74,I67) -> 24 | P69: Score change | Q69: =O69-N69 -> -8
A70: S10 | B70: I am well supported by medical professionals (e.g. GPs, psychiatrists) | C70: Agree | D70: {=_xlfn.IFS(C70="Agree",0,C70="Disagree",1)} -> 0 | F70: Agree | G70: {=_xlfn.IFS(F70="Agree",0,F70="Disagree",1)} -> 0
A71: S11 | B71: I have enough guidance to know how to provide care (e.g. managing difficult behaviours, providing activities) | C71: Agree | D71: {=_xlfn.IFS(C71="Agree",0,C71="Disagree",1)} -> 0 | F71: Agree | G71: {=_xlfn.IFS(F71="Agree",0,F71="Disagree",1)} -> 0 | J71: First Assessment | K71: Follow-up | N71: Score change key: | O71: = worsening QoL
I72: Pseudo raw score | J72: =D79 -> 3 | K72: =G79 -> 2 | O72: = improving QoL
I73: rounded | J73: =ROUND(J72,0) -> 3 | K73: =ROUND(K72,0) -> 2 | O73: = no change
I74: Converted 0-100 score | J74: =VLOOKUP(J73,Sheet2!$J$3:$K$14,2) -> 32 | K74: =VLOOKUP(K73,Sheet2!$J$3:$K$14,2) -> 24 | M74: A score change of 11 points or more (either improving or worsening) can be considered meaningful change
I76: more than 8 items | J76: =IF(AND(N63>=8,N63<=11), "valid", "invalid") -> valid | K76: =IF(AND(O63>=8,O63<=11), "valid", "invalid") -> valid
C77: Total raw score | D77: =COUNTIF(D61:D71,1) -> 3 | F77: Total raw score | G77: =COUNTIF(G61:G71,1) -> 2
C78: out of: | D78: =COUNT(D61:D71) -> 11 | F78: out of: | G78: =COUNT(G61:G71) -> 11 | H78: *This should be 11 if all questions have been answered
D79: =(D77/D78)*11 -> 3 | G79: =(G77/G78)*11 -> 2

Sheet Sheet2
A1: Column1 | D1: SIDECAR D | G1: SIDECAR I | J1: SIDECAR S
A2: Agree | D2: Raw score | E2: 0-100 score | G2: Raw score | H2: 0-100 score | J2: Raw score | K2: 0-100 score
A3: Disagree | D3: 0 | E3: 0 | G3: 0 | H3: 0 | J3: 0 | K3: 0
D4: 1 | E4: 11 | G4: 1 | H4: 19 | J4: 1 | K4: 14
D5: 2 | E5: 19 | G5: 2 | H5: 32 | J5: 2 | K5: 24
D6: 3 | E6: 25 | G6: 3 | H6: 41 | J6: 3 | K6: 32
D7: 4 | E7: 30 | G7: 4 | H7: 49 | J7: 4 | K7: 39
D8: 5 | E8: 34 | G8: 5 | H8: 56 | J8: 5 | K8: 45
D9: 6 | E9: 38 | G9: 6 | H9: 63 | J9: 6 | K9: 52
D10: 7 | E10: 42 | G10: 7 | H10: 70 | J10: 7 | K10: 58
D11: 8 | E11: 46 | G11: 8 | H11: 78 | J11: 8 | K11: 65
D12: 9 | E12: 49 | G12: 9 | H12: 88 | J12: 9 | K12: 74
D13: 10 | E13: 53 | G13: 10 | H13: 100 | J13: 10 | K13: 85
D14: 11 | E14: 56 | J14: 11 | K14: 100
D15: 12 | E15: 60
D16: 13 | E16: 64
D17: 14 | E17: 68
D18: 15 | E18: 73
D19: 16 | E19: 79
D20: 17 | E20: 88
D21: 18 | E21: 100
